Test-Label: checkpatch Test-Status: SUCCESS http://dpdk.org/patch/64632 _coding style OK_
[-- Attachment #1: Type: text/plain, Size: 2031 bytes --] Test-Label: iol-intel-Performance Test-Status: SUCCESS http://dpdk.org/patch/64632 _Performance Testing PASS_ Submitter: Dekel Peled <dekelp@mellanox.com> Date: Tuesday, January 14 2020 09:18:22 DPDK git baseline: Repo:dpdk-next-net-mlx Branch: master CommitID:dd36f584c80b6d0b05c9264eb1566b6a5b6d29f4 64632 --> performance testing pass Test environment and result as below: Ubuntu 18.04 Kernel: 4.15.0-generic GCC: 7.4 NIC: Intel Corporation Ethernet Converged Network Adapter 82599ES 10000 Mbps Target: x86_64-native-linuxapp-gcc Fail/Total: 0/3 Detail performance results: +------------+---------+-------------------------------------+ | frame_size | txd/rxd | throughput difference from expected | +============+=========+=====================================+ | 64 | 128 | -0.228 | +------------+---------+-------------------------------------+ | 64 | 512 | -0.188 | +------------+---------+-------------------------------------+ | 64 | 2048 | 0.006 | +------------+---------+-------------------------------------+ Ubuntu 18.04 Kernel: 4.15.0-generic GCC: 7.4 NIC: Intel Corporation Ethernet Converged Network Adapter XL710-QDA2 40000 Mbps Target: x86_64-native-linuxapp-gcc Fail/Total: 0/2 Detail performance results: +------------+---------+-------------------------------------+ | frame_size | txd/rxd | throughput difference from expected | +============+=========+=====================================+ | 64 | 512 | -0.081 | +------------+---------+-------------------------------------+ | 64 | 2048 | 0.070 | +------------+---------+-------------------------------------+ To view detailed results, visit: https://lab.dpdk.org/results/dashboard/patchsets/9181/ UNH-IOL DPDK Community Lab To manage your email subscriptions, visit: https://lab.dpdk.org/results/dashboard/preferences/subscriptions/
[-- Attachment #1: Type: text/plain, Size: 2529 bytes --] Test-Label: iol-testing Test-Status: SUCCESS http://dpdk.org/patch/64632 _Testing PASS_ Submitter: Dekel Peled <dekelp@mellanox.com> Date: Tuesday, January 14 2020 09:18:22 DPDK git baseline: Repo:dpdk-next-net-mlx Branch: master CommitID:dd36f584c80b6d0b05c9264eb1566b6a5b6d29f4 64632 --> testing pass Test environment and result as below: +------------------+-------------------+------------------+----------------+--------------+--------------------+ | Environment | dpdk_compile_spdk | dpdk_compile_ovs | dpdk_unit_test | dpdk_compile | dpdk_meson_compile | +==================+===================+==================+================+==============+====================+ | Ubuntu 18.04 | PASS | PASS | PASS | PASS | PASS | +------------------+-------------------+------------------+----------------+--------------+--------------------+ | FreeBSD 11.2 | PASS | SKIPPED | SKIPPED | PASS | PASS | +------------------+-------------------+------------------+----------------+--------------+--------------------+ | openSUSE Leap 15 | SKIPPED | PASS | SKIPPED | PASS | PASS | +------------------+-------------------+------------------+----------------+--------------+--------------------+ | Arch Linux | SKIPPED | PASS | SKIPPED | PASS | PASS | +------------------+-------------------+------------------+----------------+--------------+--------------------+ | Fedora 31 | SKIPPED | PASS | SKIPPED | PASS | PASS | +------------------+-------------------+------------------+----------------+--------------+--------------------+ | CentOS 8 | SKIPPED | PASS | SKIPPED | PASS | PASS | +------------------+-------------------+------------------+----------------+--------------+--------------------+ Ubuntu 18.04 Kernel: 4.15.0-generic GCC: 7.4 FreeBSD 11.2 Kernel: 11.2 GCC: 8.3 openSUSE Leap 15 Kernel: 4.12.14 GCC: 7.4.1 Arch Linux Kernel: latest GCC: latest Fedora 31 Kernel: 5.3.16 GCC: 9.2.1 CentOS 8 Kernel: 4.18.0.el8_0 GCC: 8.2 To view detailed results, visit: https://lab.dpdk.org/results/dashboard/patchsets/9181/ UNH-IOL DPDK Community Lab To manage your email subscriptions, visit: https://lab.dpdk.org/results/dashboard/preferences/subscriptions/
[-- Attachment #1: Type: text/plain, Size: 1202 bytes --] Test-Label: iol-nxp-Performance Test-Status: SUCCESS http://dpdk.org/patch/64632 _Performance Testing PASS_ Submitter: Dekel Peled <dekelp@mellanox.com> Date: Tuesday, January 14 2020 09:18:22 DPDK git baseline: Repo:dpdk-next-net-mlx Branch: master CommitID:dd36f584c80b6d0b05c9264eb1566b6a5b6d29f4 64632 --> performance testing pass Test environment and result as below: Ubuntu 18.04 Kernel: 4.14.122 GCC: 7.3.0 NIC: NXP LS2088A 10000 Mbps Target: x86_64-native-linuxapp-gcc Fail/Total: 0/2 Detail performance results: +------------+---------+-------------------------------------+ | frame_size | txd/rxd | throughput difference from expected | +============+=========+=====================================+ | 64 | 512 | -0.058 | +------------+---------+-------------------------------------+ | 64 | 2048 | -0.516 | +------------+---------+-------------------------------------+ To view detailed results, visit: https://lab.dpdk.org/results/dashboard/patchsets/9181/ UNH-IOL DPDK Community Lab To manage your email subscriptions, visit: https://lab.dpdk.org/results/dashboard/preferences/subscriptions/
[-- Attachment #1: Type: text/plain, Size: 3946 bytes --] Test-Label: iol-mellanox-Performance Test-Status: SUCCESS http://dpdk.org/patch/64632 _Performance Testing PASS_ Submitter: Dekel Peled <dekelp@mellanox.com> Date: Tuesday, January 14 2020 09:18:22 DPDK git baseline: Repo:dpdk-next-net-mlx Branch: master CommitID:dd36f584c80b6d0b05c9264eb1566b6a5b6d29f4 64632 --> performance testing pass Test environment and result as below: Ubuntu 18.04 Kernel: 4.15.0-generic GCC: 7.4 NIC: Mellanox ConnectX-5 100000 Mbps Target: x86_64-native-linuxapp-gcc Fail/Total: 0/6 Detail performance results: +------------+---------+-------------------------------------+ | frame_size | txd/rxd | throughput difference from expected | +============+=========+=====================================+ | 64 | 256 | 0.341 | +------------+---------+-------------------------------------+ | 128 | 256 | 0.115 | +------------+---------+-------------------------------------+ | 256 | 256 | -0.034 | +------------+---------+-------------------------------------+ | 512 | 256 | 0.054 | +------------+---------+-------------------------------------+ | 1024 | 256 | 0.033 | +------------+---------+-------------------------------------+ | 1518 | 256 | 0.009 | +------------+---------+-------------------------------------+ Ubuntu 18.04 Kernel: 4.15.0-generic GCC: 7.4 NIC: Mellanox ConnectX-4 Lx 40000 Mbps Target: x86_64-native-linuxapp-gcc Fail/Total: 0/6 Detail performance results: +------------+---------+-------------------------------------+ | frame_size | txd/rxd | throughput difference from expected | +============+=========+=====================================+ | 64 | 256 | 0.315 | +------------+---------+-------------------------------------+ | 128 | 256 | 0.805 | +------------+---------+-------------------------------------+ | 256 | 256 | 0.184 | +------------+---------+-------------------------------------+ | 512 | 256 | -0.009 | +------------+---------+-------------------------------------+ | 1024 | 256 | -0.024 | +------------+---------+-------------------------------------+ | 1518 | 256 | -0.021 | +------------+---------+-------------------------------------+ Ubuntu 18.04 Kernel: 4.15.0-generic GCC: 7.4 NIC: Mellanox ConnectX-4 Lx 25000 Mbps Target: x86_64-native-linuxapp-gcc Fail/Total: 0/6 Detail performance results: +------------+---------+-------------------------------------+ | frame_size | txd/rxd | throughput difference from expected | +============+=========+=====================================+ | 64 | 256 | -0.018 | +------------+---------+-------------------------------------+ | 128 | 256 | -0.121 | +------------+---------+-------------------------------------+ | 256 | 256 | -0.771 | +------------+---------+-------------------------------------+ | 512 | 256 | 0.014 | +------------+---------+-------------------------------------+ | 1024 | 256 | -0.009 | +------------+---------+-------------------------------------+ | 1518 | 256 | -0.002 | +------------+---------+-------------------------------------+ To view detailed results, visit: https://lab.dpdk.org/results/dashboard/patchsets/9181/ UNH-IOL DPDK Community Lab To manage your email subscriptions, visit: https://lab.dpdk.org/results/dashboard/preferences/subscriptions/