Test-Label: checkpatch Test-Status: SUCCESS http://dpdk.org/patch/64634 _coding style OK_
[-- Attachment #1: Type: text/plain, Size: 2530 bytes --] Test-Label: iol-testing Test-Status: SUCCESS http://dpdk.org/patch/64634 _Testing PASS_ Submitter: Rahul Lakkireddy <rahul.lakkireddy@chelsio.com> Date: Tuesday, January 14 2020 09:43:22 DPDK git baseline: Repo:dpdk Branch: master CommitID:a02b9406a8769247737b55dbfa50b6b5f896d946 64634 --> testing pass Test environment and result as below: +------------------+-------------------+--------------+------------------+----------------+--------------------+ | Environment | dpdk_compile_spdk | dpdk_compile | dpdk_compile_ovs | dpdk_unit_test | dpdk_meson_compile | +==================+===================+==============+==================+================+====================+ | FreeBSD 11.2 | PASS | PASS | SKIPPED | SKIPPED | PASS | +------------------+-------------------+--------------+------------------+----------------+--------------------+ | Ubuntu 18.04 | PASS | PASS | PASS | PASS | PASS | +------------------+-------------------+--------------+------------------+----------------+--------------------+ | openSUSE Leap 15 | SKIPPED | PASS | PASS | SKIPPED | PASS | +------------------+-------------------+--------------+------------------+----------------+--------------------+ | Arch Linux | SKIPPED | PASS | PASS | SKIPPED | PASS | +------------------+-------------------+--------------+------------------+----------------+--------------------+ | Fedora 31 | SKIPPED | PASS | PASS | SKIPPED | PASS | +------------------+-------------------+--------------+------------------+----------------+--------------------+ | CentOS 8 | SKIPPED | PASS | PASS | SKIPPED | PASS | +------------------+-------------------+--------------+------------------+----------------+--------------------+ FreeBSD 11.2 Kernel: 11.2 GCC: 8.3 Ubuntu 18.04 Kernel: 4.15.0-generic GCC: 7.4 openSUSE Leap 15 Kernel: 4.12.14 GCC: 7.4.1 Arch Linux Kernel: latest GCC: latest Fedora 31 Kernel: 5.3.16 GCC: 9.2.1 CentOS 8 Kernel: 4.18.0.el8_0 GCC: 8.2 To view detailed results, visit: https://lab.dpdk.org/results/dashboard/patchsets/9183/ UNH-IOL DPDK Community Lab To manage your email subscriptions, visit: https://lab.dpdk.org/results/dashboard/preferences/subscriptions/
[-- Attachment #1: Type: text/plain, Size: 3947 bytes --] Test-Label: iol-mellanox-Performance Test-Status: SUCCESS http://dpdk.org/patch/64634 _Performance Testing PASS_ Submitter: Rahul Lakkireddy <rahul.lakkireddy@chelsio.com> Date: Tuesday, January 14 2020 09:43:22 DPDK git baseline: Repo:dpdk Branch: master CommitID:a02b9406a8769247737b55dbfa50b6b5f896d946 64634 --> performance testing pass Test environment and result as below: Ubuntu 18.04 Kernel: 4.15.0-generic GCC: 7.4 NIC: Mellanox ConnectX-5 100000 Mbps Target: x86_64-native-linuxapp-gcc Fail/Total: 0/6 Detail performance results: +------------+---------+-------------------------------------+ | frame_size | txd/rxd | throughput difference from expected | +============+=========+=====================================+ | 64 | 256 | 0.151 | +------------+---------+-------------------------------------+ | 128 | 256 | 0.091 | +------------+---------+-------------------------------------+ | 256 | 256 | 0.015 | +------------+---------+-------------------------------------+ | 512 | 256 | -0.153 | +------------+---------+-------------------------------------+ | 1024 | 256 | 0.024 | +------------+---------+-------------------------------------+ | 1518 | 256 | 0.041 | +------------+---------+-------------------------------------+ Ubuntu 18.04 Kernel: 4.15.0-generic GCC: 7.4 NIC: Mellanox ConnectX-4 Lx 25000 Mbps Target: x86_64-native-linuxapp-gcc Fail/Total: 0/6 Detail performance results: +------------+---------+-------------------------------------+ | frame_size | txd/rxd | throughput difference from expected | +============+=========+=====================================+ | 64 | 256 | -0.412 | +------------+---------+-------------------------------------+ | 128 | 256 | 0.281 | +------------+---------+-------------------------------------+ | 256 | 256 | -0.111 | +------------+---------+-------------------------------------+ | 512 | 256 | -0.001 | +------------+---------+-------------------------------------+ | 1024 | 256 | -0.010 | +------------+---------+-------------------------------------+ | 1518 | 256 | 0.002 | +------------+---------+-------------------------------------+ Ubuntu 18.04 Kernel: 4.15.0-generic GCC: 7.4 NIC: Mellanox ConnectX-4 Lx 40000 Mbps Target: x86_64-native-linuxapp-gcc Fail/Total: 0/6 Detail performance results: +------------+---------+-------------------------------------+ | frame_size | txd/rxd | throughput difference from expected | +============+=========+=====================================+ | 64 | 256 | 0.318 | +------------+---------+-------------------------------------+ | 128 | 256 | 0.006 | +------------+---------+-------------------------------------+ | 256 | 256 | 0.073 | +------------+---------+-------------------------------------+ | 512 | 256 | -0.013 | +------------+---------+-------------------------------------+ | 1024 | 256 | -0.024 | +------------+---------+-------------------------------------+ | 1518 | 256 | -0.018 | +------------+---------+-------------------------------------+ To view detailed results, visit: https://lab.dpdk.org/results/dashboard/patchsets/9183/ UNH-IOL DPDK Community Lab To manage your email subscriptions, visit: https://lab.dpdk.org/results/dashboard/preferences/subscriptions/
[-- Attachment #1: Type: text/plain, Size: 1203 bytes --] Test-Label: iol-nxp-Performance Test-Status: SUCCESS http://dpdk.org/patch/64634 _Performance Testing PASS_ Submitter: Rahul Lakkireddy <rahul.lakkireddy@chelsio.com> Date: Tuesday, January 14 2020 09:43:22 DPDK git baseline: Repo:dpdk Branch: master CommitID:a02b9406a8769247737b55dbfa50b6b5f896d946 64634 --> performance testing pass Test environment and result as below: Ubuntu 18.04 Kernel: 4.14.122 GCC: 7.3.0 NIC: NXP LS2088A 10000 Mbps Target: x86_64-native-linuxapp-gcc Fail/Total: 0/2 Detail performance results: +------------+---------+-------------------------------------+ | frame_size | txd/rxd | throughput difference from expected | +============+=========+=====================================+ | 64 | 512 | 0.054 | +------------+---------+-------------------------------------+ | 64 | 2048 | -0.215 | +------------+---------+-------------------------------------+ To view detailed results, visit: https://lab.dpdk.org/results/dashboard/patchsets/9183/ UNH-IOL DPDK Community Lab To manage your email subscriptions, visit: https://lab.dpdk.org/results/dashboard/preferences/subscriptions/
[-- Attachment #1: Type: text/plain, Size: 1261 bytes --] Test-Label: iol-intel-Performance Test-Status: SUCCESS http://dpdk.org/patch/64634 _Performance Testing PASS_ Submitter: Rahul Lakkireddy <rahul.lakkireddy@chelsio.com> Date: Tuesday, January 14 2020 09:43:22 DPDK git baseline: Repo:dpdk Branch: master CommitID:a02b9406a8769247737b55dbfa50b6b5f896d946 64634 --> performance testing pass Test environment and result as below: Ubuntu 18.04 Kernel: 4.15.0-generic GCC: 7.4 NIC: Intel Corporation Ethernet Converged Network Adapter XL710-QDA2 40000 Mbps Target: x86_64-native-linuxapp-gcc Fail/Total: 0/2 Detail performance results: +------------+---------+-------------------------------------+ | frame_size | txd/rxd | throughput difference from expected | +============+=========+=====================================+ | 64 | 512 | -0.142 | +------------+---------+-------------------------------------+ | 64 | 2048 | 0.009 | +------------+---------+-------------------------------------+ To view detailed results, visit: https://lab.dpdk.org/results/dashboard/patchsets/9183/ UNH-IOL DPDK Community Lab To manage your email subscriptions, visit: https://lab.dpdk.org/results/dashboard/preferences/subscriptions/