* [dpdk-test-report] |SUCCESS| pw65015 [PATCH] [v2] fib: fix possible integer overflow
@ 2020-01-21 16:18 dpdklab
0 siblings, 0 replies; 5+ messages in thread
From: dpdklab @ 2020-01-21 16:18 UTC (permalink / raw)
To: Ruoshan Shi, Test Report; +Cc: dpdk-test-reports
[-- Attachment #1: Type: text/plain, Size: 1205 bytes --]
Test-Label: iol-nxp-Performance
Test-Status: SUCCESS
http://dpdk.org/patch/65015
_Performance Testing PASS_
Submitter: Vladimir Medvedkin <vladimir.medvedkin@intel.com>
Date: Tuesday, January 21 2020 15:07:09
DPDK git baseline: Repo:dpdk
Branch: master
CommitID:f061f23bcaa619209b9180f8720a128bd719e95b
65015 --> performance testing pass
Test environment and result as below:
Ubuntu 18.04
Kernel: 4.14.122
GCC: 7.3.0
NIC: NXP LS2088A 10000 Mbps
Target: x86_64-native-linuxapp-gcc
Fail/Total: 0/2
Detail performance results:
+------------+---------+-------------------------------------+
| frame_size | txd/rxd | throughput difference from expected |
+============+=========+=====================================+
| 64 | 512 | 0.230 |
+------------+---------+-------------------------------------+
| 64 | 2048 | -0.092 |
+------------+---------+-------------------------------------+
To view detailed results, visit:
https://lab.dpdk.org/results/dashboard/patchsets/9315/
UNH-IOL DPDK Community Lab
To manage your email subscriptions, visit:
https://lab.dpdk.org/results/dashboard/preferences/subscriptions/
^ permalink raw reply [flat|nested] 5+ messages in thread
* [dpdk-test-report] |SUCCESS| pw65015 [PATCH] [v2] fib: fix possible integer overflow
@ 2020-01-21 21:49 dpdklab
0 siblings, 0 replies; 5+ messages in thread
From: dpdklab @ 2020-01-21 21:49 UTC (permalink / raw)
To: Ali Alnubani, Test Report; +Cc: dpdk-test-reports
[-- Attachment #1: Type: text/plain, Size: 3949 bytes --]
Test-Label: iol-mellanox-Performance
Test-Status: SUCCESS
http://dpdk.org/patch/65015
_Performance Testing PASS_
Submitter: Vladimir Medvedkin <vladimir.medvedkin@intel.com>
Date: Tuesday, January 21 2020 15:07:09
DPDK git baseline: Repo:dpdk
Branch: master
CommitID:f061f23bcaa619209b9180f8720a128bd719e95b
65015 --> performance testing pass
Test environment and result as below:
Ubuntu 18.04
Kernel: 4.15.0-generic
GCC: 7.4
NIC: Mellanox ConnectX-4 Lx 40000 Mbps
Target: x86_64-native-linuxapp-gcc
Fail/Total: 0/6
Detail performance results:
+------------+---------+-------------------------------------+
| frame_size | txd/rxd | throughput difference from expected |
+============+=========+=====================================+
| 64 | 256 | -0.024 |
+------------+---------+-------------------------------------+
| 128 | 256 | -0.221 |
+------------+---------+-------------------------------------+
| 256 | 256 | -0.054 |
+------------+---------+-------------------------------------+
| 512 | 256 | -0.047 |
+------------+---------+-------------------------------------+
| 1024 | 256 | 0.008 |
+------------+---------+-------------------------------------+
| 1518 | 256 | -0.001 |
+------------+---------+-------------------------------------+
Ubuntu 18.04
Kernel: 4.15.0-generic
GCC: 7.4
NIC: Mellanox ConnectX-4 Lx 25000 Mbps
Target: x86_64-native-linuxapp-gcc
Fail/Total: 0/6
Detail performance results:
+------------+---------+-------------------------------------+
| frame_size | txd/rxd | throughput difference from expected |
+============+=========+=====================================+
| 64 | 256 | 0.173 |
+------------+---------+-------------------------------------+
| 128 | 256 | -0.010 |
+------------+---------+-------------------------------------+
| 256 | 256 | 0.090 |
+------------+---------+-------------------------------------+
| 512 | 256 | 0.014 |
+------------+---------+-------------------------------------+
| 1024 | 256 | 0.014 |
+------------+---------+-------------------------------------+
| 1518 | 256 | 0.004 |
+------------+---------+-------------------------------------+
Ubuntu 18.04
Kernel: 4.15.0-generic
GCC: 7.4
NIC: Mellanox ConnectX-5 100000 Mbps
Target: x86_64-native-linuxapp-gcc
Fail/Total: 0/6
Detail performance results:
+------------+---------+-------------------------------------+
| frame_size | txd/rxd | throughput difference from expected |
+============+=========+=====================================+
| 64 | 256 | 0.331 |
+------------+---------+-------------------------------------+
| 128 | 256 | 0.131 |
+------------+---------+-------------------------------------+
| 256 | 256 | 0.059 |
+------------+---------+-------------------------------------+
| 512 | 256 | -0.021 |
+------------+---------+-------------------------------------+
| 1024 | 256 | 0.028 |
+------------+---------+-------------------------------------+
| 1518 | 256 | -0.024 |
+------------+---------+-------------------------------------+
To view detailed results, visit:
https://lab.dpdk.org/results/dashboard/patchsets/9315/
UNH-IOL DPDK Community Lab
To manage your email subscriptions, visit:
https://lab.dpdk.org/results/dashboard/preferences/subscriptions/
^ permalink raw reply [flat|nested] 5+ messages in thread
* [dpdk-test-report] |SUCCESS| pw65015 [PATCH] [v2] fib: fix possible integer overflow
@ 2020-01-21 18:12 dpdklab
0 siblings, 0 replies; 5+ messages in thread
From: dpdklab @ 2020-01-21 18:12 UTC (permalink / raw)
To: Test Report; +Cc: dpdk-test-reports
[-- Attachment #1: Type: text/plain, Size: 2279 bytes --]
Test-Label: iol-testing
Test-Status: SUCCESS
http://dpdk.org/patch/65015
_Testing PASS_
Submitter: Vladimir Medvedkin <vladimir.medvedkin@intel.com>
Date: Tuesday, January 21 2020 15:07:09
DPDK git baseline: Repo:dpdk
Branch: master
CommitID:f061f23bcaa619209b9180f8720a128bd719e95b
65015 --> testing pass
Test environment and result as below:
+------------------+-------------------+--------------------+--------------+------------------+
| Environment | dpdk_compile_spdk | dpdk_meson_compile | dpdk_compile | dpdk_compile_ovs |
+==================+===================+====================+==============+==================+
| Ubuntu 18.04 | PASS | PASS | PASS | SKIPPED |
+------------------+-------------------+--------------------+--------------+------------------+
| Arch Linux | SKIPPED | PASS | PASS | PASS |
+------------------+-------------------+--------------------+--------------+------------------+
| openSUSE Leap 15 | SKIPPED | PASS | PASS | PASS |
+------------------+-------------------+--------------------+--------------+------------------+
| Fedora 31 | SKIPPED | PASS | PASS | PASS |
+------------------+-------------------+--------------------+--------------+------------------+
| FreeBSD 11.2 | SKIPPED | PASS | PASS | SKIPPED |
+------------------+-------------------+--------------------+--------------+------------------+
| CentOS 8 | SKIPPED | PASS | PASS | PASS |
+------------------+-------------------+--------------------+--------------+------------------+
Ubuntu 18.04
Kernel: 4.15.0-generic
GCC: 7.4
Arch Linux
Kernel: latest
GCC: latest
openSUSE Leap 15
Kernel: 4.12.14
GCC: 7.4.1
Fedora 31
Kernel: 5.3.16
GCC: 9.2.1
FreeBSD 11.2
Kernel: 11.2
GCC: 8.3
CentOS 8
Kernel: 4.18.0.el8_0
GCC: 8.3.1
To view detailed results, visit:
https://lab.dpdk.org/results/dashboard/patchsets/9315/
UNH-IOL DPDK Community Lab
To manage your email subscriptions, visit:
https://lab.dpdk.org/results/dashboard/preferences/subscriptions/
^ permalink raw reply [flat|nested] 5+ messages in thread
* [dpdk-test-report] |SUCCESS| pw65015 [PATCH] [v2] fib: fix possible integer overflow
@ 2020-01-21 16:18 dpdklab
0 siblings, 0 replies; 5+ messages in thread
From: dpdklab @ 2020-01-21 16:18 UTC (permalink / raw)
To: Test Report; +Cc: dpdk-test-reports
[-- Attachment #1: Type: text/plain, Size: 1386 bytes --]
Test-Label: iol-intel-Performance
Test-Status: SUCCESS
http://dpdk.org/patch/65015
_Performance Testing PASS_
Submitter: Vladimir Medvedkin <vladimir.medvedkin@intel.com>
Date: Tuesday, January 21 2020 15:07:09
DPDK git baseline: Repo:dpdk
Branch: master
CommitID:f061f23bcaa619209b9180f8720a128bd719e95b
65015 --> performance testing pass
Test environment and result as below:
Ubuntu 18.04
Kernel: 4.15.0-generic
GCC: 7.4
NIC: Intel Corporation Ethernet Converged Network Adapter 82599ES 10000 Mbps
Target: x86_64-native-linuxapp-gcc
Fail/Total: 0/3
Detail performance results:
+------------+---------+-------------------------------------+
| frame_size | txd/rxd | throughput difference from expected |
+============+=========+=====================================+
| 64 | 128 | 0.133 |
+------------+---------+-------------------------------------+
| 64 | 512 | -0.071 |
+------------+---------+-------------------------------------+
| 64 | 2048 | 0.260 |
+------------+---------+-------------------------------------+
To view detailed results, visit:
https://lab.dpdk.org/results/dashboard/patchsets/9315/
UNH-IOL DPDK Community Lab
To manage your email subscriptions, visit:
https://lab.dpdk.org/results/dashboard/preferences/subscriptions/
^ permalink raw reply [flat|nested] 5+ messages in thread
* [dpdk-test-report] |SUCCESS| pw65015 [PATCH v2] fib: fix possible integer overflow
[not found] <1579619229-75215-1-git-send-email-vladimir.medvedkin@intel.com>
@ 2020-01-21 15:07 ` checkpatch
0 siblings, 0 replies; 5+ messages in thread
From: checkpatch @ 2020-01-21 15:07 UTC (permalink / raw)
To: test-report
Test-Label: checkpatch
Test-Status: SUCCESS
http://dpdk.org/patch/65015
_coding style OK_
^ permalink raw reply [flat|nested] 5+ messages in thread
end of thread, other threads:[~2020-01-21 21:49 UTC | newest]
Thread overview: 5+ messages (download: mbox.gz / follow: Atom feed)
-- links below jump to the message on this page --
2020-01-21 16:18 [dpdk-test-report] |SUCCESS| pw65015 [PATCH] [v2] fib: fix possible integer overflow dpdklab
-- strict thread matches above, loose matches on Subject: below --
2020-01-21 21:49 dpdklab
2020-01-21 18:12 dpdklab
2020-01-21 16:18 dpdklab
[not found] <1579619229-75215-1-git-send-email-vladimir.medvedkin@intel.com>
2020-01-21 15:07 ` [dpdk-test-report] |SUCCESS| pw65015 [PATCH v2] " checkpatch
This is a public inbox, see mirroring instructions
for how to clone and mirror all data and code used for this inbox;
as well as URLs for NNTP newsgroup(s).