* [dpdk-test-report] |SUCCESS| pw65018 [PATCH v2] usertools: fix telemetry python3 compatibility
[not found] <20200121170310.25382-1-ciara.power@intel.com>
@ 2020-01-21 17:12 ` checkpatch
2020-01-22 10:01 ` [dpdk-test-report] |SUCCESS| pw65018 " 0-day Robot
1 sibling, 0 replies; 6+ messages in thread
From: checkpatch @ 2020-01-21 17:12 UTC (permalink / raw)
To: test-report
Test-Label: checkpatch
Test-Status: SUCCESS
http://dpdk.org/patch/65018
_coding style OK_
^ permalink raw reply [flat|nested] 6+ messages in thread
* [dpdk-test-report] |SUCCESS| pw65018 usertools: fix telemetry python3 compatibility
[not found] <20200121170310.25382-1-ciara.power@intel.com>
2020-01-21 17:12 ` [dpdk-test-report] |SUCCESS| pw65018 [PATCH v2] usertools: fix telemetry python3 compatibility checkpatch
@ 2020-01-22 10:01 ` 0-day Robot
1 sibling, 0 replies; 6+ messages in thread
From: 0-day Robot @ 2020-01-22 10:01 UTC (permalink / raw)
To: test-report; +Cc: robot
From: robot@bytheb.org
Test-Label: travis-robot
Test-Status: SUCCESS
http://dpdk.org/patch/65018
_Travis build: passed_
Build URL: https://travis-ci.com/ovsrobot/dpdk/builds/145413472
^ permalink raw reply [flat|nested] 6+ messages in thread
* [dpdk-test-report] |SUCCESS| pw65018 [PATCH] [v2] usertools: fix telemetry python3 compatibility
@ 2020-01-21 23:51 dpdklab
0 siblings, 0 replies; 6+ messages in thread
From: dpdklab @ 2020-01-21 23:51 UTC (permalink / raw)
To: Ali Alnubani, Test Report; +Cc: dpdk-test-reports
[-- Attachment #1: Type: text/plain, Size: 3935 bytes --]
Test-Label: iol-mellanox-Performance
Test-Status: SUCCESS
http://dpdk.org/patch/65018
_Performance Testing PASS_
Submitter: Ciara Power <ciara.power@intel.com>
Date: Tuesday, January 21 2020 17:03:10
DPDK git baseline: Repo:dpdk
Branch: master
CommitID:f061f23bcaa619209b9180f8720a128bd719e95b
65018 --> performance testing pass
Test environment and result as below:
Ubuntu 18.04
Kernel: 4.15.0-generic
GCC: 7.4
NIC: Mellanox ConnectX-4 Lx 40000 Mbps
Target: x86_64-native-linuxapp-gcc
Fail/Total: 0/6
Detail performance results:
+------------+---------+-------------------------------------+
| frame_size | txd/rxd | throughput difference from expected |
+============+=========+=====================================+
| 64 | 256 | -0.187 |
+------------+---------+-------------------------------------+
| 128 | 256 | 0.051 |
+------------+---------+-------------------------------------+
| 256 | 256 | -0.058 |
+------------+---------+-------------------------------------+
| 512 | 256 | -0.048 |
+------------+---------+-------------------------------------+
| 1024 | 256 | 0.022 |
+------------+---------+-------------------------------------+
| 1518 | 256 | -0.001 |
+------------+---------+-------------------------------------+
Ubuntu 18.04
Kernel: 4.15.0-generic
GCC: 7.4
NIC: Mellanox ConnectX-4 Lx 25000 Mbps
Target: x86_64-native-linuxapp-gcc
Fail/Total: 0/6
Detail performance results:
+------------+---------+-------------------------------------+
| frame_size | txd/rxd | throughput difference from expected |
+============+=========+=====================================+
| 64 | 256 | 0.593 |
+------------+---------+-------------------------------------+
| 128 | 256 | -0.046 |
+------------+---------+-------------------------------------+
| 256 | 256 | -0.078 |
+------------+---------+-------------------------------------+
| 512 | 256 | -0.003 |
+------------+---------+-------------------------------------+
| 1024 | 256 | -0.001 |
+------------+---------+-------------------------------------+
| 1518 | 256 | 0 |
+------------+---------+-------------------------------------+
Ubuntu 18.04
Kernel: 4.15.0-generic
GCC: 7.4
NIC: Mellanox ConnectX-5 100000 Mbps
Target: x86_64-native-linuxapp-gcc
Fail/Total: 0/6
Detail performance results:
+------------+---------+-------------------------------------+
| frame_size | txd/rxd | throughput difference from expected |
+============+=========+=====================================+
| 64 | 256 | -0.203 |
+------------+---------+-------------------------------------+
| 128 | 256 | 0.035 |
+------------+---------+-------------------------------------+
| 256 | 256 | -0.057 |
+------------+---------+-------------------------------------+
| 512 | 256 | 0.031 |
+------------+---------+-------------------------------------+
| 1024 | 256 | -0.035 |
+------------+---------+-------------------------------------+
| 1518 | 256 | -0.008 |
+------------+---------+-------------------------------------+
To view detailed results, visit:
https://lab.dpdk.org/results/dashboard/patchsets/9318/
UNH-IOL DPDK Community Lab
To manage your email subscriptions, visit:
https://lab.dpdk.org/results/dashboard/preferences/subscriptions/
^ permalink raw reply [flat|nested] 6+ messages in thread
* [dpdk-test-report] |SUCCESS| pw65018 [PATCH] [v2] usertools: fix telemetry python3 compatibility
@ 2020-01-21 23:51 dpdklab
0 siblings, 0 replies; 6+ messages in thread
From: dpdklab @ 2020-01-21 23:51 UTC (permalink / raw)
To: Ruoshan Shi, Test Report; +Cc: dpdk-test-reports
[-- Attachment #1: Type: text/plain, Size: 1191 bytes --]
Test-Label: iol-nxp-Performance
Test-Status: SUCCESS
http://dpdk.org/patch/65018
_Performance Testing PASS_
Submitter: Ciara Power <ciara.power@intel.com>
Date: Tuesday, January 21 2020 17:03:10
DPDK git baseline: Repo:dpdk
Branch: master
CommitID:f061f23bcaa619209b9180f8720a128bd719e95b
65018 --> performance testing pass
Test environment and result as below:
Ubuntu 18.04
Kernel: 4.14.122
GCC: 7.3.0
NIC: NXP LS2088A 10000 Mbps
Target: x86_64-native-linuxapp-gcc
Fail/Total: 0/2
Detail performance results:
+------------+---------+-------------------------------------+
| frame_size | txd/rxd | throughput difference from expected |
+============+=========+=====================================+
| 64 | 512 | 0.061 |
+------------+---------+-------------------------------------+
| 64 | 2048 | -0.063 |
+------------+---------+-------------------------------------+
To view detailed results, visit:
https://lab.dpdk.org/results/dashboard/patchsets/9318/
UNH-IOL DPDK Community Lab
To manage your email subscriptions, visit:
https://lab.dpdk.org/results/dashboard/preferences/subscriptions/
^ permalink raw reply [flat|nested] 6+ messages in thread
* [dpdk-test-report] |SUCCESS| pw65018 [PATCH] [v2] usertools: fix telemetry python3 compatibility
@ 2020-01-21 19:58 dpdklab
0 siblings, 0 replies; 6+ messages in thread
From: dpdklab @ 2020-01-21 19:58 UTC (permalink / raw)
To: Test Report; +Cc: dpdk-test-reports
[-- Attachment #1: Type: text/plain, Size: 2250 bytes --]
Test-Label: iol-testing
Test-Status: SUCCESS
http://dpdk.org/patch/65018
_Testing PASS_
Submitter: Ciara Power <ciara.power@intel.com>
Date: Tuesday, January 21 2020 17:03:10
DPDK git baseline: Repo:dpdk
Branch: master
CommitID:f061f23bcaa619209b9180f8720a128bd719e95b
65018 --> testing pass
Test environment and result as below:
+------------------+-------------------+--------------+------------------+----------------+--------------------+
| Environment | dpdk_compile_spdk | dpdk_compile | dpdk_compile_ovs | dpdk_unit_test | dpdk_meson_compile |
+==================+===================+==============+==================+================+====================+
| FreeBSD 11.2 | PASS | PASS | SKIPPED | SKIPPED | PASS |
+------------------+-------------------+--------------+------------------+----------------+--------------------+
| Ubuntu 18.04 | PASS | PASS | PASS | PASS | PASS |
+------------------+-------------------+--------------+------------------+----------------+--------------------+
| openSUSE Leap 15 | SKIPPED | PASS | PASS | SKIPPED | PASS |
+------------------+-------------------+--------------+------------------+----------------+--------------------+
| Arch Linux | SKIPPED | PASS | PASS | SKIPPED | PASS |
+------------------+-------------------+--------------+------------------+----------------+--------------------+
| Fedora 31 | SKIPPED | PASS | PASS | SKIPPED | PASS |
+------------------+-------------------+--------------+------------------+----------------+--------------------+
FreeBSD 11.2
Kernel: 11.2
GCC: 8.3
Ubuntu 18.04
Kernel: 4.15.0-generic
GCC: 7.4
openSUSE Leap 15
Kernel: 4.12.14
GCC: 7.4.1
Arch Linux
Kernel: latest
GCC: latest
Fedora 31
Kernel: 5.3.16
GCC: 9.2.1
To view detailed results, visit:
https://lab.dpdk.org/results/dashboard/patchsets/9318/
UNH-IOL DPDK Community Lab
To manage your email subscriptions, visit:
https://lab.dpdk.org/results/dashboard/preferences/subscriptions/
^ permalink raw reply [flat|nested] 6+ messages in thread
* [dpdk-test-report] |SUCCESS| pw65018 [PATCH] [v2] usertools: fix telemetry python3 compatibility
@ 2020-01-21 17:44 dpdklab
0 siblings, 0 replies; 6+ messages in thread
From: dpdklab @ 2020-01-21 17:44 UTC (permalink / raw)
To: Test Report; +Cc: dpdk-test-reports
[-- Attachment #1: Type: text/plain, Size: 2020 bytes --]
Test-Label: iol-intel-Performance
Test-Status: SUCCESS
http://dpdk.org/patch/65018
_Performance Testing PASS_
Submitter: Ciara Power <ciara.power@intel.com>
Date: Tuesday, January 21 2020 17:03:10
DPDK git baseline: Repo:dpdk
Branch: master
CommitID:f061f23bcaa619209b9180f8720a128bd719e95b
65018 --> performance testing pass
Test environment and result as below:
Ubuntu 18.04
Kernel: 4.15.0-generic
GCC: 7.4
NIC: Intel Corporation Ethernet Converged Network Adapter 82599ES 10000 Mbps
Target: x86_64-native-linuxapp-gcc
Fail/Total: 0/3
Detail performance results:
+------------+---------+-------------------------------------+
| frame_size | txd/rxd | throughput difference from expected |
+============+=========+=====================================+
| 64 | 128 | 0.382 |
+------------+---------+-------------------------------------+
| 64 | 512 | 0.020 |
+------------+---------+-------------------------------------+
| 64 | 2048 | 0.270 |
+------------+---------+-------------------------------------+
Ubuntu 18.04
Kernel: 4.15.0-generic
GCC: 7.4
NIC: Intel Corporation Ethernet Converged Network Adapter XL710-QDA2 40000 Mbps
Target: x86_64-native-linuxapp-gcc
Fail/Total: 0/2
Detail performance results:
+------------+---------+-------------------------------------+
| frame_size | txd/rxd | throughput difference from expected |
+============+=========+=====================================+
| 64 | 512 | -0.046 |
+------------+---------+-------------------------------------+
| 64 | 2048 | -0.018 |
+------------+---------+-------------------------------------+
To view detailed results, visit:
https://lab.dpdk.org/results/dashboard/patchsets/9318/
UNH-IOL DPDK Community Lab
To manage your email subscriptions, visit:
https://lab.dpdk.org/results/dashboard/preferences/subscriptions/
^ permalink raw reply [flat|nested] 6+ messages in thread
end of thread, other threads:[~2020-01-22 10:03 UTC | newest]
Thread overview: 6+ messages (download: mbox.gz / follow: Atom feed)
-- links below jump to the message on this page --
[not found] <20200121170310.25382-1-ciara.power@intel.com>
2020-01-21 17:12 ` [dpdk-test-report] |SUCCESS| pw65018 [PATCH v2] usertools: fix telemetry python3 compatibility checkpatch
2020-01-22 10:01 ` [dpdk-test-report] |SUCCESS| pw65018 " 0-day Robot
2020-01-21 23:51 [dpdk-test-report] |SUCCESS| pw65018 [PATCH] [v2] " dpdklab
-- strict thread matches above, loose matches on Subject: below --
2020-01-21 23:51 dpdklab
2020-01-21 19:58 dpdklab
2020-01-21 17:44 dpdklab
This is a public inbox, see mirroring instructions
for how to clone and mirror all data and code used for this inbox;
as well as URLs for NNTP newsgroup(s).