* [dpdk-test-report] |SUCCESS| pw65005 [PATCH] [v2] build: allow using wildcards to disable drivers
@ 2020-01-21 17:44 dpdklab
0 siblings, 0 replies; 5+ messages in thread
From: dpdklab @ 2020-01-21 17:44 UTC (permalink / raw)
To: Ruoshan Shi, Test Report; +Cc: dpdk-test-reports
[-- Attachment #1: Type: text/plain, Size: 1201 bytes --]
Test-Label: iol-nxp-Performance
Test-Status: SUCCESS
http://dpdk.org/patch/65005
_Performance Testing PASS_
Submitter: Bruce Richardson <bruce.richardson@intel.com>
Date: Tuesday, January 21 2020 11:12:28
DPDK git baseline: Repo:dpdk
Branch: master
CommitID:f061f23bcaa619209b9180f8720a128bd719e95b
65005 --> performance testing pass
Test environment and result as below:
Ubuntu 18.04
Kernel: 4.14.122
GCC: 7.3.0
NIC: NXP LS2088A 10000 Mbps
Target: x86_64-native-linuxapp-gcc
Fail/Total: 0/2
Detail performance results:
+------------+---------+-------------------------------------+
| frame_size | txd/rxd | throughput difference from expected |
+============+=========+=====================================+
| 64 | 512 | -0.096 |
+------------+---------+-------------------------------------+
| 64 | 2048 | -0.061 |
+------------+---------+-------------------------------------+
To view detailed results, visit:
https://lab.dpdk.org/results/dashboard/patchsets/9309/
UNH-IOL DPDK Community Lab
To manage your email subscriptions, visit:
https://lab.dpdk.org/results/dashboard/preferences/subscriptions/
^ permalink raw reply [flat|nested] 5+ messages in thread
* [dpdk-test-report] |SUCCESS| pw65005 [PATCH] [v2] build: allow using wildcards to disable drivers
@ 2020-01-21 17:44 dpdklab
0 siblings, 0 replies; 5+ messages in thread
From: dpdklab @ 2020-01-21 17:44 UTC (permalink / raw)
To: Ali Alnubani, Test Report; +Cc: dpdk-test-reports
[-- Attachment #1: Type: text/plain, Size: 3945 bytes --]
Test-Label: iol-mellanox-Performance
Test-Status: SUCCESS
http://dpdk.org/patch/65005
_Performance Testing PASS_
Submitter: Bruce Richardson <bruce.richardson@intel.com>
Date: Tuesday, January 21 2020 11:12:28
DPDK git baseline: Repo:dpdk
Branch: master
CommitID:f061f23bcaa619209b9180f8720a128bd719e95b
65005 --> performance testing pass
Test environment and result as below:
Ubuntu 18.04
Kernel: 4.15.0-generic
GCC: 7.4
NIC: Mellanox ConnectX-5 100000 Mbps
Target: x86_64-native-linuxapp-gcc
Fail/Total: 0/6
Detail performance results:
+------------+---------+-------------------------------------+
| frame_size | txd/rxd | throughput difference from expected |
+============+=========+=====================================+
| 64 | 256 | 0.260 |
+------------+---------+-------------------------------------+
| 128 | 256 | 0.189 |
+------------+---------+-------------------------------------+
| 256 | 256 | 0.012 |
+------------+---------+-------------------------------------+
| 512 | 256 | -0.009 |
+------------+---------+-------------------------------------+
| 1024 | 256 | 0.028 |
+------------+---------+-------------------------------------+
| 1518 | 256 | -0.009 |
+------------+---------+-------------------------------------+
Ubuntu 18.04
Kernel: 4.15.0-generic
GCC: 7.4
NIC: Mellanox ConnectX-4 Lx 25000 Mbps
Target: x86_64-native-linuxapp-gcc
Fail/Total: 0/6
Detail performance results:
+------------+---------+-------------------------------------+
| frame_size | txd/rxd | throughput difference from expected |
+============+=========+=====================================+
| 64 | 256 | 0.236 |
+------------+---------+-------------------------------------+
| 128 | 256 | 0.092 |
+------------+---------+-------------------------------------+
| 256 | 256 | -0.018 |
+------------+---------+-------------------------------------+
| 512 | 256 | 0.010 |
+------------+---------+-------------------------------------+
| 1024 | 256 | -0.006 |
+------------+---------+-------------------------------------+
| 1518 | 256 | -0.006 |
+------------+---------+-------------------------------------+
Ubuntu 18.04
Kernel: 4.15.0-generic
GCC: 7.4
NIC: Mellanox ConnectX-4 Lx 40000 Mbps
Target: x86_64-native-linuxapp-gcc
Fail/Total: 0/6
Detail performance results:
+------------+---------+-------------------------------------+
| frame_size | txd/rxd | throughput difference from expected |
+============+=========+=====================================+
| 64 | 256 | -0.253 |
+------------+---------+-------------------------------------+
| 128 | 256 | -0.195 |
+------------+---------+-------------------------------------+
| 256 | 256 | 0.007 |
+------------+---------+-------------------------------------+
| 512 | 256 | 0 |
+------------+---------+-------------------------------------+
| 1024 | 256 | 0 |
+------------+---------+-------------------------------------+
| 1518 | 256 | 0.008 |
+------------+---------+-------------------------------------+
To view detailed results, visit:
https://lab.dpdk.org/results/dashboard/patchsets/9309/
UNH-IOL DPDK Community Lab
To manage your email subscriptions, visit:
https://lab.dpdk.org/results/dashboard/preferences/subscriptions/
^ permalink raw reply [flat|nested] 5+ messages in thread
* [dpdk-test-report] |SUCCESS| pw65005 [PATCH] [v2] build: allow using wildcards to disable drivers
@ 2020-01-21 14:01 dpdklab
0 siblings, 0 replies; 5+ messages in thread
From: dpdklab @ 2020-01-21 14:01 UTC (permalink / raw)
To: Test Report; +Cc: dpdk-test-reports
[-- Attachment #1: Type: text/plain, Size: 2530 bytes --]
Test-Label: iol-testing
Test-Status: SUCCESS
http://dpdk.org/patch/65005
_Testing PASS_
Submitter: Bruce Richardson <bruce.richardson@intel.com>
Date: Tuesday, January 21 2020 11:12:28
DPDK git baseline: Repo:dpdk
Branch: master
CommitID:f061f23bcaa619209b9180f8720a128bd719e95b
65005 --> testing pass
Test environment and result as below:
+------------------+-------------------+------------------+--------------+----------------+--------------------+
| Environment | dpdk_compile_spdk | dpdk_compile_ovs | dpdk_compile | dpdk_unit_test | dpdk_meson_compile |
+==================+===================+==================+==============+================+====================+
| FreeBSD 11.2 | PASS | SKIPPED | PASS | SKIPPED | PASS |
+------------------+-------------------+------------------+--------------+----------------+--------------------+
| Ubuntu 18.04 | PASS | PASS | PASS | PASS | PASS |
+------------------+-------------------+------------------+--------------+----------------+--------------------+
| openSUSE Leap 15 | SKIPPED | PASS | PASS | SKIPPED | PASS |
+------------------+-------------------+------------------+--------------+----------------+--------------------+
| Arch Linux | SKIPPED | PASS | PASS | SKIPPED | PASS |
+------------------+-------------------+------------------+--------------+----------------+--------------------+
| Fedora 31 | SKIPPED | PASS | PASS | SKIPPED | PASS |
+------------------+-------------------+------------------+--------------+----------------+--------------------+
| CentOS 8 | SKIPPED | PASS | PASS | SKIPPED | PASS |
+------------------+-------------------+------------------+--------------+----------------+--------------------+
FreeBSD 11.2
Kernel: 11.2
GCC: 8.3
Ubuntu 18.04
Kernel: 4.15.0-generic
GCC: 7.4
openSUSE Leap 15
Kernel: 4.12.14
GCC: 7.4.1
Arch Linux
Kernel: latest
GCC: latest
Fedora 31
Kernel: 5.3.16
GCC: 9.2.1
CentOS 8
Kernel: 4.18.0.el8_0
GCC: 8.3.1
To view detailed results, visit:
https://lab.dpdk.org/results/dashboard/patchsets/9309/
UNH-IOL DPDK Community Lab
To manage your email subscriptions, visit:
https://lab.dpdk.org/results/dashboard/preferences/subscriptions/
^ permalink raw reply [flat|nested] 5+ messages in thread
* [dpdk-test-report] |SUCCESS| pw65005 [PATCH] [v2] build: allow using wildcards to disable drivers
@ 2020-01-21 13:00 dpdklab
0 siblings, 0 replies; 5+ messages in thread
From: dpdklab @ 2020-01-21 13:00 UTC (permalink / raw)
To: Test Report; +Cc: dpdk-test-reports
[-- Attachment #1: Type: text/plain, Size: 2030 bytes --]
Test-Label: iol-intel-Performance
Test-Status: SUCCESS
http://dpdk.org/patch/65005
_Performance Testing PASS_
Submitter: Bruce Richardson <bruce.richardson@intel.com>
Date: Tuesday, January 21 2020 11:12:28
DPDK git baseline: Repo:dpdk
Branch: master
CommitID:f061f23bcaa619209b9180f8720a128bd719e95b
65005 --> performance testing pass
Test environment and result as below:
Ubuntu 18.04
Kernel: 4.15.0-generic
GCC: 7.4
NIC: Intel Corporation Ethernet Converged Network Adapter 82599ES 10000 Mbps
Target: x86_64-native-linuxapp-gcc
Fail/Total: 0/3
Detail performance results:
+------------+---------+-------------------------------------+
| frame_size | txd/rxd | throughput difference from expected |
+============+=========+=====================================+
| 64 | 128 | 16.980 |
+------------+---------+-------------------------------------+
| 64 | 512 | 16.986 |
+------------+---------+-------------------------------------+
| 64 | 2048 | 0.443 |
+------------+---------+-------------------------------------+
Ubuntu 18.04
Kernel: 4.15.0-generic
GCC: 7.4
NIC: Intel Corporation Ethernet Converged Network Adapter XL710-QDA2 40000 Mbps
Target: x86_64-native-linuxapp-gcc
Fail/Total: 0/2
Detail performance results:
+------------+---------+-------------------------------------+
| frame_size | txd/rxd | throughput difference from expected |
+============+=========+=====================================+
| 64 | 512 | -0.267 |
+------------+---------+-------------------------------------+
| 64 | 2048 | 0.193 |
+------------+---------+-------------------------------------+
To view detailed results, visit:
https://lab.dpdk.org/results/dashboard/patchsets/9309/
UNH-IOL DPDK Community Lab
To manage your email subscriptions, visit:
https://lab.dpdk.org/results/dashboard/preferences/subscriptions/
^ permalink raw reply [flat|nested] 5+ messages in thread
* [dpdk-test-report] |SUCCESS| pw65005 [PATCH v2] build: allow using wildcards to disable drivers
[not found] <20200121111228.5591-1-bruce.richardson@intel.com>
@ 2020-01-21 11:16 ` checkpatch
0 siblings, 0 replies; 5+ messages in thread
From: checkpatch @ 2020-01-21 11:16 UTC (permalink / raw)
To: test-report
Test-Label: checkpatch
Test-Status: SUCCESS
http://dpdk.org/patch/65005
_coding style OK_
^ permalink raw reply [flat|nested] 5+ messages in thread
end of thread, other threads:[~2020-01-21 17:44 UTC | newest]
Thread overview: 5+ messages (download: mbox.gz / follow: Atom feed)
-- links below jump to the message on this page --
2020-01-21 17:44 [dpdk-test-report] |SUCCESS| pw65005 [PATCH] [v2] build: allow using wildcards to disable drivers dpdklab
-- strict thread matches above, loose matches on Subject: below --
2020-01-21 17:44 dpdklab
2020-01-21 14:01 dpdklab
2020-01-21 13:00 dpdklab
[not found] <20200121111228.5591-1-bruce.richardson@intel.com>
2020-01-21 11:16 ` [dpdk-test-report] |SUCCESS| pw65005 [PATCH v2] " checkpatch
This is a public inbox, see mirroring instructions
for how to clone and mirror all data and code used for this inbox;
as well as URLs for NNTP newsgroup(s).