* [dpdk-test-report] |SUCCESS| pw65046 [PATCH] net/mlx5: fix clang 3.4.2 compilation
[not found] <1579703770-30091-1-git-send-email-matan@mellanox.com>
@ 2020-01-22 14:38 ` checkpatch
2020-01-23 2:01 ` [dpdk-test-report] |SUCCESS| pw65046 " 0-day Robot
1 sibling, 0 replies; 5+ messages in thread
From: checkpatch @ 2020-01-22 14:38 UTC (permalink / raw)
To: test-report
Test-Label: checkpatch
Test-Status: SUCCESS
http://dpdk.org/patch/65046
_coding style OK_
^ permalink raw reply [flat|nested] 5+ messages in thread
* [dpdk-test-report] |SUCCESS| pw65046 net/mlx5: fix clang 3.4.2 compilation
[not found] <1579703770-30091-1-git-send-email-matan@mellanox.com>
2020-01-22 14:38 ` [dpdk-test-report] |SUCCESS| pw65046 [PATCH] net/mlx5: fix clang 3.4.2 compilation checkpatch
@ 2020-01-23 2:01 ` 0-day Robot
1 sibling, 0 replies; 5+ messages in thread
From: 0-day Robot @ 2020-01-23 2:01 UTC (permalink / raw)
To: test-report; +Cc: robot
From: robot@bytheb.org
Test-Label: travis-robot
Test-Status: SUCCESS
http://dpdk.org/patch/65046
_Travis build: passed_
Build URL: https://travis-ci.com/ovsrobot/dpdk/builds/145575203
^ permalink raw reply [flat|nested] 5+ messages in thread
* [dpdk-test-report] |SUCCESS| pw65046 [PATCH] net/mlx5: fix clang 3.4.2 compilation
@ 2020-01-22 18:52 dpdklab
0 siblings, 0 replies; 5+ messages in thread
From: dpdklab @ 2020-01-22 18:52 UTC (permalink / raw)
To: Ali Alnubani, Test Report; +Cc: dpdk-test-reports
[-- Attachment #1: Type: text/plain, Size: 3934 bytes --]
Test-Label: iol-mellanox-Performance
Test-Status: SUCCESS
http://dpdk.org/patch/65046
_Performance Testing PASS_
Submitter: Matan Azrad <matan@mellanox.com>
Date: Wednesday, January 22 2020 14:36:10
DPDK git baseline: Repo:dpdk
Branch: master
CommitID:73c392e24f5e29acbe53044dccb6b07ebbae2467
65046 --> performance testing pass
Test environment and result as below:
Ubuntu 18.04
Kernel: 4.15.0-generic
GCC: 7.4
NIC: Mellanox ConnectX-5 100000 Mbps
Target: x86_64-native-linuxapp-gcc
Fail/Total: 0/6
Detail performance results:
+------------+---------+-------------------------------------+
| frame_size | txd/rxd | throughput difference from expected |
+============+=========+=====================================+
| 64 | 256 | -0.152 |
+------------+---------+-------------------------------------+
| 128 | 256 | 0.003 |
+------------+---------+-------------------------------------+
| 256 | 256 | 0.030 |
+------------+---------+-------------------------------------+
| 512 | 256 | 0.294 |
+------------+---------+-------------------------------------+
| 1024 | 256 | 0.025 |
+------------+---------+-------------------------------------+
| 1518 | 256 | 0.015 |
+------------+---------+-------------------------------------+
Ubuntu 18.04
Kernel: 4.15.0-generic
GCC: 7.4
NIC: Mellanox ConnectX-4 Lx 25000 Mbps
Target: x86_64-native-linuxapp-gcc
Fail/Total: 0/6
Detail performance results:
+------------+---------+-------------------------------------+
| frame_size | txd/rxd | throughput difference from expected |
+============+=========+=====================================+
| 64 | 256 | -0.256 |
+------------+---------+-------------------------------------+
| 128 | 256 | -0.090 |
+------------+---------+-------------------------------------+
| 256 | 256 | -0.082 |
+------------+---------+-------------------------------------+
| 512 | 256 | -0.037 |
+------------+---------+-------------------------------------+
| 1024 | 256 | -0.001 |
+------------+---------+-------------------------------------+
| 1518 | 256 | 0.009 |
+------------+---------+-------------------------------------+
Ubuntu 18.04
Kernel: 4.15.0-generic
GCC: 7.4
NIC: Mellanox ConnectX-4 Lx 40000 Mbps
Target: x86_64-native-linuxapp-gcc
Fail/Total: 0/6
Detail performance results:
+------------+---------+-------------------------------------+
| frame_size | txd/rxd | throughput difference from expected |
+============+=========+=====================================+
| 64 | 256 | -0.313 |
+------------+---------+-------------------------------------+
| 128 | 256 | 0.169 |
+------------+---------+-------------------------------------+
| 256 | 256 | 0.091 |
+------------+---------+-------------------------------------+
| 512 | 256 | -0.005 |
+------------+---------+-------------------------------------+
| 1024 | 256 | 0 |
+------------+---------+-------------------------------------+
| 1518 | 256 | 0.014 |
+------------+---------+-------------------------------------+
To view detailed results, visit:
https://lab.dpdk.org/results/dashboard/patchsets/9330/
UNH-IOL DPDK Community Lab
To manage your email subscriptions, visit:
https://lab.dpdk.org/results/dashboard/preferences/subscriptions/
^ permalink raw reply [flat|nested] 5+ messages in thread
* [dpdk-test-report] |SUCCESS| pw65046 [PATCH] net/mlx5: fix clang 3.4.2 compilation
@ 2020-01-22 18:52 dpdklab
0 siblings, 0 replies; 5+ messages in thread
From: dpdklab @ 2020-01-22 18:52 UTC (permalink / raw)
To: Ruoshan Shi, Test Report; +Cc: dpdk-test-reports
[-- Attachment #1: Type: text/plain, Size: 1190 bytes --]
Test-Label: iol-nxp-Performance
Test-Status: SUCCESS
http://dpdk.org/patch/65046
_Performance Testing PASS_
Submitter: Matan Azrad <matan@mellanox.com>
Date: Wednesday, January 22 2020 14:36:10
DPDK git baseline: Repo:dpdk
Branch: master
CommitID:73c392e24f5e29acbe53044dccb6b07ebbae2467
65046 --> performance testing pass
Test environment and result as below:
Ubuntu 18.04
Kernel: 4.14.122
GCC: 7.3.0
NIC: NXP LS2088A 10000 Mbps
Target: x86_64-native-linuxapp-gcc
Fail/Total: 0/2
Detail performance results:
+------------+---------+-------------------------------------+
| frame_size | txd/rxd | throughput difference from expected |
+============+=========+=====================================+
| 64 | 512 | 0.241 |
+------------+---------+-------------------------------------+
| 64 | 2048 | 0.086 |
+------------+---------+-------------------------------------+
To view detailed results, visit:
https://lab.dpdk.org/results/dashboard/patchsets/9330/
UNH-IOL DPDK Community Lab
To manage your email subscriptions, visit:
https://lab.dpdk.org/results/dashboard/preferences/subscriptions/
^ permalink raw reply [flat|nested] 5+ messages in thread
* [dpdk-test-report] |SUCCESS| pw65046 [PATCH] net/mlx5: fix clang 3.4.2 compilation
@ 2020-01-22 18:23 dpdklab
0 siblings, 0 replies; 5+ messages in thread
From: dpdklab @ 2020-01-22 18:23 UTC (permalink / raw)
To: Test Report; +Cc: dpdk-test-reports
[-- Attachment #1: Type: text/plain, Size: 2519 bytes --]
Test-Label: iol-testing
Test-Status: SUCCESS
http://dpdk.org/patch/65046
_Testing PASS_
Submitter: Matan Azrad <matan@mellanox.com>
Date: Wednesday, January 22 2020 14:36:10
DPDK git baseline: Repo:dpdk
Branch: master
CommitID:73c392e24f5e29acbe53044dccb6b07ebbae2467
65046 --> testing pass
Test environment and result as below:
+------------------+-------------------+------------------+--------------+----------------+--------------------+
| Environment | dpdk_compile_spdk | dpdk_compile_ovs | dpdk_compile | dpdk_unit_test | dpdk_meson_compile |
+==================+===================+==================+==============+================+====================+
| Ubuntu 18.04 | PASS | PASS | PASS | PASS | PASS |
+------------------+-------------------+------------------+--------------+----------------+--------------------+
| FreeBSD 11.2 | PASS | SKIPPED | PASS | SKIPPED | PASS |
+------------------+-------------------+------------------+--------------+----------------+--------------------+
| openSUSE Leap 15 | SKIPPED | PASS | PASS | SKIPPED | PASS |
+------------------+-------------------+------------------+--------------+----------------+--------------------+
| Arch Linux | SKIPPED | PASS | PASS | SKIPPED | PASS |
+------------------+-------------------+------------------+--------------+----------------+--------------------+
| Fedora 31 | SKIPPED | PASS | PASS | SKIPPED | PASS |
+------------------+-------------------+------------------+--------------+----------------+--------------------+
| CentOS 8 | SKIPPED | PASS | PASS | SKIPPED | PASS |
+------------------+-------------------+------------------+--------------+----------------+--------------------+
Ubuntu 18.04
Kernel: 4.15.0-generic
GCC: 7.4
FreeBSD 11.2
Kernel: 11.2
GCC: 8.3
openSUSE Leap 15
Kernel: 4.12.14
GCC: 7.4.1
Arch Linux
Kernel: latest
GCC: latest
Fedora 31
Kernel: 5.3.16
GCC: 9.2.1
CentOS 8
Kernel: 4.18.0.el8_0
GCC: 8.3.1
To view detailed results, visit:
https://lab.dpdk.org/results/dashboard/patchsets/9330/
UNH-IOL DPDK Community Lab
To manage your email subscriptions, visit:
https://lab.dpdk.org/results/dashboard/preferences/subscriptions/
^ permalink raw reply [flat|nested] 5+ messages in thread
end of thread, other threads:[~2020-01-23 2:03 UTC | newest]
Thread overview: 5+ messages (download: mbox.gz / follow: Atom feed)
-- links below jump to the message on this page --
[not found] <1579703770-30091-1-git-send-email-matan@mellanox.com>
2020-01-22 14:38 ` [dpdk-test-report] |SUCCESS| pw65046 [PATCH] net/mlx5: fix clang 3.4.2 compilation checkpatch
2020-01-23 2:01 ` [dpdk-test-report] |SUCCESS| pw65046 " 0-day Robot
2020-01-22 18:23 [dpdk-test-report] |SUCCESS| pw65046 [PATCH] " dpdklab
2020-01-22 18:52 dpdklab
2020-01-22 18:52 dpdklab
This is a public inbox, see mirroring instructions
for how to clone and mirror all data and code used for this inbox;
as well as URLs for NNTP newsgroup(s).