* [dpdk-test-report] |SUCCESS| pw65047 [PATCH] net/mlx5: fix icmpv6 header rewrite actions
[not found] <20200122142527.257004-1-shirik@mellanox.com>
@ 2020-01-22 14:38 ` checkpatch
2020-01-23 4:01 ` [dpdk-test-report] |SUCCESS| pw65047 " 0-day Robot
1 sibling, 0 replies; 6+ messages in thread
From: checkpatch @ 2020-01-22 14:38 UTC (permalink / raw)
To: test-report
Test-Label: checkpatch
Test-Status: SUCCESS
http://dpdk.org/patch/65047
_coding style OK_
^ permalink raw reply [flat|nested] 6+ messages in thread
* [dpdk-test-report] |SUCCESS| pw65047 net/mlx5: fix icmpv6 header rewrite actions
[not found] <20200122142527.257004-1-shirik@mellanox.com>
2020-01-22 14:38 ` [dpdk-test-report] |SUCCESS| pw65047 [PATCH] net/mlx5: fix icmpv6 header rewrite actions checkpatch
@ 2020-01-23 4:01 ` 0-day Robot
1 sibling, 0 replies; 6+ messages in thread
From: 0-day Robot @ 2020-01-23 4:01 UTC (permalink / raw)
To: test-report; +Cc: robot
From: robot@bytheb.org
Test-Label: travis-robot
Test-Status: SUCCESS
http://dpdk.org/patch/65047
_Travis build: passed_
Build URL: https://travis-ci.com/ovsrobot/dpdk/builds/145575572
^ permalink raw reply [flat|nested] 6+ messages in thread
* [dpdk-test-report] |SUCCESS| pw65047 [PATCH] net/mlx5: fix icmpv6 header rewrite actions
@ 2020-01-22 18:10 dpdklab
0 siblings, 0 replies; 6+ messages in thread
From: dpdklab @ 2020-01-22 18:10 UTC (permalink / raw)
To: Ali Alnubani, Test Report; +Cc: dpdk-test-reports
[-- Attachment #1: Type: text/plain, Size: 3935 bytes --]
Test-Label: iol-mellanox-Performance
Test-Status: SUCCESS
http://dpdk.org/patch/65047
_Performance Testing PASS_
Submitter: Shiri Kuzin <shirik@mellanox.com>
Date: Wednesday, January 22 2020 14:37:54
DPDK git baseline: Repo:dpdk
Branch: master
CommitID:73c392e24f5e29acbe53044dccb6b07ebbae2467
65047 --> performance testing pass
Test environment and result as below:
Ubuntu 18.04
Kernel: 4.15.0-generic
GCC: 7.4
NIC: Mellanox ConnectX-4 Lx 25000 Mbps
Target: x86_64-native-linuxapp-gcc
Fail/Total: 0/6
Detail performance results:
+------------+---------+-------------------------------------+
| frame_size | txd/rxd | throughput difference from expected |
+============+=========+=====================================+
| 64 | 256 | -0.030 |
+------------+---------+-------------------------------------+
| 128 | 256 | -0.054 |
+------------+---------+-------------------------------------+
| 256 | 256 | 0.138 |
+------------+---------+-------------------------------------+
| 512 | 256 | -0.008 |
+------------+---------+-------------------------------------+
| 1024 | 256 | 0.006 |
+------------+---------+-------------------------------------+
| 1518 | 256 | -0.001 |
+------------+---------+-------------------------------------+
Ubuntu 18.04
Kernel: 4.15.0-generic
GCC: 7.4
NIC: Mellanox ConnectX-5 100000 Mbps
Target: x86_64-native-linuxapp-gcc
Fail/Total: 0/6
Detail performance results:
+------------+---------+-------------------------------------+
| frame_size | txd/rxd | throughput difference from expected |
+============+=========+=====================================+
| 64 | 256 | 0.031 |
+------------+---------+-------------------------------------+
| 128 | 256 | -0.134 |
+------------+---------+-------------------------------------+
| 256 | 256 | -0.047 |
+------------+---------+-------------------------------------+
| 512 | 256 | 0.147 |
+------------+---------+-------------------------------------+
| 1024 | 256 | 0.022 |
+------------+---------+-------------------------------------+
| 1518 | 256 | 0.001 |
+------------+---------+-------------------------------------+
Ubuntu 18.04
Kernel: 4.15.0-generic
GCC: 7.4
NIC: Mellanox ConnectX-4 Lx 40000 Mbps
Target: x86_64-native-linuxapp-gcc
Fail/Total: 0/6
Detail performance results:
+------------+---------+-------------------------------------+
| frame_size | txd/rxd | throughput difference from expected |
+============+=========+=====================================+
| 64 | 256 | 0.167 |
+------------+---------+-------------------------------------+
| 128 | 256 | 0.005 |
+------------+---------+-------------------------------------+
| 256 | 256 | 0.054 |
+------------+---------+-------------------------------------+
| 512 | 256 | 0.005 |
+------------+---------+-------------------------------------+
| 1024 | 256 | 0.001 |
+------------+---------+-------------------------------------+
| 1518 | 256 | -0.001 |
+------------+---------+-------------------------------------+
To view detailed results, visit:
https://lab.dpdk.org/results/dashboard/patchsets/9331/
UNH-IOL DPDK Community Lab
To manage your email subscriptions, visit:
https://lab.dpdk.org/results/dashboard/preferences/subscriptions/
^ permalink raw reply [flat|nested] 6+ messages in thread
* [dpdk-test-report] |SUCCESS| pw65047 [PATCH] net/mlx5: fix icmpv6 header rewrite actions
@ 2020-01-22 18:10 dpdklab
0 siblings, 0 replies; 6+ messages in thread
From: dpdklab @ 2020-01-22 18:10 UTC (permalink / raw)
To: Ruoshan Shi, Test Report; +Cc: dpdk-test-reports
[-- Attachment #1: Type: text/plain, Size: 1191 bytes --]
Test-Label: iol-nxp-Performance
Test-Status: SUCCESS
http://dpdk.org/patch/65047
_Performance Testing PASS_
Submitter: Shiri Kuzin <shirik@mellanox.com>
Date: Wednesday, January 22 2020 14:37:54
DPDK git baseline: Repo:dpdk
Branch: master
CommitID:73c392e24f5e29acbe53044dccb6b07ebbae2467
65047 --> performance testing pass
Test environment and result as below:
Ubuntu 18.04
Kernel: 4.14.122
GCC: 7.3.0
NIC: NXP LS2088A 10000 Mbps
Target: x86_64-native-linuxapp-gcc
Fail/Total: 0/2
Detail performance results:
+------------+---------+-------------------------------------+
| frame_size | txd/rxd | throughput difference from expected |
+============+=========+=====================================+
| 64 | 512 | 0.239 |
+------------+---------+-------------------------------------+
| 64 | 2048 | 0.083 |
+------------+---------+-------------------------------------+
To view detailed results, visit:
https://lab.dpdk.org/results/dashboard/patchsets/9331/
UNH-IOL DPDK Community Lab
To manage your email subscriptions, visit:
https://lab.dpdk.org/results/dashboard/preferences/subscriptions/
^ permalink raw reply [flat|nested] 6+ messages in thread
* [dpdk-test-report] |SUCCESS| pw65047 [PATCH] net/mlx5: fix icmpv6 header rewrite actions
@ 2020-01-22 18:01 dpdklab
0 siblings, 0 replies; 6+ messages in thread
From: dpdklab @ 2020-01-22 18:01 UTC (permalink / raw)
To: Test Report; +Cc: dpdk-test-reports
[-- Attachment #1: Type: text/plain, Size: 2250 bytes --]
Test-Label: iol-testing
Test-Status: SUCCESS
http://dpdk.org/patch/65047
_Testing PASS_
Submitter: Shiri Kuzin <shirik@mellanox.com>
Date: Wednesday, January 22 2020 14:37:54
DPDK git baseline: Repo:dpdk
Branch: master
CommitID:73c392e24f5e29acbe53044dccb6b07ebbae2467
65047 --> testing pass
Test environment and result as below:
+------------------+-------------------+--------------------+--------------+------------------+----------------+
| Environment | dpdk_compile_spdk | dpdk_meson_compile | dpdk_compile | dpdk_compile_ovs | dpdk_unit_test |
+==================+===================+====================+==============+==================+================+
| FreeBSD 11.2 | PASS | PASS | PASS | SKIPPED | SKIPPED |
+------------------+-------------------+--------------------+--------------+------------------+----------------+
| Ubuntu 18.04 | PASS | PASS | PASS | PASS | PASS |
+------------------+-------------------+--------------------+--------------+------------------+----------------+
| Arch Linux | SKIPPED | PASS | PASS | PASS | SKIPPED |
+------------------+-------------------+--------------------+--------------+------------------+----------------+
| openSUSE Leap 15 | SKIPPED | PASS | PASS | PASS | SKIPPED |
+------------------+-------------------+--------------------+--------------+------------------+----------------+
| Fedora 31 | SKIPPED | PASS | PASS | PASS | SKIPPED |
+------------------+-------------------+--------------------+--------------+------------------+----------------+
FreeBSD 11.2
Kernel: 11.2
GCC: 8.3
Ubuntu 18.04
Kernel: 4.15.0-generic
GCC: 7.4
Arch Linux
Kernel: latest
GCC: latest
openSUSE Leap 15
Kernel: 4.12.14
GCC: 7.4.1
Fedora 31
Kernel: 5.3.16
GCC: 9.2.1
To view detailed results, visit:
https://lab.dpdk.org/results/dashboard/patchsets/9331/
UNH-IOL DPDK Community Lab
To manage your email subscriptions, visit:
https://lab.dpdk.org/results/dashboard/preferences/subscriptions/
^ permalink raw reply [flat|nested] 6+ messages in thread
* [dpdk-test-report] |SUCCESS| pw65047 [PATCH] net/mlx5: fix icmpv6 header rewrite actions
@ 2020-01-22 16:44 dpdklab
0 siblings, 0 replies; 6+ messages in thread
From: dpdklab @ 2020-01-22 16:44 UTC (permalink / raw)
To: Test Report; +Cc: dpdk-test-reports
[-- Attachment #1: Type: text/plain, Size: 1372 bytes --]
Test-Label: iol-intel-Performance
Test-Status: SUCCESS
http://dpdk.org/patch/65047
_Performance Testing PASS_
Submitter: Shiri Kuzin <shirik@mellanox.com>
Date: Wednesday, January 22 2020 14:37:54
DPDK git baseline: Repo:dpdk
Branch: master
CommitID:73c392e24f5e29acbe53044dccb6b07ebbae2467
65047 --> performance testing pass
Test environment and result as below:
Ubuntu 18.04
Kernel: 4.15.0-generic
GCC: 7.4
NIC: Intel Corporation Ethernet Converged Network Adapter 82599ES 10000 Mbps
Target: x86_64-native-linuxapp-gcc
Fail/Total: 0/3
Detail performance results:
+------------+---------+-------------------------------------+
| frame_size | txd/rxd | throughput difference from expected |
+============+=========+=====================================+
| 64 | 128 | -0.029 |
+------------+---------+-------------------------------------+
| 64 | 512 | -0.639 |
+------------+---------+-------------------------------------+
| 64 | 2048 | 0.045 |
+------------+---------+-------------------------------------+
To view detailed results, visit:
https://lab.dpdk.org/results/dashboard/patchsets/9331/
UNH-IOL DPDK Community Lab
To manage your email subscriptions, visit:
https://lab.dpdk.org/results/dashboard/preferences/subscriptions/
^ permalink raw reply [flat|nested] 6+ messages in thread
end of thread, other threads:[~2020-01-23 4:03 UTC | newest]
Thread overview: 6+ messages (download: mbox.gz / follow: Atom feed)
-- links below jump to the message on this page --
[not found] <20200122142527.257004-1-shirik@mellanox.com>
2020-01-22 14:38 ` [dpdk-test-report] |SUCCESS| pw65047 [PATCH] net/mlx5: fix icmpv6 header rewrite actions checkpatch
2020-01-23 4:01 ` [dpdk-test-report] |SUCCESS| pw65047 " 0-day Robot
2020-01-22 16:44 [dpdk-test-report] |SUCCESS| pw65047 [PATCH] " dpdklab
2020-01-22 18:01 dpdklab
2020-01-22 18:10 dpdklab
2020-01-22 18:10 dpdklab
This is a public inbox, see mirroring instructions
for how to clone and mirror all data and code used for this inbox;
as well as URLs for NNTP newsgroup(s).