* [dpdk-test-report] |SUCCESS| pw65049 [PATCH] [v2, 1/1] test/crypto: remove repeated test and enable on QAT
@ 2020-01-22 16:07 dpdklab
0 siblings, 0 replies; 5+ messages in thread
From: dpdklab @ 2020-01-22 16:07 UTC (permalink / raw)
To: Ruoshan Shi, Test Report; +Cc: dpdk-test-reports
[-- Attachment #1: Type: text/plain, Size: 1212 bytes --]
Test-Label: iol-nxp-Performance
Test-Status: SUCCESS
http://dpdk.org/patch/65049
_Performance Testing PASS_
Submitter: Adam Dybkowski <adamx.dybkowski@intel.com>
Date: Wednesday, January 22 2020 14:42:07
DPDK git baseline: Repo:dpdk-next-crypto
Branch: master
CommitID:8f5d164f68ecf57a17180bd047d8fdc649265d52
65049 --> performance testing pass
Test environment and result as below:
Ubuntu 18.04
Kernel: 4.14.122
GCC: 7.3.0
NIC: NXP LS2088A 10000 Mbps
Target: x86_64-native-linuxapp-gcc
Fail/Total: 0/2
Detail performance results:
+------------+---------+-------------------------------------+
| frame_size | txd/rxd | throughput difference from expected |
+============+=========+=====================================+
| 64 | 512 | 0.159 |
+------------+---------+-------------------------------------+
| 64 | 2048 | 0.047 |
+------------+---------+-------------------------------------+
To view detailed results, visit:
https://lab.dpdk.org/results/dashboard/patchsets/9332/
UNH-IOL DPDK Community Lab
To manage your email subscriptions, visit:
https://lab.dpdk.org/results/dashboard/preferences/subscriptions/
^ permalink raw reply [flat|nested] 5+ messages in thread
* [dpdk-test-report] |SUCCESS| pw65049 [PATCH] [v2, 1/1] test/crypto: remove repeated test and enable on QAT
@ 2020-01-22 16:07 dpdklab
0 siblings, 0 replies; 5+ messages in thread
From: dpdklab @ 2020-01-22 16:07 UTC (permalink / raw)
To: Ali Alnubani, Test Report; +Cc: dpdk-test-reports
[-- Attachment #1: Type: text/plain, Size: 3956 bytes --]
Test-Label: iol-mellanox-Performance
Test-Status: SUCCESS
http://dpdk.org/patch/65049
_Performance Testing PASS_
Submitter: Adam Dybkowski <adamx.dybkowski@intel.com>
Date: Wednesday, January 22 2020 14:42:07
DPDK git baseline: Repo:dpdk-next-crypto
Branch: master
CommitID:8f5d164f68ecf57a17180bd047d8fdc649265d52
65049 --> performance testing pass
Test environment and result as below:
Ubuntu 18.04
Kernel: 4.15.0-generic
GCC: 7.4
NIC: Mellanox ConnectX-4 Lx 40000 Mbps
Target: x86_64-native-linuxapp-gcc
Fail/Total: 0/6
Detail performance results:
+------------+---------+-------------------------------------+
| frame_size | txd/rxd | throughput difference from expected |
+============+=========+=====================================+
| 64 | 256 | -0.011 |
+------------+---------+-------------------------------------+
| 128 | 256 | 0.248 |
+------------+---------+-------------------------------------+
| 256 | 256 | 0.159 |
+------------+---------+-------------------------------------+
| 512 | 256 | -0.006 |
+------------+---------+-------------------------------------+
| 1024 | 256 | 0.003 |
+------------+---------+-------------------------------------+
| 1518 | 256 | 0.002 |
+------------+---------+-------------------------------------+
Ubuntu 18.04
Kernel: 4.15.0-generic
GCC: 7.4
NIC: Mellanox ConnectX-4 Lx 25000 Mbps
Target: x86_64-native-linuxapp-gcc
Fail/Total: 0/6
Detail performance results:
+------------+---------+-------------------------------------+
| frame_size | txd/rxd | throughput difference from expected |
+============+=========+=====================================+
| 64 | 256 | 0.011 |
+------------+---------+-------------------------------------+
| 128 | 256 | 0.011 |
+------------+---------+-------------------------------------+
| 256 | 256 | -0.065 |
+------------+---------+-------------------------------------+
| 512 | 256 | -0.006 |
+------------+---------+-------------------------------------+
| 1024 | 256 | -0.001 |
+------------+---------+-------------------------------------+
| 1518 | 256 | -0.001 |
+------------+---------+-------------------------------------+
Ubuntu 18.04
Kernel: 4.15.0-generic
GCC: 7.4
NIC: Mellanox ConnectX-5 100000 Mbps
Target: x86_64-native-linuxapp-gcc
Fail/Total: 0/6
Detail performance results:
+------------+---------+-------------------------------------+
| frame_size | txd/rxd | throughput difference from expected |
+============+=========+=====================================+
| 64 | 256 | -0.178 |
+------------+---------+-------------------------------------+
| 128 | 256 | -0.016 |
+------------+---------+-------------------------------------+
| 256 | 256 | -0.048 |
+------------+---------+-------------------------------------+
| 512 | 256 | 0.245 |
+------------+---------+-------------------------------------+
| 1024 | 256 | 0.020 |
+------------+---------+-------------------------------------+
| 1518 | 256 | 0.026 |
+------------+---------+-------------------------------------+
To view detailed results, visit:
https://lab.dpdk.org/results/dashboard/patchsets/9332/
UNH-IOL DPDK Community Lab
To manage your email subscriptions, visit:
https://lab.dpdk.org/results/dashboard/preferences/subscriptions/
^ permalink raw reply [flat|nested] 5+ messages in thread
* [dpdk-test-report] |SUCCESS| pw65049 [PATCH] [v2, 1/1] test/crypto: remove repeated test and enable on QAT
@ 2020-01-22 15:36 dpdklab
0 siblings, 0 replies; 5+ messages in thread
From: dpdklab @ 2020-01-22 15:36 UTC (permalink / raw)
To: Test Report; +Cc: dpdk-test-reports
[-- Attachment #1: Type: text/plain, Size: 2541 bytes --]
Test-Label: iol-testing
Test-Status: SUCCESS
http://dpdk.org/patch/65049
_Testing PASS_
Submitter: Adam Dybkowski <adamx.dybkowski@intel.com>
Date: Wednesday, January 22 2020 14:42:07
DPDK git baseline: Repo:dpdk-next-crypto
Branch: master
CommitID:8f5d164f68ecf57a17180bd047d8fdc649265d52
65049 --> testing pass
Test environment and result as below:
+------------------+-------------------+--------------+----------------+------------------+--------------------+
| Environment | dpdk_compile_spdk | dpdk_compile | dpdk_unit_test | dpdk_compile_ovs | dpdk_meson_compile |
+==================+===================+==============+================+==================+====================+
| FreeBSD 11.2 | PASS | PASS | SKIPPED | SKIPPED | PASS |
+------------------+-------------------+--------------+----------------+------------------+--------------------+
| Ubuntu 18.04 | PASS | PASS | PASS | PASS | PASS |
+------------------+-------------------+--------------+----------------+------------------+--------------------+
| openSUSE Leap 15 | SKIPPED | PASS | SKIPPED | PASS | PASS |
+------------------+-------------------+--------------+----------------+------------------+--------------------+
| Arch Linux | SKIPPED | PASS | SKIPPED | PASS | PASS |
+------------------+-------------------+--------------+----------------+------------------+--------------------+
| Fedora 31 | SKIPPED | PASS | SKIPPED | PASS | PASS |
+------------------+-------------------+--------------+----------------+------------------+--------------------+
| CentOS 8 | SKIPPED | PASS | SKIPPED | PASS | PASS |
+------------------+-------------------+--------------+----------------+------------------+--------------------+
FreeBSD 11.2
Kernel: 11.2
GCC: 8.3
Ubuntu 18.04
Kernel: 4.15.0-generic
GCC: 7.4
openSUSE Leap 15
Kernel: 4.12.14
GCC: 7.4.1
Arch Linux
Kernel: latest
GCC: latest
Fedora 31
Kernel: 5.3.16
GCC: 9.2.1
CentOS 8
Kernel: 4.18.0.el8_0
GCC: 8.3.1
To view detailed results, visit:
https://lab.dpdk.org/results/dashboard/patchsets/9332/
UNH-IOL DPDK Community Lab
To manage your email subscriptions, visit:
https://lab.dpdk.org/results/dashboard/preferences/subscriptions/
^ permalink raw reply [flat|nested] 5+ messages in thread
* [dpdk-test-report] |SUCCESS| pw65049 [PATCH] [v2, 1/1] test/crypto: remove repeated test and enable on QAT
@ 2020-01-22 15:30 dpdklab
0 siblings, 0 replies; 5+ messages in thread
From: dpdklab @ 2020-01-22 15:30 UTC (permalink / raw)
To: Test Report; +Cc: dpdk-test-reports
[-- Attachment #1: Type: text/plain, Size: 2041 bytes --]
Test-Label: iol-intel-Performance
Test-Status: SUCCESS
http://dpdk.org/patch/65049
_Performance Testing PASS_
Submitter: Adam Dybkowski <adamx.dybkowski@intel.com>
Date: Wednesday, January 22 2020 14:42:07
DPDK git baseline: Repo:dpdk-next-crypto
Branch: master
CommitID:8f5d164f68ecf57a17180bd047d8fdc649265d52
65049 --> performance testing pass
Test environment and result as below:
Ubuntu 18.04
Kernel: 4.15.0-generic
GCC: 7.4
NIC: Intel Corporation Ethernet Converged Network Adapter 82599ES 10000 Mbps
Target: x86_64-native-linuxapp-gcc
Fail/Total: 0/3
Detail performance results:
+------------+---------+-------------------------------------+
| frame_size | txd/rxd | throughput difference from expected |
+============+=========+=====================================+
| 64 | 128 | -0.053 |
+------------+---------+-------------------------------------+
| 64 | 512 | -0.094 |
+------------+---------+-------------------------------------+
| 64 | 2048 | -0.073 |
+------------+---------+-------------------------------------+
Ubuntu 18.04
Kernel: 4.15.0-generic
GCC: 7.4
NIC: Intel Corporation Ethernet Converged Network Adapter XL710-QDA2 40000 Mbps
Target: x86_64-native-linuxapp-gcc
Fail/Total: 0/2
Detail performance results:
+------------+---------+-------------------------------------+
| frame_size | txd/rxd | throughput difference from expected |
+============+=========+=====================================+
| 64 | 512 | -0.461 |
+------------+---------+-------------------------------------+
| 64 | 2048 | 0.230 |
+------------+---------+-------------------------------------+
To view detailed results, visit:
https://lab.dpdk.org/results/dashboard/patchsets/9332/
UNH-IOL DPDK Community Lab
To manage your email subscriptions, visit:
https://lab.dpdk.org/results/dashboard/preferences/subscriptions/
^ permalink raw reply [flat|nested] 5+ messages in thread
* [dpdk-test-report] |SUCCESS| pw65049 [PATCH v2 1/1] test/crypto: remove repeated test and enable on QAT
[not found] <20200122144207.14091-2-adamx.dybkowski@intel.com>
@ 2020-01-22 14:43 ` checkpatch
0 siblings, 0 replies; 5+ messages in thread
From: checkpatch @ 2020-01-22 14:43 UTC (permalink / raw)
To: test-report
Test-Label: checkpatch
Test-Status: SUCCESS
http://dpdk.org/patch/65049
_coding style OK_
^ permalink raw reply [flat|nested] 5+ messages in thread
end of thread, other threads:[~2020-01-22 16:07 UTC | newest]
Thread overview: 5+ messages (download: mbox.gz / follow: Atom feed)
-- links below jump to the message on this page --
2020-01-22 16:07 [dpdk-test-report] |SUCCESS| pw65049 [PATCH] [v2, 1/1] test/crypto: remove repeated test and enable on QAT dpdklab
-- strict thread matches above, loose matches on Subject: below --
2020-01-22 16:07 dpdklab
2020-01-22 15:36 dpdklab
2020-01-22 15:30 dpdklab
[not found] <20200122144207.14091-2-adamx.dybkowski@intel.com>
2020-01-22 14:43 ` [dpdk-test-report] |SUCCESS| pw65049 [PATCH v2 " checkpatch
This is a public inbox, see mirroring instructions
for how to clone and mirror all data and code used for this inbox;
as well as URLs for NNTP newsgroup(s).