* [dpdk-test-report] |SUCCESS| pw65050 [PATCH] net/mlx5: fix zero out UDP checksum in encap data
@ 2020-01-22 16:38 dpdklab
0 siblings, 0 replies; 5+ messages in thread
From: dpdklab @ 2020-01-22 16:38 UTC (permalink / raw)
To: Test Report; +Cc: dpdk-test-reports
[-- Attachment #1: Type: text/plain, Size: 2249 bytes --]
Test-Label: iol-testing
Test-Status: SUCCESS
http://dpdk.org/patch/65050
_Testing PASS_
Submitter: Matan Azrad <matan@mellanox.com>
Date: Wednesday, January 22 2020 15:03:58
DPDK git baseline: Repo:dpdk
Branch: master
CommitID:73c392e24f5e29acbe53044dccb6b07ebbae2467
65050 --> testing pass
Test environment and result as below:
+------------------+-------------------+--------------+------------------+----------------+--------------------+
| Environment | dpdk_compile_spdk | dpdk_compile | dpdk_compile_ovs | dpdk_unit_test | dpdk_meson_compile |
+==================+===================+==============+==================+================+====================+
| Ubuntu 18.04 | PASS | PASS | PASS | PASS | PASS |
+------------------+-------------------+--------------+------------------+----------------+--------------------+
| FreeBSD 11.2 | PASS | PASS | SKIPPED | SKIPPED | PASS |
+------------------+-------------------+--------------+------------------+----------------+--------------------+
| Arch Linux | SKIPPED | PASS | PASS | SKIPPED | PASS |
+------------------+-------------------+--------------+------------------+----------------+--------------------+
| openSUSE Leap 15 | SKIPPED | PASS | PASS | SKIPPED | PASS |
+------------------+-------------------+--------------+------------------+----------------+--------------------+
| Fedora 31 | SKIPPED | PASS | PASS | SKIPPED | PASS |
+------------------+-------------------+--------------+------------------+----------------+--------------------+
Ubuntu 18.04
Kernel: 4.15.0-generic
GCC: 7.4
FreeBSD 11.2
Kernel: 11.2
GCC: 8.3
Arch Linux
Kernel: latest
GCC: latest
openSUSE Leap 15
Kernel: 4.12.14
GCC: 7.4.1
Fedora 31
Kernel: 5.3.16
GCC: 9.2.1
To view detailed results, visit:
https://lab.dpdk.org/results/dashboard/patchsets/9333/
UNH-IOL DPDK Community Lab
To manage your email subscriptions, visit:
https://lab.dpdk.org/results/dashboard/preferences/subscriptions/
^ permalink raw reply [flat|nested] 5+ messages in thread
* [dpdk-test-report] |SUCCESS| pw65050 [PATCH] net/mlx5: fix zero out UDP checksum in encap data
@ 2020-01-22 16:48 dpdklab
0 siblings, 0 replies; 5+ messages in thread
From: dpdklab @ 2020-01-22 16:48 UTC (permalink / raw)
To: Ruoshan Shi, Test Report; +Cc: dpdk-test-reports
[-- Attachment #1: Type: text/plain, Size: 1190 bytes --]
Test-Label: iol-nxp-Performance
Test-Status: SUCCESS
http://dpdk.org/patch/65050
_Performance Testing PASS_
Submitter: Matan Azrad <matan@mellanox.com>
Date: Wednesday, January 22 2020 15:03:58
DPDK git baseline: Repo:dpdk
Branch: master
CommitID:73c392e24f5e29acbe53044dccb6b07ebbae2467
65050 --> performance testing pass
Test environment and result as below:
Ubuntu 18.04
Kernel: 4.14.122
GCC: 7.3.0
NIC: NXP LS2088A 10000 Mbps
Target: x86_64-native-linuxapp-gcc
Fail/Total: 0/2
Detail performance results:
+------------+---------+-------------------------------------+
| frame_size | txd/rxd | throughput difference from expected |
+============+=========+=====================================+
| 64 | 512 | 0.268 |
+------------+---------+-------------------------------------+
| 64 | 2048 | 0.151 |
+------------+---------+-------------------------------------+
To view detailed results, visit:
https://lab.dpdk.org/results/dashboard/patchsets/9333/
UNH-IOL DPDK Community Lab
To manage your email subscriptions, visit:
https://lab.dpdk.org/results/dashboard/preferences/subscriptions/
^ permalink raw reply [flat|nested] 5+ messages in thread
* [dpdk-test-report] |SUCCESS| pw65050 [PATCH] net/mlx5: fix zero out UDP checksum in encap data
@ 2020-01-22 16:48 dpdklab
0 siblings, 0 replies; 5+ messages in thread
From: dpdklab @ 2020-01-22 16:48 UTC (permalink / raw)
To: Ali Alnubani, Test Report; +Cc: dpdk-test-reports
[-- Attachment #1: Type: text/plain, Size: 3934 bytes --]
Test-Label: iol-mellanox-Performance
Test-Status: SUCCESS
http://dpdk.org/patch/65050
_Performance Testing PASS_
Submitter: Matan Azrad <matan@mellanox.com>
Date: Wednesday, January 22 2020 15:03:58
DPDK git baseline: Repo:dpdk
Branch: master
CommitID:73c392e24f5e29acbe53044dccb6b07ebbae2467
65050 --> performance testing pass
Test environment and result as below:
Ubuntu 18.04
Kernel: 4.15.0-generic
GCC: 7.4
NIC: Mellanox ConnectX-5 100000 Mbps
Target: x86_64-native-linuxapp-gcc
Fail/Total: 0/6
Detail performance results:
+------------+---------+-------------------------------------+
| frame_size | txd/rxd | throughput difference from expected |
+============+=========+=====================================+
| 64 | 256 | -0.076 |
+------------+---------+-------------------------------------+
| 128 | 256 | 0.043 |
+------------+---------+-------------------------------------+
| 256 | 256 | -0.021 |
+------------+---------+-------------------------------------+
| 512 | 256 | 0.229 |
+------------+---------+-------------------------------------+
| 1024 | 256 | -0.011 |
+------------+---------+-------------------------------------+
| 1518 | 256 | 0.016 |
+------------+---------+-------------------------------------+
Ubuntu 18.04
Kernel: 4.15.0-generic
GCC: 7.4
NIC: Mellanox ConnectX-4 Lx 40000 Mbps
Target: x86_64-native-linuxapp-gcc
Fail/Total: 0/6
Detail performance results:
+------------+---------+-------------------------------------+
| frame_size | txd/rxd | throughput difference from expected |
+============+=========+=====================================+
| 64 | 256 | 0.314 |
+------------+---------+-------------------------------------+
| 128 | 256 | 0.019 |
+------------+---------+-------------------------------------+
| 256 | 256 | 0.156 |
+------------+---------+-------------------------------------+
| 512 | 256 | -0.006 |
+------------+---------+-------------------------------------+
| 1024 | 256 | 0 |
+------------+---------+-------------------------------------+
| 1518 | 256 | -0.001 |
+------------+---------+-------------------------------------+
Ubuntu 18.04
Kernel: 4.15.0-generic
GCC: 7.4
NIC: Mellanox ConnectX-4 Lx 25000 Mbps
Target: x86_64-native-linuxapp-gcc
Fail/Total: 0/6
Detail performance results:
+------------+---------+-------------------------------------+
| frame_size | txd/rxd | throughput difference from expected |
+============+=========+=====================================+
| 64 | 256 | -0.198 |
+------------+---------+-------------------------------------+
| 128 | 256 | 0.088 |
+------------+---------+-------------------------------------+
| 256 | 256 | 0.340 |
+------------+---------+-------------------------------------+
| 512 | 256 | 0.004 |
+------------+---------+-------------------------------------+
| 1024 | 256 | 0.007 |
+------------+---------+-------------------------------------+
| 1518 | 256 | 0 |
+------------+---------+-------------------------------------+
To view detailed results, visit:
https://lab.dpdk.org/results/dashboard/patchsets/9333/
UNH-IOL DPDK Community Lab
To manage your email subscriptions, visit:
https://lab.dpdk.org/results/dashboard/preferences/subscriptions/
^ permalink raw reply [flat|nested] 5+ messages in thread
* [dpdk-test-report] |SUCCESS| pw65050 [PATCH] net/mlx5: fix zero out UDP checksum in encap data
@ 2020-01-22 15:46 dpdklab
0 siblings, 0 replies; 5+ messages in thread
From: dpdklab @ 2020-01-22 15:46 UTC (permalink / raw)
To: Test Report; +Cc: dpdk-test-reports
[-- Attachment #1: Type: text/plain, Size: 2019 bytes --]
Test-Label: iol-intel-Performance
Test-Status: SUCCESS
http://dpdk.org/patch/65050
_Performance Testing PASS_
Submitter: Matan Azrad <matan@mellanox.com>
Date: Wednesday, January 22 2020 15:03:58
DPDK git baseline: Repo:dpdk
Branch: master
CommitID:73c392e24f5e29acbe53044dccb6b07ebbae2467
65050 --> performance testing pass
Test environment and result as below:
Ubuntu 18.04
Kernel: 4.15.0-generic
GCC: 7.4
NIC: Intel Corporation Ethernet Converged Network Adapter 82599ES 10000 Mbps
Target: x86_64-native-linuxapp-gcc
Fail/Total: 0/3
Detail performance results:
+------------+---------+-------------------------------------+
| frame_size | txd/rxd | throughput difference from expected |
+============+=========+=====================================+
| 64 | 128 | 0.010 |
+------------+---------+-------------------------------------+
| 64 | 512 | -0.570 |
+------------+---------+-------------------------------------+
| 64 | 2048 | -0.153 |
+------------+---------+-------------------------------------+
Ubuntu 18.04
Kernel: 4.15.0-generic
GCC: 7.4
NIC: Intel Corporation Ethernet Converged Network Adapter XL710-QDA2 40000 Mbps
Target: x86_64-native-linuxapp-gcc
Fail/Total: 0/2
Detail performance results:
+------------+---------+-------------------------------------+
| frame_size | txd/rxd | throughput difference from expected |
+============+=========+=====================================+
| 64 | 512 | -0.599 |
+------------+---------+-------------------------------------+
| 64 | 2048 | 0.028 |
+------------+---------+-------------------------------------+
To view detailed results, visit:
https://lab.dpdk.org/results/dashboard/patchsets/9333/
UNH-IOL DPDK Community Lab
To manage your email subscriptions, visit:
https://lab.dpdk.org/results/dashboard/preferences/subscriptions/
^ permalink raw reply [flat|nested] 5+ messages in thread
* [dpdk-test-report] |SUCCESS| pw65050 [PATCH] net/mlx5: fix zero out UDP checksum in encap data
[not found] <1579705438-31330-1-git-send-email-matan@mellanox.com>
@ 2020-01-22 15:05 ` checkpatch
0 siblings, 0 replies; 5+ messages in thread
From: checkpatch @ 2020-01-22 15:05 UTC (permalink / raw)
To: test-report
Test-Label: checkpatch
Test-Status: SUCCESS
http://dpdk.org/patch/65050
_coding style OK_
^ permalink raw reply [flat|nested] 5+ messages in thread
end of thread, other threads:[~2020-01-22 16:48 UTC | newest]
Thread overview: 5+ messages (download: mbox.gz / follow: Atom feed)
-- links below jump to the message on this page --
2020-01-22 16:38 [dpdk-test-report] |SUCCESS| pw65050 [PATCH] net/mlx5: fix zero out UDP checksum in encap data dpdklab
-- strict thread matches above, loose matches on Subject: below --
2020-01-22 16:48 dpdklab
2020-01-22 16:48 dpdklab
2020-01-22 15:46 dpdklab
[not found] <1579705438-31330-1-git-send-email-matan@mellanox.com>
2020-01-22 15:05 ` checkpatch
This is a public inbox, see mirroring instructions
for how to clone and mirror all data and code used for this inbox;
as well as URLs for NNTP newsgroup(s).