* [dpdk-test-report] |SUCCESS| pw65711 [PATCH] [v7] app/testpmd: add portlist option
@ 2020-02-10 18:26 dpdklab
0 siblings, 0 replies; 3+ messages in thread
From: dpdklab @ 2020-02-10 18:26 UTC (permalink / raw)
To: Ali Alnubani, Test Report; +Cc: dpdk-test-reports
[-- Attachment #1: Type: text/plain, Size: 3988 bytes --]
Test-Label: iol-mellanox-Performance
Test-Status: SUCCESS
http://dpdk.org/patch/65711
_Performance Testing PASS_
Submitter: Hariprasad Govindharajan <hariprasad.govindharajan@intel.com>
Date: Monday, February 10 2020 17:19:36
DPDK git baseline: Repo:dpdk
Branch: master
CommitID:2636c2a23878b4f9906d90744664d8740bc9ec66
65711 --> performance testing pass
Test environment and result as below:
Ubuntu 18.04
Kernel: 4.15.0-generic
Compiler: gcc 7.4
NIC: Mellanox ConnectX-5 100000 Mbps
Target: x86_64-native-linuxapp-gcc
Fail/Total: 0/6
Detail performance results:
+------------+---------+-------------------------------------+
| frame_size | txd/rxd | throughput difference from expected |
+============+=========+=====================================+
| 64 | 256 | -0.109 |
+------------+---------+-------------------------------------+
| 128 | 256 | -0.003 |
+------------+---------+-------------------------------------+
| 256 | 256 | 0.105 |
+------------+---------+-------------------------------------+
| 512 | 256 | 0.250 |
+------------+---------+-------------------------------------+
| 1024 | 256 | -0.026 |
+------------+---------+-------------------------------------+
| 1518 | 256 | -0.021 |
+------------+---------+-------------------------------------+
Ubuntu 18.04
Kernel: 4.15.0-generic
Compiler: gcc 7.4
NIC: Mellanox ConnectX-4 Lx 25000 Mbps
Target: x86_64-native-linuxapp-gcc
Fail/Total: 0/6
Detail performance results:
+------------+---------+-------------------------------------+
| frame_size | txd/rxd | throughput difference from expected |
+============+=========+=====================================+
| 64 | 256 | 0.390 |
+------------+---------+-------------------------------------+
| 128 | 256 | -0.092 |
+------------+---------+-------------------------------------+
| 256 | 256 | -0.618 |
+------------+---------+-------------------------------------+
| 512 | 256 | 0.033 |
+------------+---------+-------------------------------------+
| 1024 | 256 | 0.001 |
+------------+---------+-------------------------------------+
| 1518 | 256 | 0.001 |
+------------+---------+-------------------------------------+
Ubuntu 18.04
Kernel: 4.15.0-generic
Compiler: gcc 7.4
NIC: Mellanox ConnectX-4 Lx 40000 Mbps
Target: x86_64-native-linuxapp-gcc
Fail/Total: 0/6
Detail performance results:
+------------+---------+-------------------------------------+
| frame_size | txd/rxd | throughput difference from expected |
+============+=========+=====================================+
| 64 | 256 | 0.761 |
+------------+---------+-------------------------------------+
| 128 | 256 | 0.163 |
+------------+---------+-------------------------------------+
| 256 | 256 | -0.001 |
+------------+---------+-------------------------------------+
| 512 | 256 | 0.063 |
+------------+---------+-------------------------------------+
| 1024 | 256 | 0.017 |
+------------+---------+-------------------------------------+
| 1518 | 256 | -0.009 |
+------------+---------+-------------------------------------+
To view detailed results, visit:
https://lab.dpdk.org/results/dashboard/patchsets/9554/
UNH-IOL DPDK Community Lab
To manage your email subscriptions, visit:
https://lab.dpdk.org/results/dashboard/preferences/subscriptions/
^ permalink raw reply [flat|nested] 3+ messages in thread
* [dpdk-test-report] |SUCCESS| pw65711 [PATCH] [v7] app/testpmd: add portlist option
@ 2020-02-10 18:11 dpdklab
0 siblings, 0 replies; 3+ messages in thread
From: dpdklab @ 2020-02-10 18:11 UTC (permalink / raw)
To: Test Report; +Cc: dpdk-test-reports
[-- Attachment #1: Type: text/plain, Size: 2933 bytes --]
Test-Label: iol-testing
Test-Status: SUCCESS
http://dpdk.org/patch/65711
_Testing PASS_
Submitter: Hariprasad Govindharajan <hariprasad.govindharajan@intel.com>
Date: Monday, February 10 2020 17:19:36
DPDK git baseline: Repo:dpdk
Branch: master
CommitID:2636c2a23878b4f9906d90744664d8740bc9ec66
65711 --> testing pass
Test environment and result as below:
+---------------------+--------------------+-------------------+------------------+----------------+--------------+
| Environment | dpdk_meson_compile | dpdk_compile_spdk | dpdk_compile_ovs | dpdk_unit_test | dpdk_compile |
+=====================+====================+===================+==================+================+==============+
| Windows Server 2019 | PASS | SKIPPED | SKIPPED | SKIPPED | SKIPPED |
+---------------------+--------------------+-------------------+------------------+----------------+--------------+
| Ubuntu 18.04 | PASS | PASS | PASS | PASS | PASS |
+---------------------+--------------------+-------------------+------------------+----------------+--------------+
| openSUSE Leap 15 | PASS | SKIPPED | PASS | SKIPPED | PASS |
+---------------------+--------------------+-------------------+------------------+----------------+--------------+
| Fedora 31 | PASS | PASS | PASS | SKIPPED | PASS |
+---------------------+--------------------+-------------------+------------------+----------------+--------------+
| Arch Linux | PASS | SKIPPED | PASS | SKIPPED | PASS |
+---------------------+--------------------+-------------------+------------------+----------------+--------------+
| CentOS 8 | PASS | PASS | PASS | SKIPPED | PASS |
+---------------------+--------------------+-------------------+------------------+----------------+--------------+
| FreeBSD 11.2 | PASS | PASS | SKIPPED | SKIPPED | PASS |
+---------------------+--------------------+-------------------+------------------+----------------+--------------+
Windows Server 2019
Kernel: 10.0
Compiler: clang 9.0
Ubuntu 18.04
Kernel: 4.15.0-generic
Compiler: gcc 7.4
openSUSE Leap 15
Kernel: 4.12.14
Compiler: gcc 7.4.1
Fedora 31
Kernel: 5.3.16
Compiler: gcc 9.2.1
Arch Linux
Kernel: latest
Compiler: gcc latest
CentOS 8
Kernel: 4.18.0.el8_0
Compiler: gcc 8.3.1
FreeBSD 11.2
Kernel: 11.2
Compiler: gcc 8.3
To view detailed results, visit:
https://lab.dpdk.org/results/dashboard/patchsets/9554/
UNH-IOL DPDK Community Lab
To manage your email subscriptions, visit:
https://lab.dpdk.org/results/dashboard/preferences/subscriptions/
^ permalink raw reply [flat|nested] 3+ messages in thread
* [dpdk-test-report] |SUCCESS| pw65711 [PATCH v7] app/testpmd: add portlist option
[not found] <1581355176-25132-1-git-send-email-hariprasad.govindharajan@intel.com>
@ 2020-02-10 17:20 ` checkpatch
0 siblings, 0 replies; 3+ messages in thread
From: checkpatch @ 2020-02-10 17:20 UTC (permalink / raw)
To: test-report
Test-Label: checkpatch
Test-Status: SUCCESS
http://dpdk.org/patch/65711
_coding style OK_
^ permalink raw reply [flat|nested] 3+ messages in thread
end of thread, other threads:[~2020-02-10 18:26 UTC | newest]
Thread overview: 3+ messages (download: mbox.gz / follow: Atom feed)
-- links below jump to the message on this page --
2020-02-10 18:26 [dpdk-test-report] |SUCCESS| pw65711 [PATCH] [v7] app/testpmd: add portlist option dpdklab
-- strict thread matches above, loose matches on Subject: below --
2020-02-10 18:11 dpdklab
[not found] <1581355176-25132-1-git-send-email-hariprasad.govindharajan@intel.com>
2020-02-10 17:20 ` [dpdk-test-report] |SUCCESS| pw65711 [PATCH v7] " checkpatch
This is a public inbox, see mirroring instructions
for how to clone and mirror all data and code used for this inbox;
as well as URLs for NNTP newsgroup(s).