* [dpdk-test-report] |SUCCESS| pw65757-65758 [PATCH] [v1, 1/2] virtio: one way barrier for split vring used idx
@ 2020-02-12 21:25 dpdklab
0 siblings, 0 replies; 2+ messages in thread
From: dpdklab @ 2020-02-12 21:25 UTC (permalink / raw)
To: Ali Alnubani, Test Report; +Cc: dpdk-test-reports
[-- Attachment #1: Type: text/plain, Size: 3967 bytes --]
Test-Label: iol-mellanox-Performance
Test-Status: SUCCESS
http://dpdk.org/patch/65757
_Performance Testing PASS_
Submitter: Joyce Kong <joyce.kong@arm.com>
Date: Wednesday, February 12 2020 09:24:55
DPDK git baseline: Repo:dpdk
Branch: master
CommitID:43e34a229d3e575eb5ed075091afef0e5bf60a77
65757-65758 --> performance testing pass
Test environment and result as below:
Ubuntu 18.04
Kernel: 4.15.0-generic
Compiler: gcc 7.4
NIC: Mellanox ConnectX-5 100000 Mbps
Target: x86_64-native-linuxapp-gcc
Fail/Total: 0/6
Detail performance results:
+------------+---------+-------------------------------------+
| frame_size | txd/rxd | throughput difference from expected |
+============+=========+=====================================+
| 64 | 256 | -0.305 |
+------------+---------+-------------------------------------+
| 128 | 256 | 0.046 |
+------------+---------+-------------------------------------+
| 256 | 256 | -0.214 |
+------------+---------+-------------------------------------+
| 512 | 256 | 0.059 |
+------------+---------+-------------------------------------+
| 1024 | 256 | 0.004 |
+------------+---------+-------------------------------------+
| 1518 | 256 | 0.006 |
+------------+---------+-------------------------------------+
Ubuntu 18.04
Kernel: 4.15.0-generic
Compiler: gcc 7.4
NIC: Mellanox ConnectX-4 Lx 40000 Mbps
Target: x86_64-native-linuxapp-gcc
Fail/Total: 0/6
Detail performance results:
+------------+---------+-------------------------------------+
| frame_size | txd/rxd | throughput difference from expected |
+============+=========+=====================================+
| 64 | 256 | 0.495 |
+------------+---------+-------------------------------------+
| 128 | 256 | -0.035 |
+------------+---------+-------------------------------------+
| 256 | 256 | -0.009 |
+------------+---------+-------------------------------------+
| 512 | 256 | -0.002 |
+------------+---------+-------------------------------------+
| 1024 | 256 | 0.001 |
+------------+---------+-------------------------------------+
| 1518 | 256 | 0.001 |
+------------+---------+-------------------------------------+
Ubuntu 18.04
Kernel: 4.15.0-generic
Compiler: gcc 7.4
NIC: Mellanox ConnectX-4 Lx 25000 Mbps
Target: x86_64-native-linuxapp-gcc
Fail/Total: 0/6
Detail performance results:
+------------+---------+-------------------------------------+
| frame_size | txd/rxd | throughput difference from expected |
+============+=========+=====================================+
| 64 | 256 | 0.013 |
+------------+---------+-------------------------------------+
| 128 | 256 | 0.001 |
+------------+---------+-------------------------------------+
| 256 | 256 | -0.125 |
+------------+---------+-------------------------------------+
| 512 | 256 | -0.054 |
+------------+---------+-------------------------------------+
| 1024 | 256 | -0.002 |
+------------+---------+-------------------------------------+
| 1518 | 256 | 0.003 |
+------------+---------+-------------------------------------+
To view detailed results, visit:
https://lab.dpdk.org/results/dashboard/patchsets/9578/
UNH-IOL DPDK Community Lab
To manage your email subscriptions, visit:
https://lab.dpdk.org/results/dashboard/preferences/subscriptions/
^ permalink raw reply [flat|nested] 2+ messages in thread
* [dpdk-test-report] |SUCCESS| pw65757-65758 [PATCH] [v1, 1/2] virtio: one way barrier for split vring used idx
@ 2020-02-12 17:57 dpdklab
0 siblings, 0 replies; 2+ messages in thread
From: dpdklab @ 2020-02-12 17:57 UTC (permalink / raw)
To: Test Report; +Cc: dpdk-test-reports
[-- Attachment #1: Type: text/plain, Size: 2912 bytes --]
Test-Label: iol-testing
Test-Status: SUCCESS
http://dpdk.org/patch/65757
_Testing PASS_
Submitter: Joyce Kong <joyce.kong@arm.com>
Date: Wednesday, February 12 2020 09:24:55
DPDK git baseline: Repo:dpdk
Branch: master
CommitID:43e34a229d3e575eb5ed075091afef0e5bf60a77
65757-65758 --> testing pass
Test environment and result as below:
+---------------------+--------------------+-------------------+--------------+----------------+------------------+
| Environment | dpdk_meson_compile | dpdk_compile_spdk | dpdk_compile | dpdk_unit_test | dpdk_compile_ovs |
+=====================+====================+===================+==============+================+==================+
| Windows Server 2019 | PASS | SKIPPED | SKIPPED | SKIPPED | SKIPPED |
+---------------------+--------------------+-------------------+--------------+----------------+------------------+
| Fedora 31 | PASS | PASS | PASS | SKIPPED | PASS |
+---------------------+--------------------+-------------------+--------------+----------------+------------------+
| openSUSE Leap 15 | PASS | SKIPPED | PASS | SKIPPED | PASS |
+---------------------+--------------------+-------------------+--------------+----------------+------------------+
| Ubuntu 18.04 | PASS | PASS | PASS | PASS | PASS |
+---------------------+--------------------+-------------------+--------------+----------------+------------------+
| CentOS 8 | PASS | PASS | PASS | SKIPPED | PASS |
+---------------------+--------------------+-------------------+--------------+----------------+------------------+
| FreeBSD 11.2 | PASS | PASS | PASS | SKIPPED | SKIPPED |
+---------------------+--------------------+-------------------+--------------+----------------+------------------+
| Arch Linux | PASS | SKIPPED | PASS | SKIPPED | PASS |
+---------------------+--------------------+-------------------+--------------+----------------+------------------+
Windows Server 2019
Kernel: 10.0
Compiler: clang 9.0
Fedora 31
Kernel: 5.3.16
Compiler: gcc 9.2.1
openSUSE Leap 15
Kernel: 4.12.14
Compiler: gcc 7.4.1
Ubuntu 18.04
Kernel: 4.15.0-generic
Compiler: gcc 7.4
CentOS 8
Kernel: 4.18.0.el8_0
Compiler: gcc 8.3.1
FreeBSD 11.2
Kernel: 11.2
Compiler: gcc 8.3
Arch Linux
Kernel: latest
Compiler: gcc latest
To view detailed results, visit:
https://lab.dpdk.org/results/dashboard/patchsets/9578/
UNH-IOL DPDK Community Lab
To manage your email subscriptions, visit:
https://lab.dpdk.org/results/dashboard/preferences/subscriptions/
^ permalink raw reply [flat|nested] 2+ messages in thread
end of thread, other threads:[~2020-02-12 21:25 UTC | newest]
Thread overview: 2+ messages (download: mbox.gz / follow: Atom feed)
-- links below jump to the message on this page --
2020-02-12 21:25 [dpdk-test-report] |SUCCESS| pw65757-65758 [PATCH] [v1, 1/2] virtio: one way barrier for split vring used idx dpdklab
-- strict thread matches above, loose matches on Subject: below --
2020-02-12 17:57 dpdklab
This is a public inbox, see mirroring instructions
for how to clone and mirror all data and code used for this inbox;
as well as URLs for NNTP newsgroup(s).