* [dpdk-test-report] |SUCCESS| pw65825 [PATCH] net/octeontx: meson build fix if octeontx drivers are disabled
[not found] <1581925669-15294-1-git-send-email-agupta3@marvell.com>
@ 2020-02-17 7:49 ` checkpatch
2020-02-17 14:03 ` [dpdk-test-report] |WARNING| pw65825 " 0-day Robot
1 sibling, 0 replies; 4+ messages in thread
From: checkpatch @ 2020-02-17 7:49 UTC (permalink / raw)
To: test-report
Test-Label: checkpatch
Test-Status: SUCCESS
http://dpdk.org/patch/65825
_coding style OK_
^ permalink raw reply [flat|nested] 4+ messages in thread
* [dpdk-test-report] |WARNING| pw65825 net/octeontx: meson build fix if octeontx drivers are disabled
[not found] <1581925669-15294-1-git-send-email-agupta3@marvell.com>
2020-02-17 7:49 ` [dpdk-test-report] |SUCCESS| pw65825 [PATCH] net/octeontx: meson build fix if octeontx drivers are disabled checkpatch
@ 2020-02-17 14:03 ` 0-day Robot
1 sibling, 0 replies; 4+ messages in thread
From: 0-day Robot @ 2020-02-17 14:03 UTC (permalink / raw)
To: test-report; +Cc: agupta3, robot
From: robot@bytheb.org
Test-Label: travis-robot
Test-Status: WARNING
http://dpdk.org/patch/65825
_Travis build: failed_
Build URL: https://travis-ci.com/ovsrobot/dpdk/builds/149237207
^ permalink raw reply [flat|nested] 4+ messages in thread
* [dpdk-test-report] |SUCCESS| pw65825 [PATCH] net/octeontx: meson build fix if octeontx drivers are disabled
@ 2020-02-17 8:56 dpdklab
0 siblings, 0 replies; 4+ messages in thread
From: dpdklab @ 2020-02-17 8:56 UTC (permalink / raw)
To: Ali Alnubani, Test Report; +Cc: dpdk-test-reports
[-- Attachment #1: Type: text/plain, Size: 3959 bytes --]
Test-Label: iol-mellanox-Performance
Test-Status: SUCCESS
http://dpdk.org/patch/65825
_Performance Testing PASS_
Submitter: Amit Gupta <agupta3@marvell.com>
Date: Monday, February 17 2020 07:47:49
DPDK git baseline: Repo:dpdk
Branch: master
CommitID:914397d6c1141235b48ca60249221976e9e08feb
65825 --> performance testing pass
Test environment and result as below:
Ubuntu 18.04
Kernel: 4.15.0-generic
Compiler: gcc 7.4
NIC: Mellanox ConnectX-4 Lx 25000 Mbps
Target: x86_64-native-linuxapp-gcc
Fail/Total: 0/6
Detail performance results:
+------------+---------+-------------------------------------+
| frame_size | txd/rxd | throughput difference from expected |
+============+=========+=====================================+
| 64 | 256 | 0.418 |
+------------+---------+-------------------------------------+
| 128 | 256 | -0.029 |
+------------+---------+-------------------------------------+
| 256 | 256 | -0.092 |
+------------+---------+-------------------------------------+
| 512 | 256 | -0.016 |
+------------+---------+-------------------------------------+
| 1024 | 256 | -0.001 |
+------------+---------+-------------------------------------+
| 1518 | 256 | 0.007 |
+------------+---------+-------------------------------------+
Ubuntu 18.04
Kernel: 4.15.0-generic
Compiler: gcc 7.4
NIC: Mellanox ConnectX-5 100000 Mbps
Target: x86_64-native-linuxapp-gcc
Fail/Total: 0/6
Detail performance results:
+------------+---------+-------------------------------------+
| frame_size | txd/rxd | throughput difference from expected |
+============+=========+=====================================+
| 64 | 256 | -0.075 |
+------------+---------+-------------------------------------+
| 128 | 256 | 0.186 |
+------------+---------+-------------------------------------+
| 256 | 256 | 0.013 |
+------------+---------+-------------------------------------+
| 512 | 256 | -0.059 |
+------------+---------+-------------------------------------+
| 1024 | 256 | -0.021 |
+------------+---------+-------------------------------------+
| 1518 | 256 | -0.021 |
+------------+---------+-------------------------------------+
Ubuntu 18.04
Kernel: 4.15.0-generic
Compiler: gcc 7.4
NIC: Mellanox ConnectX-4 Lx 40000 Mbps
Target: x86_64-native-linuxapp-gcc
Fail/Total: 0/6
Detail performance results:
+------------+---------+-------------------------------------+
| frame_size | txd/rxd | throughput difference from expected |
+============+=========+=====================================+
| 64 | 256 | -0.092 |
+------------+---------+-------------------------------------+
| 128 | 256 | -0.084 |
+------------+---------+-------------------------------------+
| 256 | 256 | -0.090 |
+------------+---------+-------------------------------------+
| 512 | 256 | -0.002 |
+------------+---------+-------------------------------------+
| 1024 | 256 | -0.003 |
+------------+---------+-------------------------------------+
| 1518 | 256 | -0.017 |
+------------+---------+-------------------------------------+
To view detailed results, visit:
https://lab.dpdk.org/results/dashboard/patchsets/9619/
UNH-IOL DPDK Community Lab
To manage your email subscriptions, visit:
https://lab.dpdk.org/results/dashboard/preferences/subscriptions/
^ permalink raw reply [flat|nested] 4+ messages in thread
* [dpdk-test-report] |SUCCESS| pw65825 [PATCH] net/octeontx: meson build fix if octeontx drivers are disabled
@ 2020-02-17 8:50 dpdklab
0 siblings, 0 replies; 4+ messages in thread
From: dpdklab @ 2020-02-17 8:50 UTC (permalink / raw)
To: Test Report; +Cc: dpdk-test-reports
[-- Attachment #1: Type: text/plain, Size: 2904 bytes --]
Test-Label: iol-testing
Test-Status: SUCCESS
http://dpdk.org/patch/65825
_Testing PASS_
Submitter: Amit Gupta <agupta3@marvell.com>
Date: Monday, February 17 2020 07:47:49
DPDK git baseline: Repo:dpdk
Branch: master
CommitID:914397d6c1141235b48ca60249221976e9e08feb
65825 --> testing pass
Test environment and result as below:
+---------------------+--------------------+-------------------+------------------+--------------+----------------+
| Environment | dpdk_meson_compile | dpdk_compile_spdk | dpdk_compile_ovs | dpdk_compile | dpdk_unit_test |
+=====================+====================+===================+==================+==============+================+
| Windows Server 2019 | PASS | SKIPPED | SKIPPED | SKIPPED | SKIPPED |
+---------------------+--------------------+-------------------+------------------+--------------+----------------+
| Fedora 31 | PASS | PASS | PASS | PASS | SKIPPED |
+---------------------+--------------------+-------------------+------------------+--------------+----------------+
| Ubuntu 18.04 | PASS | PASS | PASS | PASS | PASS |
+---------------------+--------------------+-------------------+------------------+--------------+----------------+
| CentOS 8 | PASS | PASS | PASS | PASS | SKIPPED |
+---------------------+--------------------+-------------------+------------------+--------------+----------------+
| openSUSE Leap 15 | PASS | PASS | PASS | PASS | SKIPPED |
+---------------------+--------------------+-------------------+------------------+--------------+----------------+
| FreeBSD 11.2 | PASS | PASS | SKIPPED | PASS | SKIPPED |
+---------------------+--------------------+-------------------+------------------+--------------+----------------+
| Arch Linux | PASS | SKIPPED | PASS | PASS | SKIPPED |
+---------------------+--------------------+-------------------+------------------+--------------+----------------+
Windows Server 2019
Kernel: 10.0
Compiler: clang 9.0
Fedora 31
Kernel: 5.3.16
Compiler: gcc 9.2.1
Ubuntu 18.04
Kernel: 4.15.0-generic
Compiler: gcc 7.4
CentOS 8
Kernel: 4.18.0.el8_0
Compiler: gcc 8.3.1
openSUSE Leap 15
Kernel: 4.12.14
Compiler: gcc 7.4.1
FreeBSD 11.2
Kernel: 11.2
Compiler: gcc 8.3
Arch Linux
Kernel: latest
Compiler: gcc latest
To view detailed results, visit:
https://lab.dpdk.org/results/dashboard/patchsets/9619/
UNH-IOL DPDK Community Lab
To manage your email subscriptions, visit:
https://lab.dpdk.org/results/dashboard/preferences/subscriptions/
^ permalink raw reply [flat|nested] 4+ messages in thread
end of thread, other threads:[~2020-02-17 14:05 UTC | newest]
Thread overview: 4+ messages (download: mbox.gz / follow: Atom feed)
-- links below jump to the message on this page --
[not found] <1581925669-15294-1-git-send-email-agupta3@marvell.com>
2020-02-17 7:49 ` [dpdk-test-report] |SUCCESS| pw65825 [PATCH] net/octeontx: meson build fix if octeontx drivers are disabled checkpatch
2020-02-17 14:03 ` [dpdk-test-report] |WARNING| pw65825 " 0-day Robot
2020-02-17 8:56 [dpdk-test-report] |SUCCESS| pw65825 [PATCH] " dpdklab
-- strict thread matches above, loose matches on Subject: below --
2020-02-17 8:50 dpdklab
This is a public inbox, see mirroring instructions
for how to clone and mirror all data and code used for this inbox;
as well as URLs for NNTP newsgroup(s).