* [dpdk-test-report] |SUCCESS| pw65833 [PATCH] net/mlx5: fix the hairpin queue capacity
[not found] <1581946301-457865-1-git-send-email-bingz@mellanox.com>
@ 2020-02-17 13:33 ` checkpatch
2020-02-17 23:04 ` [dpdk-test-report] |WARNING| pw65833 " 0-day Robot
1 sibling, 0 replies; 4+ messages in thread
From: checkpatch @ 2020-02-17 13:33 UTC (permalink / raw)
To: test-report
Test-Label: checkpatch
Test-Status: SUCCESS
http://dpdk.org/patch/65833
_coding style OK_
^ permalink raw reply [flat|nested] 4+ messages in thread
* [dpdk-test-report] |WARNING| pw65833 net/mlx5: fix the hairpin queue capacity
[not found] <1581946301-457865-1-git-send-email-bingz@mellanox.com>
2020-02-17 13:33 ` [dpdk-test-report] |SUCCESS| pw65833 [PATCH] net/mlx5: fix the hairpin queue capacity checkpatch
@ 2020-02-17 23:04 ` 0-day Robot
1 sibling, 0 replies; 4+ messages in thread
From: 0-day Robot @ 2020-02-17 23:04 UTC (permalink / raw)
To: test-report; +Cc: bingz, robot
From: robot@bytheb.org
Test-Label: travis-robot
Test-Status: WARNING
http://dpdk.org/patch/65833
_Travis build: failed_
Build URL: https://travis-ci.com/ovsrobot/dpdk/builds/149284084
^ permalink raw reply [flat|nested] 4+ messages in thread
* [dpdk-test-report] |SUCCESS| pw65833 [PATCH] net/mlx5: fix the hairpin queue capacity
@ 2020-02-17 22:19 dpdklab
0 siblings, 0 replies; 4+ messages in thread
From: dpdklab @ 2020-02-17 22:19 UTC (permalink / raw)
To: Ali Alnubani, Test Report; +Cc: dpdk-test-reports
[-- Attachment #1: Type: text/plain, Size: 3957 bytes --]
Test-Label: iol-mellanox-Performance
Test-Status: SUCCESS
http://dpdk.org/patch/65833
_Performance Testing PASS_
Submitter: Bing Zhao <bingz@mellanox.com>
Date: Monday, February 17 2020 13:31:41
DPDK git baseline: Repo:dpdk
Branch: master
CommitID:914397d6c1141235b48ca60249221976e9e08feb
65833 --> performance testing pass
Test environment and result as below:
Ubuntu 18.04
Kernel: 4.15.0-generic
Compiler: gcc 7.4
NIC: Mellanox ConnectX-4 Lx 40000 Mbps
Target: x86_64-native-linuxapp-gcc
Fail/Total: 0/6
Detail performance results:
+------------+---------+-------------------------------------+
| frame_size | txd/rxd | throughput difference from expected |
+============+=========+=====================================+
| 64 | 256 | -0.233 |
+------------+---------+-------------------------------------+
| 128 | 256 | -0.043 |
+------------+---------+-------------------------------------+
| 256 | 256 | -0.007 |
+------------+---------+-------------------------------------+
| 512 | 256 | 0.006 |
+------------+---------+-------------------------------------+
| 1024 | 256 | -0.004 |
+------------+---------+-------------------------------------+
| 1518 | 256 | -0.003 |
+------------+---------+-------------------------------------+
Ubuntu 18.04
Kernel: 4.15.0-generic
Compiler: gcc 7.4
NIC: Mellanox ConnectX-4 Lx 25000 Mbps
Target: x86_64-native-linuxapp-gcc
Fail/Total: 0/6
Detail performance results:
+------------+---------+-------------------------------------+
| frame_size | txd/rxd | throughput difference from expected |
+============+=========+=====================================+
| 64 | 256 | 0.042 |
+------------+---------+-------------------------------------+
| 128 | 256 | -0.071 |
+------------+---------+-------------------------------------+
| 256 | 256 | 0.062 |
+------------+---------+-------------------------------------+
| 512 | 256 | 0.015 |
+------------+---------+-------------------------------------+
| 1024 | 256 | 0.006 |
+------------+---------+-------------------------------------+
| 1518 | 256 | 0.014 |
+------------+---------+-------------------------------------+
Ubuntu 18.04
Kernel: 4.15.0-generic
Compiler: gcc 7.4
NIC: Mellanox ConnectX-5 100000 Mbps
Target: x86_64-native-linuxapp-gcc
Fail/Total: 0/6
Detail performance results:
+------------+---------+-------------------------------------+
| frame_size | txd/rxd | throughput difference from expected |
+============+=========+=====================================+
| 64 | 256 | -0.580 |
+------------+---------+-------------------------------------+
| 128 | 256 | -0.168 |
+------------+---------+-------------------------------------+
| 256 | 256 | -0.016 |
+------------+---------+-------------------------------------+
| 512 | 256 | -0.013 |
+------------+---------+-------------------------------------+
| 1024 | 256 | -0.049 |
+------------+---------+-------------------------------------+
| 1518 | 256 | -0.027 |
+------------+---------+-------------------------------------+
To view detailed results, visit:
https://lab.dpdk.org/results/dashboard/patchsets/9625/
UNH-IOL DPDK Community Lab
To manage your email subscriptions, visit:
https://lab.dpdk.org/results/dashboard/preferences/subscriptions/
^ permalink raw reply [flat|nested] 4+ messages in thread
* [dpdk-test-report] |SUCCESS| pw65833 [PATCH] net/mlx5: fix the hairpin queue capacity
@ 2020-02-17 21:59 dpdklab
0 siblings, 0 replies; 4+ messages in thread
From: dpdklab @ 2020-02-17 21:59 UTC (permalink / raw)
To: Test Report; +Cc: dpdk-test-reports
[-- Attachment #1: Type: text/plain, Size: 2902 bytes --]
Test-Label: iol-testing
Test-Status: SUCCESS
http://dpdk.org/patch/65833
_Testing PASS_
Submitter: Bing Zhao <bingz@mellanox.com>
Date: Monday, February 17 2020 13:31:41
DPDK git baseline: Repo:dpdk
Branch: master
CommitID:914397d6c1141235b48ca60249221976e9e08feb
65833 --> testing pass
Test environment and result as below:
+---------------------+--------------------+-------------------+------------------+--------------+----------------+
| Environment | dpdk_meson_compile | dpdk_compile_spdk | dpdk_compile_ovs | dpdk_compile | dpdk_unit_test |
+=====================+====================+===================+==================+==============+================+
| Windows Server 2019 | PASS | SKIPPED | SKIPPED | SKIPPED | SKIPPED |
+---------------------+--------------------+-------------------+------------------+--------------+----------------+
| Fedora 31 | PASS | PASS | PASS | PASS | SKIPPED |
+---------------------+--------------------+-------------------+------------------+--------------+----------------+
| openSUSE Leap 15 | PASS | PASS | PASS | PASS | SKIPPED |
+---------------------+--------------------+-------------------+------------------+--------------+----------------+
| Ubuntu 18.04 | PASS | PASS | PASS | PASS | PASS |
+---------------------+--------------------+-------------------+------------------+--------------+----------------+
| CentOS 8 | PASS | PASS | PASS | PASS | SKIPPED |
+---------------------+--------------------+-------------------+------------------+--------------+----------------+
| FreeBSD 11.2 | PASS | PASS | SKIPPED | PASS | SKIPPED |
+---------------------+--------------------+-------------------+------------------+--------------+----------------+
| Arch Linux | PASS | SKIPPED | PASS | PASS | SKIPPED |
+---------------------+--------------------+-------------------+------------------+--------------+----------------+
Windows Server 2019
Kernel: 10.0
Compiler: clang 9.0
Fedora 31
Kernel: 5.3.16
Compiler: gcc 9.2.1
openSUSE Leap 15
Kernel: 4.12.14
Compiler: gcc 7.4.1
Ubuntu 18.04
Kernel: 4.15.0-generic
Compiler: gcc 7.4
CentOS 8
Kernel: 4.18.0.el8_0
Compiler: gcc 8.3.1
FreeBSD 11.2
Kernel: 11.2
Compiler: gcc 8.3
Arch Linux
Kernel: latest
Compiler: gcc latest
To view detailed results, visit:
https://lab.dpdk.org/results/dashboard/patchsets/9625/
UNH-IOL DPDK Community Lab
To manage your email subscriptions, visit:
https://lab.dpdk.org/results/dashboard/preferences/subscriptions/
^ permalink raw reply [flat|nested] 4+ messages in thread
end of thread, other threads:[~2020-02-17 23:05 UTC | newest]
Thread overview: 4+ messages (download: mbox.gz / follow: Atom feed)
-- links below jump to the message on this page --
[not found] <1581946301-457865-1-git-send-email-bingz@mellanox.com>
2020-02-17 13:33 ` [dpdk-test-report] |SUCCESS| pw65833 [PATCH] net/mlx5: fix the hairpin queue capacity checkpatch
2020-02-17 23:04 ` [dpdk-test-report] |WARNING| pw65833 " 0-day Robot
2020-02-17 22:19 [dpdk-test-report] |SUCCESS| pw65833 [PATCH] " dpdklab
-- strict thread matches above, loose matches on Subject: below --
2020-02-17 21:59 dpdklab
This is a public inbox, see mirroring instructions
for how to clone and mirror all data and code used for this inbox;
as well as URLs for NNTP newsgroup(s).