* [dpdk-test-report] |SUCCESS| pw65976 [PATCH] cryptodev: fix missing device id range checking
@ 2020-02-20 18:44 dpdklab
0 siblings, 0 replies; 3+ messages in thread
From: dpdklab @ 2020-02-20 18:44 UTC (permalink / raw)
To: Ali Alnubani, Test Report; +Cc: dpdk-test-reports
[-- Attachment #1: Type: text/plain, Size: 3971 bytes --]
Test-Label: iol-mellanox-Performance
Test-Status: SUCCESS
http://dpdk.org/patch/65976
_Performance Testing PASS_
Submitter: Adam Dybkowski <adamx.dybkowski@intel.com>
Date: Thursday, February 20 2020 15:04:15
DPDK git baseline: Repo:dpdk
Branch: master
CommitID:e6c78e736d776ba15aa040f5d6a29e43a9147c0b
65976 --> performance testing pass
Test environment and result as below:
Ubuntu 18.04
Kernel: 4.15.0-generic
Compiler: gcc 7.4
NIC: Mellanox ConnectX-4 Lx 25000 Mbps
Target: x86_64-native-linuxapp-gcc
Fail/Total: 0/6
Detail performance results:
+------------+---------+-------------------------------------+
| frame_size | txd/rxd | throughput difference from expected |
+============+=========+=====================================+
| 64 | 256 | -0.025 |
+------------+---------+-------------------------------------+
| 128 | 256 | 0.060 |
+------------+---------+-------------------------------------+
| 256 | 256 | 0.137 |
+------------+---------+-------------------------------------+
| 512 | 256 | -0.059 |
+------------+---------+-------------------------------------+
| 1024 | 256 | 0 |
+------------+---------+-------------------------------------+
| 1518 | 256 | 0.009 |
+------------+---------+-------------------------------------+
Ubuntu 18.04
Kernel: 4.15.0-generic
Compiler: gcc 7.4
NIC: Mellanox ConnectX-4 Lx 40000 Mbps
Target: x86_64-native-linuxapp-gcc
Fail/Total: 0/6
Detail performance results:
+------------+---------+-------------------------------------+
| frame_size | txd/rxd | throughput difference from expected |
+============+=========+=====================================+
| 64 | 256 | 0.310 |
+------------+---------+-------------------------------------+
| 128 | 256 | 0.124 |
+------------+---------+-------------------------------------+
| 256 | 256 | -0.038 |
+------------+---------+-------------------------------------+
| 512 | 256 | -0.019 |
+------------+---------+-------------------------------------+
| 1024 | 256 | 0.005 |
+------------+---------+-------------------------------------+
| 1518 | 256 | 0.004 |
+------------+---------+-------------------------------------+
Ubuntu 18.04
Kernel: 4.15.0-generic
Compiler: gcc 7.4
NIC: Mellanox ConnectX-5 100000 Mbps
Target: x86_64-native-linuxapp-gcc
Fail/Total: 0/6
Detail performance results:
+------------+---------+-------------------------------------+
| frame_size | txd/rxd | throughput difference from expected |
+============+=========+=====================================+
| 64 | 256 | -0.280 |
+------------+---------+-------------------------------------+
| 128 | 256 | -0.078 |
+------------+---------+-------------------------------------+
| 256 | 256 | -0.033 |
+------------+---------+-------------------------------------+
| 512 | 256 | -0.161 |
+------------+---------+-------------------------------------+
| 1024 | 256 | -0.004 |
+------------+---------+-------------------------------------+
| 1518 | 256 | -0.027 |
+------------+---------+-------------------------------------+
To view detailed results, visit:
https://lab.dpdk.org/results/dashboard/patchsets/9703/
UNH-IOL DPDK Community Lab
To manage your email subscriptions, visit:
https://lab.dpdk.org/results/dashboard/preferences/subscriptions/
^ permalink raw reply [flat|nested] 3+ messages in thread
* [dpdk-test-report] |SUCCESS| pw65976 [PATCH] cryptodev: fix missing device id range checking
@ 2020-02-20 18:05 dpdklab
0 siblings, 0 replies; 3+ messages in thread
From: dpdklab @ 2020-02-20 18:05 UTC (permalink / raw)
To: Test Report; +Cc: dpdk-test-reports
[-- Attachment #1: Type: text/plain, Size: 2916 bytes --]
Test-Label: iol-testing
Test-Status: SUCCESS
http://dpdk.org/patch/65976
_Testing PASS_
Submitter: Adam Dybkowski <adamx.dybkowski@intel.com>
Date: Thursday, February 20 2020 15:04:15
DPDK git baseline: Repo:dpdk
Branch: master
CommitID:e6c78e736d776ba15aa040f5d6a29e43a9147c0b
65976 --> testing pass
Test environment and result as below:
+---------------------+--------------------+--------------+------------------+----------------+-------------------+
| Environment | dpdk_meson_compile | dpdk_compile | dpdk_compile_ovs | dpdk_unit_test | dpdk_compile_spdk |
+=====================+====================+==============+==================+================+===================+
| Windows Server 2019 | PASS | SKIPPED | SKIPPED | SKIPPED | SKIPPED |
+---------------------+--------------------+--------------+------------------+----------------+-------------------+
| CentOS 8 | PASS | PASS | PASS | SKIPPED | PASS |
+---------------------+--------------------+--------------+------------------+----------------+-------------------+
| Ubuntu 18.04 | PASS | PASS | PASS | PASS | PASS |
+---------------------+--------------------+--------------+------------------+----------------+-------------------+
| Fedora 31 | PASS | PASS | PASS | SKIPPED | PASS |
+---------------------+--------------------+--------------+------------------+----------------+-------------------+
| FreeBSD 11.2 | PASS | PASS | SKIPPED | SKIPPED | PASS |
+---------------------+--------------------+--------------+------------------+----------------+-------------------+
| openSUSE Leap 15 | PASS | PASS | PASS | SKIPPED | PASS |
+---------------------+--------------------+--------------+------------------+----------------+-------------------+
| Arch Linux | PASS | PASS | PASS | SKIPPED | SKIPPED |
+---------------------+--------------------+--------------+------------------+----------------+-------------------+
Windows Server 2019
Kernel: 10.0
Compiler: clang 9.0
CentOS 8
Kernel: 4.18.0.el8_0
Compiler: gcc 8.3.1
Ubuntu 18.04
Kernel: 4.15.0-generic
Compiler: gcc 7.4
Fedora 31
Kernel: 5.3.16
Compiler: gcc 9.2.1
FreeBSD 11.2
Kernel: 11.2
Compiler: gcc 8.3
openSUSE Leap 15
Kernel: 4.12.14
Compiler: gcc 7.4.1
Arch Linux
Kernel: latest
Compiler: gcc latest
To view detailed results, visit:
https://lab.dpdk.org/results/dashboard/patchsets/9703/
UNH-IOL DPDK Community Lab
To manage your email subscriptions, visit:
https://lab.dpdk.org/results/dashboard/preferences/subscriptions/
^ permalink raw reply [flat|nested] 3+ messages in thread
* [dpdk-test-report] |SUCCESS| pw65976 [PATCH] cryptodev: fix missing device id range checking
[not found] <20200220150415.32091-1-adamx.dybkowski@intel.com>
@ 2020-02-20 15:12 ` checkpatch
0 siblings, 0 replies; 3+ messages in thread
From: checkpatch @ 2020-02-20 15:12 UTC (permalink / raw)
To: test-report
Test-Label: checkpatch
Test-Status: SUCCESS
http://dpdk.org/patch/65976
_coding style OK_
^ permalink raw reply [flat|nested] 3+ messages in thread
end of thread, other threads:[~2020-02-20 18:44 UTC | newest]
Thread overview: 3+ messages (download: mbox.gz / follow: Atom feed)
-- links below jump to the message on this page --
2020-02-20 18:44 [dpdk-test-report] |SUCCESS| pw65976 [PATCH] cryptodev: fix missing device id range checking dpdklab
-- strict thread matches above, loose matches on Subject: below --
2020-02-20 18:05 dpdklab
[not found] <20200220150415.32091-1-adamx.dybkowski@intel.com>
2020-02-20 15:12 ` checkpatch
This is a public inbox, see mirroring instructions
for how to clone and mirror all data and code used for this inbox;
as well as URLs for NNTP newsgroup(s).