* [dpdk-test-report] |SUCCESS| pw65989 [PATCH] doc: fix naming of Mellanox devices
[not found] <20200221145927.345130-1-thomas@monjalon.net>
@ 2020-02-21 15:01 ` checkpatch
2020-03-03 17:40 ` [dpdk-test-report] |SUCCESS| pw65989 " 0-day Robot
1 sibling, 0 replies; 4+ messages in thread
From: checkpatch @ 2020-02-21 15:01 UTC (permalink / raw)
To: test-report
Test-Label: checkpatch
Test-Status: SUCCESS
http://dpdk.org/patch/65989
_coding style OK_
^ permalink raw reply [flat|nested] 4+ messages in thread
* [dpdk-test-report] |SUCCESS| pw65989 doc: fix naming of Mellanox devices
[not found] <20200221145927.345130-1-thomas@monjalon.net>
2020-02-21 15:01 ` [dpdk-test-report] |SUCCESS| pw65989 [PATCH] doc: fix naming of Mellanox devices checkpatch
@ 2020-03-03 17:40 ` 0-day Robot
1 sibling, 0 replies; 4+ messages in thread
From: 0-day Robot @ 2020-03-03 17:40 UTC (permalink / raw)
To: test-report; +Cc: robot
From: robot@bytheb.org
Test-Label: travis-robot
Test-Status: SUCCESS
http://dpdk.org/patch/65989
_Travis build: passed_
Build URL: https://travis-ci.com/ovsrobot/dpdk/builds/150048537
^ permalink raw reply [flat|nested] 4+ messages in thread
* [dpdk-test-report] |SUCCESS| pw65989 [PATCH] doc: fix naming of Mellanox devices
@ 2020-02-21 16:49 dpdklab
0 siblings, 0 replies; 4+ messages in thread
From: dpdklab @ 2020-02-21 16:49 UTC (permalink / raw)
To: Ali Alnubani, Test Report; +Cc: dpdk-test-reports
[-- Attachment #1: Type: text/plain, Size: 3964 bytes --]
Test-Label: iol-mellanox-Performance
Test-Status: SUCCESS
http://dpdk.org/patch/65989
_Performance Testing PASS_
Submitter: Thomas Monjalon <thomas@monjalon.net>
Date: Friday, February 21 2020 14:59:27
DPDK git baseline: Repo:dpdk
Branch: master
CommitID:0e157d7a9a0d36d88da9315d018262492b0a64aa
65989 --> performance testing pass
Test environment and result as below:
Ubuntu 18.04
Kernel: 4.15.0-generic
Compiler: gcc 7.4
NIC: Mellanox ConnectX-5 100000 Mbps
Target: x86_64-native-linuxapp-gcc
Fail/Total: 0/6
Detail performance results:
+------------+---------+-------------------------------------+
| frame_size | txd/rxd | throughput difference from expected |
+============+=========+=====================================+
| 64 | 256 | -0.031 |
+------------+---------+-------------------------------------+
| 128 | 256 | 0.130 |
+------------+---------+-------------------------------------+
| 256 | 256 | -0.074 |
+------------+---------+-------------------------------------+
| 512 | 256 | -0.206 |
+------------+---------+-------------------------------------+
| 1024 | 256 | 0.026 |
+------------+---------+-------------------------------------+
| 1518 | 256 | 0.018 |
+------------+---------+-------------------------------------+
Ubuntu 18.04
Kernel: 4.15.0-generic
Compiler: gcc 7.4
NIC: Mellanox ConnectX-4 Lx 40000 Mbps
Target: x86_64-native-linuxapp-gcc
Fail/Total: 0/6
Detail performance results:
+------------+---------+-------------------------------------+
| frame_size | txd/rxd | throughput difference from expected |
+============+=========+=====================================+
| 64 | 256 | -0.174 |
+------------+---------+-------------------------------------+
| 128 | 256 | 0.166 |
+------------+---------+-------------------------------------+
| 256 | 256 | -0.024 |
+------------+---------+-------------------------------------+
| 512 | 256 | 0 |
+------------+---------+-------------------------------------+
| 1024 | 256 | -0.002 |
+------------+---------+-------------------------------------+
| 1518 | 256 | -0.008 |
+------------+---------+-------------------------------------+
Ubuntu 18.04
Kernel: 4.15.0-generic
Compiler: gcc 7.4
NIC: Mellanox ConnectX-4 Lx 25000 Mbps
Target: x86_64-native-linuxapp-gcc
Fail/Total: 0/6
Detail performance results:
+------------+---------+-------------------------------------+
| frame_size | txd/rxd | throughput difference from expected |
+============+=========+=====================================+
| 64 | 256 | -0.673 |
+------------+---------+-------------------------------------+
| 128 | 256 | -0.038 |
+------------+---------+-------------------------------------+
| 256 | 256 | 0.005 |
+------------+---------+-------------------------------------+
| 512 | 256 | -0.022 |
+------------+---------+-------------------------------------+
| 1024 | 256 | -0.015 |
+------------+---------+-------------------------------------+
| 1518 | 256 | 0 |
+------------+---------+-------------------------------------+
To view detailed results, visit:
https://lab.dpdk.org/results/dashboard/patchsets/9713/
UNH-IOL DPDK Community Lab
To manage your email subscriptions, visit:
https://lab.dpdk.org/results/dashboard/preferences/subscriptions/
^ permalink raw reply [flat|nested] 4+ messages in thread
* [dpdk-test-report] |SUCCESS| pw65989 [PATCH] doc: fix naming of Mellanox devices
@ 2020-02-21 16:35 dpdklab
0 siblings, 0 replies; 4+ messages in thread
From: dpdklab @ 2020-02-21 16:35 UTC (permalink / raw)
To: Test Report; +Cc: dpdk-test-reports
[-- Attachment #1: Type: text/plain, Size: 2909 bytes --]
Test-Label: iol-testing
Test-Status: SUCCESS
http://dpdk.org/patch/65989
_Testing PASS_
Submitter: Thomas Monjalon <thomas@monjalon.net>
Date: Friday, February 21 2020 14:59:27
DPDK git baseline: Repo:dpdk
Branch: master
CommitID:0e157d7a9a0d36d88da9315d018262492b0a64aa
65989 --> testing pass
Test environment and result as below:
+---------------------+--------------------+-------------------+------------------+--------------+----------------+
| Environment | dpdk_meson_compile | dpdk_compile_spdk | dpdk_compile_ovs | dpdk_compile | dpdk_unit_test |
+=====================+====================+===================+==================+==============+================+
| Windows Server 2019 | PASS | SKIPPED | SKIPPED | SKIPPED | SKIPPED |
+---------------------+--------------------+-------------------+------------------+--------------+----------------+
| Fedora 31 | PASS | PASS | PASS | PASS | SKIPPED |
+---------------------+--------------------+-------------------+------------------+--------------+----------------+
| Ubuntu 18.04 | PASS | PASS | PASS | PASS | PASS |
+---------------------+--------------------+-------------------+------------------+--------------+----------------+
| CentOS 8 | PASS | PASS | PASS | PASS | SKIPPED |
+---------------------+--------------------+-------------------+------------------+--------------+----------------+
| openSUSE Leap 15 | PASS | PASS | PASS | PASS | SKIPPED |
+---------------------+--------------------+-------------------+------------------+--------------+----------------+
| FreeBSD 11.2 | PASS | PASS | SKIPPED | PASS | SKIPPED |
+---------------------+--------------------+-------------------+------------------+--------------+----------------+
| Arch Linux | PASS | SKIPPED | PASS | PASS | SKIPPED |
+---------------------+--------------------+-------------------+------------------+--------------+----------------+
Windows Server 2019
Kernel: 10.0
Compiler: clang 9.0
Fedora 31
Kernel: 5.3.16
Compiler: gcc 9.2.1
Ubuntu 18.04
Kernel: 4.15.0-generic
Compiler: gcc 7.4
CentOS 8
Kernel: 4.18.0.el8_0
Compiler: gcc 8.3.1
openSUSE Leap 15
Kernel: 4.12.14
Compiler: gcc 7.4.1
FreeBSD 11.2
Kernel: 11.2
Compiler: gcc 8.3
Arch Linux
Kernel: latest
Compiler: gcc latest
To view detailed results, visit:
https://lab.dpdk.org/results/dashboard/patchsets/9713/
UNH-IOL DPDK Community Lab
To manage your email subscriptions, visit:
https://lab.dpdk.org/results/dashboard/preferences/subscriptions/
^ permalink raw reply [flat|nested] 4+ messages in thread
end of thread, other threads:[~2020-03-03 17:42 UTC | newest]
Thread overview: 4+ messages (download: mbox.gz / follow: Atom feed)
-- links below jump to the message on this page --
[not found] <20200221145927.345130-1-thomas@monjalon.net>
2020-02-21 15:01 ` [dpdk-test-report] |SUCCESS| pw65989 [PATCH] doc: fix naming of Mellanox devices checkpatch
2020-03-03 17:40 ` [dpdk-test-report] |SUCCESS| pw65989 " 0-day Robot
2020-02-21 16:35 [dpdk-test-report] |SUCCESS| pw65989 [PATCH] " dpdklab
2020-02-21 16:49 dpdklab
This is a public inbox, see mirroring instructions
for how to clone and mirror all data and code used for this inbox;
as well as URLs for NNTP newsgroup(s).