* [dpdk-test-report] |SUCCESS| pw66213 [PATCH] net/mlx5: support match on IPv4 TTL and IPv6 HLIM
@ 2020-03-03 14:38 dpdklab
0 siblings, 0 replies; 5+ messages in thread
From: dpdklab @ 2020-03-03 14:38 UTC (permalink / raw)
To: Ali Alnubani, Test Report; +Cc: dpdk-test-reports
[-- Attachment #1: Type: text/plain, Size: 3958 bytes --]
Test-Label: iol-mellanox-Performance
Test-Status: SUCCESS
http://dpdk.org/patch/66213
_Performance Testing PASS_
Submitter: Dekel Peled <dekelp@mellanox.com>
Date: Tuesday, March 03 2020 12:37:31
DPDK git baseline: Repo:dpdk
Branch: master
CommitID:974c8a9d2e97225767a7925f238dc60395ca6787
66213 --> performance testing pass
Test environment and result as below:
Ubuntu 18.04
Kernel: 4.15.0-generic
Compiler: gcc 7.4
NIC: Mellanox ConnectX-5 100000 Mbps
Target: x86_64-native-linuxapp-gcc
Fail/Total: 0/6
Detail performance results:
+------------+---------+-------------------------------------+
| frame_size | txd/rxd | throughput difference from expected |
+============+=========+=====================================+
| 64 | 256 | -0.100 |
+------------+---------+-------------------------------------+
| 128 | 256 | 0.582 |
+------------+---------+-------------------------------------+
| 256 | 256 | -0.094 |
+------------+---------+-------------------------------------+
| 512 | 256 | 0.031 |
+------------+---------+-------------------------------------+
| 1024 | 256 | 0.015 |
+------------+---------+-------------------------------------+
| 1518 | 256 | 0.006 |
+------------+---------+-------------------------------------+
Ubuntu 18.04
Kernel: 4.15.0-generic
Compiler: gcc 7.4
NIC: Mellanox ConnectX-4 Lx 25000 Mbps
Target: x86_64-native-linuxapp-gcc
Fail/Total: 0/6
Detail performance results:
+------------+---------+-------------------------------------+
| frame_size | txd/rxd | throughput difference from expected |
+============+=========+=====================================+
| 64 | 256 | -0.250 |
+------------+---------+-------------------------------------+
| 128 | 256 | -0.108 |
+------------+---------+-------------------------------------+
| 256 | 256 | -0.037 |
+------------+---------+-------------------------------------+
| 512 | 256 | 0.022 |
+------------+---------+-------------------------------------+
| 1024 | 256 | -0.017 |
+------------+---------+-------------------------------------+
| 1518 | 256 | -0.001 |
+------------+---------+-------------------------------------+
Ubuntu 18.04
Kernel: 4.15.0-generic
Compiler: gcc 7.4
NIC: Mellanox ConnectX-4 Lx 40000 Mbps
Target: x86_64-native-linuxapp-gcc
Fail/Total: 0/6
Detail performance results:
+------------+---------+-------------------------------------+
| frame_size | txd/rxd | throughput difference from expected |
+============+=========+=====================================+
| 64 | 256 | -0.065 |
+------------+---------+-------------------------------------+
| 128 | 256 | 0.159 |
+------------+---------+-------------------------------------+
| 256 | 256 | 0.029 |
+------------+---------+-------------------------------------+
| 512 | 256 | 0.016 |
+------------+---------+-------------------------------------+
| 1024 | 256 | 0.007 |
+------------+---------+-------------------------------------+
| 1518 | 256 | 0 |
+------------+---------+-------------------------------------+
To view detailed results, visit:
https://lab.dpdk.org/results/dashboard/patchsets/9824/
UNH-IOL DPDK Community Lab
To manage your email subscriptions, visit:
https://lab.dpdk.org/results/dashboard/preferences/subscriptions/
^ permalink raw reply [flat|nested] 5+ messages in thread
* [dpdk-test-report] |SUCCESS| pw66213 [PATCH] net/mlx5: support match on IPv4 TTL and IPv6 HLIM
@ 2020-03-03 14:27 dpdklab
0 siblings, 0 replies; 5+ messages in thread
From: dpdklab @ 2020-03-03 14:27 UTC (permalink / raw)
To: Test Report; +Cc: dpdk-test-reports
[-- Attachment #1: Type: text/plain, Size: 2903 bytes --]
Test-Label: iol-testing
Test-Status: SUCCESS
http://dpdk.org/patch/66213
_Testing PASS_
Submitter: Dekel Peled <dekelp@mellanox.com>
Date: Tuesday, March 03 2020 12:37:31
DPDK git baseline: Repo:dpdk
Branch: master
CommitID:974c8a9d2e97225767a7925f238dc60395ca6787
66213 --> testing pass
Test environment and result as below:
+---------------------+--------------------+-------------------+----------------+--------------+------------------+
| Environment | dpdk_meson_compile | dpdk_compile_spdk | dpdk_unit_test | dpdk_compile | dpdk_compile_ovs |
+=====================+====================+===================+================+==============+==================+
| Windows Server 2019 | PASS | SKIPPED | SKIPPED | SKIPPED | SKIPPED |
+---------------------+--------------------+-------------------+----------------+--------------+------------------+
| Fedora 31 | PASS | PASS | SKIPPED | PASS | PASS |
+---------------------+--------------------+-------------------+----------------+--------------+------------------+
| Ubuntu 18.04 | PASS | PASS | PASS | PASS | PASS |
+---------------------+--------------------+-------------------+----------------+--------------+------------------+
| CentOS 8 | PASS | PASS | SKIPPED | PASS | PASS |
+---------------------+--------------------+-------------------+----------------+--------------+------------------+
| openSUSE Leap 15 | PASS | PASS | SKIPPED | PASS | PASS |
+---------------------+--------------------+-------------------+----------------+--------------+------------------+
| FreeBSD 11.2 | PASS | PASS | SKIPPED | PASS | SKIPPED |
+---------------------+--------------------+-------------------+----------------+--------------+------------------+
| Arch Linux | PASS | SKIPPED | SKIPPED | PASS | PASS |
+---------------------+--------------------+-------------------+----------------+--------------+------------------+
Windows Server 2019
Kernel: 10.0
Compiler: clang 9.0
Fedora 31
Kernel: 5.3.16
Compiler: gcc 9.2.1
Ubuntu 18.04
Kernel: 4.15.0-generic
Compiler: gcc 7.4
CentOS 8
Kernel: 4.18.0.el8_0
Compiler: gcc 8.3.1
openSUSE Leap 15
Kernel: 4.12.14
Compiler: gcc 7.4.1
FreeBSD 11.2
Kernel: 11.2
Compiler: gcc 8.3
Arch Linux
Kernel: latest
Compiler: gcc latest
To view detailed results, visit:
https://lab.dpdk.org/results/dashboard/patchsets/9824/
UNH-IOL DPDK Community Lab
To manage your email subscriptions, visit:
https://lab.dpdk.org/results/dashboard/preferences/subscriptions/
^ permalink raw reply [flat|nested] 5+ messages in thread
* [dpdk-test-report] |SUCCESS| pw66213 [PATCH] net/mlx5: support match on IPv4 TTL and IPv6 HLIM
@ 2020-03-03 13:56 dpdklab
0 siblings, 0 replies; 5+ messages in thread
From: dpdklab @ 2020-03-03 13:56 UTC (permalink / raw)
To: Test Report; +Cc: dpdk-test-reports
[-- Attachment #1: Type: text/plain, Size: 1251 bytes --]
Test-Label: iol-intel-Performance
Test-Status: SUCCESS
http://dpdk.org/patch/66213
_Performance Testing PASS_
Submitter: Dekel Peled <dekelp@mellanox.com>
Date: Tuesday, March 03 2020 12:37:31
DPDK git baseline: Repo:dpdk
Branch: master
CommitID:974c8a9d2e97225767a7925f238dc60395ca6787
66213 --> performance testing pass
Test environment and result as below:
Ubuntu 18.04
Kernel: 4.15.0-generic
Compiler: gcc 7.4
NIC: Intel Corporation Ethernet Converged Network Adapter 82599ES 10000 Mbps
Target: x86_64-native-linuxapp-gcc
Fail/Total: 0/2
Detail performance results:
+------------+---------+-------------------------------------+
| frame_size | txd/rxd | throughput difference from expected |
+============+=========+=====================================+
| 64 | 512 | -0.589 |
+------------+---------+-------------------------------------+
| 64 | 2048 | -0.247 |
+------------+---------+-------------------------------------+
To view detailed results, visit:
https://lab.dpdk.org/results/dashboard/patchsets/9824/
UNH-IOL DPDK Community Lab
To manage your email subscriptions, visit:
https://lab.dpdk.org/results/dashboard/preferences/subscriptions/
^ permalink raw reply [flat|nested] 5+ messages in thread
end of thread, other threads:[~2020-03-03 20:45 UTC | newest]
Thread overview: 5+ messages (download: mbox.gz / follow: Atom feed)
-- links below jump to the message on this page --
[not found] <b819452e0d90fff4cc75bf0be667d9a13ba1754b.1583238749.git.dekelp@mellanox.com>
2020-03-03 12:39 ` [dpdk-test-report] |SUCCESS| pw66213 [PATCH] net/mlx5: support match on IPv4 TTL and IPv6 HLIM checkpatch
2020-03-03 20:43 ` [dpdk-test-report] |SUCCESS| pw66213 " 0-day Robot
2020-03-03 14:38 [dpdk-test-report] |SUCCESS| pw66213 [PATCH] " dpdklab
-- strict thread matches above, loose matches on Subject: below --
2020-03-03 14:27 dpdklab
2020-03-03 13:56 dpdklab
This is a public inbox, see mirroring instructions
for how to clone and mirror all data and code used for this inbox;
as well as URLs for NNTP newsgroup(s).