[-- Attachment #1: Type: text/plain, Size: 1261 bytes --] Test-Label: iol-intel-Performance Test-Status: SUCCESS http://dpdk.org/patch/66339 _Performance Testing PASS_ Submitter: Kevin Traynor <ktraynor@redhat.com> Date: Friday, March 06 2020 12:00:46 DPDK git baseline: Repo:dpdk Branch: master CommitID:f3dd46b8603fcd2ed43be38fec8add255c06b026 66339-66340 --> performance testing pass Test environment and result as below: Ubuntu 18.04 Kernel: 4.15.0-generic Compiler: gcc 7.4 NIC: Intel Corporation Ethernet Converged Network Adapter XL710-QDA2 40000 Mbps Target: x86_64-native-linuxapp-gcc Fail/Total: 0/2 Detail performance results: +------------+---------+-------------------------------------+ | frame_size | txd/rxd | throughput difference from expected | +============+=========+=====================================+ | 64 | 512 | 0.002 | +------------+---------+-------------------------------------+ | 64 | 2048 | -0.702 | +------------+---------+-------------------------------------+ To view detailed results, visit: https://lab.dpdk.org/results/dashboard/patchsets/9875/ UNH-IOL DPDK Community Lab To manage your email subscriptions, visit: https://lab.dpdk.org/results/dashboard/preferences/subscriptions/
[-- Attachment #1: Type: text/plain, Size: 2910 bytes --] Test-Label: iol-testing Test-Status: SUCCESS http://dpdk.org/patch/66339 _Testing PASS_ Submitter: Kevin Traynor <ktraynor@redhat.com> Date: Friday, March 06 2020 12:00:46 DPDK git baseline: Repo:dpdk Branch: master CommitID:f3dd46b8603fcd2ed43be38fec8add255c06b026 66339-66340 --> testing pass Test environment and result as below: +---------------------+--------------------+-------------------+------------------+--------------+----------------+ | Environment | dpdk_meson_compile | dpdk_compile_spdk | dpdk_compile_ovs | dpdk_compile | dpdk_unit_test | +=====================+====================+===================+==================+==============+================+ | Windows Server 2019 | PASS | SKIPPED | SKIPPED | SKIPPED | SKIPPED | +---------------------+--------------------+-------------------+------------------+--------------+----------------+ | Fedora 31 | PASS | PASS | PASS | PASS | SKIPPED | +---------------------+--------------------+-------------------+------------------+--------------+----------------+ | Ubuntu 18.04 | PASS | PASS | PASS | PASS | PASS | +---------------------+--------------------+-------------------+------------------+--------------+----------------+ | CentOS 8 | PASS | PASS | PASS | PASS | SKIPPED | +---------------------+--------------------+-------------------+------------------+--------------+----------------+ | openSUSE Leap 15 | PASS | PASS | PASS | PASS | SKIPPED | +---------------------+--------------------+-------------------+------------------+--------------+----------------+ | FreeBSD 11.2 | PASS | PASS | SKIPPED | PASS | SKIPPED | +---------------------+--------------------+-------------------+------------------+--------------+----------------+ | Arch Linux | PASS | SKIPPED | PASS | PASS | SKIPPED | +---------------------+--------------------+-------------------+------------------+--------------+----------------+ Windows Server 2019 Kernel: 10.0 Compiler: clang 9.0 Fedora 31 Kernel: 5.3.16 Compiler: gcc 9.2.1 Ubuntu 18.04 Kernel: 4.15.0-generic Compiler: gcc 7.4 CentOS 8 Kernel: 4.18.0.el8_0 Compiler: gcc 8.3.1 openSUSE Leap 15 Kernel: 4.12.14 Compiler: gcc 7.4.1 FreeBSD 11.2 Kernel: 11.2 Compiler: gcc 8.3 Arch Linux Kernel: latest Compiler: gcc latest To view detailed results, visit: https://lab.dpdk.org/results/dashboard/patchsets/9875/ UNH-IOL DPDK Community Lab To manage your email subscriptions, visit: https://lab.dpdk.org/results/dashboard/preferences/subscriptions/
[-- Attachment #1: Type: text/plain, Size: 3965 bytes --] Test-Label: iol-mellanox-Performance Test-Status: SUCCESS http://dpdk.org/patch/66339 _Performance Testing PASS_ Submitter: Kevin Traynor <ktraynor@redhat.com> Date: Friday, March 06 2020 12:00:46 DPDK git baseline: Repo:dpdk Branch: master CommitID:f3dd46b8603fcd2ed43be38fec8add255c06b026 66339-66340 --> performance testing pass Test environment and result as below: Ubuntu 18.04 Kernel: 4.15.0-generic Compiler: gcc 7.4 NIC: Mellanox ConnectX-4 Lx 25000 Mbps Target: x86_64-native-linuxapp-gcc Fail/Total: 0/6 Detail performance results: +------------+---------+-------------------------------------+ | frame_size | txd/rxd | throughput difference from expected | +============+=========+=====================================+ | 64 | 256 | -0.094 | +------------+---------+-------------------------------------+ | 128 | 256 | 0.024 | +------------+---------+-------------------------------------+ | 256 | 256 | 0.220 | +------------+---------+-------------------------------------+ | 512 | 256 | 0.026 | +------------+---------+-------------------------------------+ | 1024 | 256 | 0.003 | +------------+---------+-------------------------------------+ | 1518 | 256 | -0.011 | +------------+---------+-------------------------------------+ Ubuntu 18.04 Kernel: 4.15.0-generic Compiler: gcc 7.4 NIC: Mellanox ConnectX-4 Lx 40000 Mbps Target: x86_64-native-linuxapp-gcc Fail/Total: 0/6 Detail performance results: +------------+---------+-------------------------------------+ | frame_size | txd/rxd | throughput difference from expected | +============+=========+=====================================+ | 64 | 256 | 0.557 | +------------+---------+-------------------------------------+ | 128 | 256 | -0.059 | +------------+---------+-------------------------------------+ | 256 | 256 | -0.057 | +------------+---------+-------------------------------------+ | 512 | 256 | 0.010 | +------------+---------+-------------------------------------+ | 1024 | 256 | 0.002 | +------------+---------+-------------------------------------+ | 1518 | 256 | 0.006 | +------------+---------+-------------------------------------+ Ubuntu 18.04 Kernel: 4.15.0-generic Compiler: gcc 7.4 NIC: Mellanox ConnectX-5 100000 Mbps Target: x86_64-native-linuxapp-gcc Fail/Total: 0/6 Detail performance results: +------------+---------+-------------------------------------+ | frame_size | txd/rxd | throughput difference from expected | +============+=========+=====================================+ | 64 | 256 | -0.530 | +------------+---------+-------------------------------------+ | 128 | 256 | -0.018 | +------------+---------+-------------------------------------+ | 256 | 256 | 0.019 | +------------+---------+-------------------------------------+ | 512 | 256 | 0.098 | +------------+---------+-------------------------------------+ | 1024 | 256 | -0.064 | +------------+---------+-------------------------------------+ | 1518 | 256 | 0.016 | +------------+---------+-------------------------------------+ To view detailed results, visit: https://lab.dpdk.org/results/dashboard/patchsets/9875/ UNH-IOL DPDK Community Lab To manage your email subscriptions, visit: https://lab.dpdk.org/results/dashboard/preferences/subscriptions/