[-- Attachment #1: Type: text/plain, Size: 1260 bytes --] Test-Label: iol-intel-Performance Test-Status: SUCCESS http://dpdk.org/patch/66345 _Performance Testing PASS_ Submitter: Tonghao Zhang <xiangxia.m.yue@gmail.com> Date: Friday, March 06 2020 14:27:19 DPDK git baseline: Repo:dpdk Branch: master CommitID:f3dd46b8603fcd2ed43be38fec8add255c06b026 66345 --> performance testing pass Test environment and result as below: Ubuntu 18.04 Kernel: 4.15.0-generic Compiler: gcc 7.4 NIC: Intel Corporation Ethernet Converged Network Adapter XL710-QDA2 40000 Mbps Target: x86_64-native-linuxapp-gcc Fail/Total: 0/2 Detail performance results: +------------+---------+-------------------------------------+ | frame_size | txd/rxd | throughput difference from expected | +============+=========+=====================================+ | 64 | 512 | -0.286 | +------------+---------+-------------------------------------+ | 64 | 2048 | -0.363 | +------------+---------+-------------------------------------+ To view detailed results, visit: https://lab.dpdk.org/results/dashboard/patchsets/9879/ UNH-IOL DPDK Community Lab To manage your email subscriptions, visit: https://lab.dpdk.org/results/dashboard/preferences/subscriptions/
[-- Attachment #1: Type: text/plain, Size: 2909 bytes --] Test-Label: iol-testing Test-Status: SUCCESS http://dpdk.org/patch/66345 _Testing PASS_ Submitter: Tonghao Zhang <xiangxia.m.yue@gmail.com> Date: Friday, March 06 2020 14:27:19 DPDK git baseline: Repo:dpdk Branch: master CommitID:f3dd46b8603fcd2ed43be38fec8add255c06b026 66345 --> testing pass Test environment and result as below: +---------------------+--------------------+-------------------+------------------+--------------+----------------+ | Environment | dpdk_meson_compile | dpdk_compile_spdk | dpdk_compile_ovs | dpdk_compile | dpdk_unit_test | +=====================+====================+===================+==================+==============+================+ | Windows Server 2019 | PASS | SKIPPED | SKIPPED | SKIPPED | SKIPPED | +---------------------+--------------------+-------------------+------------------+--------------+----------------+ | Fedora 31 | PASS | PASS | PASS | PASS | SKIPPED | +---------------------+--------------------+-------------------+------------------+--------------+----------------+ | Ubuntu 18.04 | PASS | PASS | PASS | PASS | PASS | +---------------------+--------------------+-------------------+------------------+--------------+----------------+ | CentOS 8 | PASS | PASS | PASS | PASS | SKIPPED | +---------------------+--------------------+-------------------+------------------+--------------+----------------+ | openSUSE Leap 15 | PASS | PASS | PASS | PASS | SKIPPED | +---------------------+--------------------+-------------------+------------------+--------------+----------------+ | FreeBSD 11.2 | PASS | PASS | SKIPPED | PASS | SKIPPED | +---------------------+--------------------+-------------------+------------------+--------------+----------------+ | Arch Linux | PASS | SKIPPED | PASS | PASS | SKIPPED | +---------------------+--------------------+-------------------+------------------+--------------+----------------+ Windows Server 2019 Kernel: 10.0 Compiler: clang 9.0 Fedora 31 Kernel: 5.3.16 Compiler: gcc 9.2.1 Ubuntu 18.04 Kernel: 4.15.0-generic Compiler: gcc 7.4 CentOS 8 Kernel: 4.18.0.el8_0 Compiler: gcc 8.3.1 openSUSE Leap 15 Kernel: 4.12.14 Compiler: gcc 7.4.1 FreeBSD 11.2 Kernel: 11.2 Compiler: gcc 8.3 Arch Linux Kernel: latest Compiler: gcc latest To view detailed results, visit: https://lab.dpdk.org/results/dashboard/patchsets/9879/ UNH-IOL DPDK Community Lab To manage your email subscriptions, visit: https://lab.dpdk.org/results/dashboard/preferences/subscriptions/
[-- Attachment #1: Type: text/plain, Size: 3964 bytes --] Test-Label: iol-mellanox-Performance Test-Status: SUCCESS http://dpdk.org/patch/66345 _Performance Testing PASS_ Submitter: Tonghao Zhang <xiangxia.m.yue@gmail.com> Date: Friday, March 06 2020 14:27:19 DPDK git baseline: Repo:dpdk Branch: master CommitID:f3dd46b8603fcd2ed43be38fec8add255c06b026 66345 --> performance testing pass Test environment and result as below: Ubuntu 18.04 Kernel: 4.15.0-generic Compiler: gcc 7.4 NIC: Mellanox ConnectX-5 100000 Mbps Target: x86_64-native-linuxapp-gcc Fail/Total: 0/6 Detail performance results: +------------+---------+-------------------------------------+ | frame_size | txd/rxd | throughput difference from expected | +============+=========+=====================================+ | 64 | 256 | -0.304 | +------------+---------+-------------------------------------+ | 128 | 256 | 0.034 | +------------+---------+-------------------------------------+ | 256 | 256 | 0.128 | +------------+---------+-------------------------------------+ | 512 | 256 | 0.170 | +------------+---------+-------------------------------------+ | 1024 | 256 | -0.022 | +------------+---------+-------------------------------------+ | 1518 | 256 | 0.014 | +------------+---------+-------------------------------------+ Ubuntu 18.04 Kernel: 4.15.0-generic Compiler: gcc 7.4 NIC: Mellanox ConnectX-4 Lx 25000 Mbps Target: x86_64-native-linuxapp-gcc Fail/Total: 0/6 Detail performance results: +------------+---------+-------------------------------------+ | frame_size | txd/rxd | throughput difference from expected | +============+=========+=====================================+ | 64 | 256 | 0.216 | +------------+---------+-------------------------------------+ | 128 | 256 | 0.172 | +------------+---------+-------------------------------------+ | 256 | 256 | -0.023 | +------------+---------+-------------------------------------+ | 512 | 256 | -0.029 | +------------+---------+-------------------------------------+ | 1024 | 256 | -0.001 | +------------+---------+-------------------------------------+ | 1518 | 256 | -0.017 | +------------+---------+-------------------------------------+ Ubuntu 18.04 Kernel: 4.15.0-generic Compiler: gcc 7.4 NIC: Mellanox ConnectX-4 Lx 40000 Mbps Target: x86_64-native-linuxapp-gcc Fail/Total: 0/6 Detail performance results: +------------+---------+-------------------------------------+ | frame_size | txd/rxd | throughput difference from expected | +============+=========+=====================================+ | 64 | 256 | 0.206 | +------------+---------+-------------------------------------+ | 128 | 256 | -0.078 | +------------+---------+-------------------------------------+ | 256 | 256 | -0.033 | +------------+---------+-------------------------------------+ | 512 | 256 | 0.006 | +------------+---------+-------------------------------------+ | 1024 | 256 | 0.002 | +------------+---------+-------------------------------------+ | 1518 | 256 | 0.001 | +------------+---------+-------------------------------------+ To view detailed results, visit: https://lab.dpdk.org/results/dashboard/patchsets/9879/ UNH-IOL DPDK Community Lab To manage your email subscriptions, visit: https://lab.dpdk.org/results/dashboard/preferences/subscriptions/