* [dpdk-test-report] |SUCCESS| [GIT MASTER] 417eb2ddceb4762c3f2795654ca2b4e62e815a6c
@ 2020-03-07 1:00 dpdklab
0 siblings, 0 replies; 3+ messages in thread
From: dpdklab @ 2020-03-07 1:00 UTC (permalink / raw)
To: Ali Alnubani, Test Report; +Cc: dpdk-test-reports
[-- Attachment #1: Type: text/plain, Size: 3751 bytes --]
_Performance Testing PASS_
Branch: dpdk-next-net-intel
417eb2ddceb4762c3f2795654ca2b4e62e815a6c --> performance testing pass
Test environment and result as below:
Ubuntu 18.04
Kernel: 4.15.0-generic
Compiler: gcc 7.4
NIC: Mellanox ConnectX-5 100000 Mbps
Target: x86_64-native-linuxapp-gcc
Fail/Total: 0/6
Detail performance results:
+------------+---------+-------------------------------------+
| frame_size | txd/rxd | throughput difference from expected |
+============+=========+=====================================+
| 64 | 256 | 0.225 |
+------------+---------+-------------------------------------+
| 128 | 256 | 0.432 |
+------------+---------+-------------------------------------+
| 256 | 256 | -0.172 |
+------------+---------+-------------------------------------+
| 512 | 256 | 0.016 |
+------------+---------+-------------------------------------+
| 1024 | 256 | 0.112 |
+------------+---------+-------------------------------------+
| 1518 | 256 | -0.016 |
+------------+---------+-------------------------------------+
Ubuntu 18.04
Kernel: 4.15.0-generic
Compiler: gcc 7.4
NIC: Mellanox ConnectX-4 Lx 40000 Mbps
Target: x86_64-native-linuxapp-gcc
Fail/Total: 0/6
Detail performance results:
+------------+---------+-------------------------------------+
| frame_size | txd/rxd | throughput difference from expected |
+============+=========+=====================================+
| 64 | 256 | 0.112 |
+------------+---------+-------------------------------------+
| 128 | 256 | 0.147 |
+------------+---------+-------------------------------------+
| 256 | 256 | -0.007 |
+------------+---------+-------------------------------------+
| 512 | 256 | 0.002 |
+------------+---------+-------------------------------------+
| 1024 | 256 | 0.004 |
+------------+---------+-------------------------------------+
| 1518 | 256 | -0.005 |
+------------+---------+-------------------------------------+
Ubuntu 18.04
Kernel: 4.15.0-generic
Compiler: gcc 7.4
NIC: Mellanox ConnectX-4 Lx 25000 Mbps
Target: x86_64-native-linuxapp-gcc
Fail/Total: 0/6
Detail performance results:
+------------+---------+-------------------------------------+
| frame_size | txd/rxd | throughput difference from expected |
+============+=========+=====================================+
| 64 | 256 | 0.184 |
+------------+---------+-------------------------------------+
| 128 | 256 | -0.019 |
+------------+---------+-------------------------------------+
| 256 | 256 | 0.100 |
+------------+---------+-------------------------------------+
| 512 | 256 | 0.035 |
+------------+---------+-------------------------------------+
| 1024 | 256 | 0.005 |
+------------+---------+-------------------------------------+
| 1518 | 256 | 0.009 |
+------------+---------+-------------------------------------+
To view detailed results, visit:
https://lab.dpdk.org/results/dashboard/tarballs/8437/
UNH-IOL DPDK Community Lab
To manage your email subscriptions, visit:
https://lab.dpdk.org/results/dashboard/preferences/subscriptions/
^ permalink raw reply [flat|nested] 3+ messages in thread
* [dpdk-test-report] |SUCCESS| [GIT MASTER] 417eb2ddceb4762c3f2795654ca2b4e62e815a6c
@ 2020-03-07 0:55 dpdklab
0 siblings, 0 replies; 3+ messages in thread
From: dpdklab @ 2020-03-07 0:55 UTC (permalink / raw)
To: Test Report; +Cc: dpdk-test-reports
[-- Attachment #1: Type: text/plain, Size: 2709 bytes --]
_Testing PASS_
Branch: dpdk-next-net-intel
417eb2ddceb4762c3f2795654ca2b4e62e815a6c --> testing pass
Test environment and result as below:
+---------------------+--------------------+-------------------+----------------+------------------+--------------+
| Environment | dpdk_meson_compile | dpdk_compile_spdk | dpdk_unit_test | dpdk_compile_ovs | dpdk_compile |
+=====================+====================+===================+================+==================+==============+
| Windows Server 2019 | PASS | SKIPPED | SKIPPED | SKIPPED | SKIPPED |
+---------------------+--------------------+-------------------+----------------+------------------+--------------+
| Fedora 31 | PASS | PASS | SKIPPED | PASS | PASS |
+---------------------+--------------------+-------------------+----------------+------------------+--------------+
| openSUSE Leap 15 | PASS | PASS | SKIPPED | PASS | PASS |
+---------------------+--------------------+-------------------+----------------+------------------+--------------+
| Ubuntu 18.04 | PASS | PASS | PASS | PASS | PASS |
+---------------------+--------------------+-------------------+----------------+------------------+--------------+
| CentOS 8 | PASS | PASS | SKIPPED | PASS | PASS |
+---------------------+--------------------+-------------------+----------------+------------------+--------------+
| FreeBSD 11.2 | PASS | PASS | SKIPPED | SKIPPED | PASS |
+---------------------+--------------------+-------------------+----------------+------------------+--------------+
| Arch Linux | PASS | SKIPPED | SKIPPED | PASS | PASS |
+---------------------+--------------------+-------------------+----------------+------------------+--------------+
Windows Server 2019
Kernel: 10.0
Compiler: clang 9.0
Fedora 31
Kernel: 5.3.16
Compiler: gcc 9.2.1
openSUSE Leap 15
Kernel: 4.12.14
Compiler: gcc 7.4.1
Ubuntu 18.04
Kernel: 4.15.0-generic
Compiler: gcc 7.4
CentOS 8
Kernel: 4.18.0.el8_0
Compiler: gcc 8.3.1
FreeBSD 11.2
Kernel: 11.2
Compiler: gcc 8.3
Arch Linux
Kernel: latest
Compiler: gcc latest
To view detailed results, visit:
https://lab.dpdk.org/results/dashboard/tarballs/8437/
UNH-IOL DPDK Community Lab
To manage your email subscriptions, visit:
https://lab.dpdk.org/results/dashboard/preferences/subscriptions/
^ permalink raw reply [flat|nested] 3+ messages in thread
* [dpdk-test-report] |SUCCESS| [GIT MASTER] 417eb2ddceb4762c3f2795654ca2b4e62e815a6c
@ 2020-03-07 0:31 dpdklab
0 siblings, 0 replies; 3+ messages in thread
From: dpdklab @ 2020-03-07 0:31 UTC (permalink / raw)
To: Test Report; +Cc: dpdk-test-reports
[-- Attachment #1: Type: text/plain, Size: 1050 bytes --]
_Performance Testing PASS_
Branch: dpdk-next-net-intel
417eb2ddceb4762c3f2795654ca2b4e62e815a6c --> performance testing pass
Test environment and result as below:
Ubuntu 18.04
Kernel: 4.15.0-generic
Compiler: gcc 7.4
NIC: Intel Corporation Ethernet Converged Network Adapter XL710-QDA2 40000 Mbps
Target: x86_64-native-linuxapp-gcc
Fail/Total: 0/2
Detail performance results:
+------------+---------+-------------------------------------+
| frame_size | txd/rxd | throughput difference from expected |
+============+=========+=====================================+
| 64 | 512 | -0.191 |
+------------+---------+-------------------------------------+
| 64 | 2048 | 0.144 |
+------------+---------+-------------------------------------+
To view detailed results, visit:
https://lab.dpdk.org/results/dashboard/tarballs/8437/
UNH-IOL DPDK Community Lab
To manage your email subscriptions, visit:
https://lab.dpdk.org/results/dashboard/preferences/subscriptions/
^ permalink raw reply [flat|nested] 3+ messages in thread
end of thread, other threads:[~2020-03-07 1:00 UTC | newest]
Thread overview: 3+ messages (download: mbox.gz / follow: Atom feed)
-- links below jump to the message on this page --
2020-03-07 1:00 [dpdk-test-report] |SUCCESS| [GIT MASTER] 417eb2ddceb4762c3f2795654ca2b4e62e815a6c dpdklab
-- strict thread matches above, loose matches on Subject: below --
2020-03-07 0:55 dpdklab
2020-03-07 0:31 dpdklab
This is a public inbox, see mirroring instructions
for how to clone and mirror all data and code used for this inbox;
as well as URLs for NNTP newsgroup(s).