automatic DPDK test reports
 help / color / mirror / Atom feed
* [dpdk-test-report] |SUCCESS| pw66463 [PATCH] net/mlx5: fix zero value check for set tag action
@ 2020-03-09 15:54 dpdklab
  0 siblings, 0 replies; 3+ messages in thread
From: dpdklab @ 2020-03-09 15:54 UTC (permalink / raw)
  To: Ali Alnubani, Test Report; +Cc: dpdk-test-reports

[-- Attachment #1: Type: text/plain, Size: 3957 bytes --]

Test-Label: iol-mellanox-Performance
Test-Status: SUCCESS
http://dpdk.org/patch/66463

_Performance Testing PASS_

Submitter: Wisam Jaddo <wisamm@mellanox.com>
Date: Monday, March 09 2020 13:12:03 
DPDK git baseline: Repo:dpdk
  Branch: master
  CommitID:44c775feb491106d472c1a44433c6427a3fb3b3b

66463 --> performance testing pass

Test environment and result as below:

Ubuntu 18.04
Kernel: 4.15.0-generic
Compiler: gcc 7.4
NIC: Mellanox ConnectX-4 Lx 25000 Mbps
Target: x86_64-native-linuxapp-gcc
Fail/Total: 0/6

Detail performance results: 
+------------+---------+-------------------------------------+
| frame_size | txd/rxd | throughput difference from expected |
+============+=========+=====================================+
| 64         | 256     | 0.019                               |
+------------+---------+-------------------------------------+
| 128        | 256     | -0.074                              |
+------------+---------+-------------------------------------+
| 256        | 256     | -0.089                              |
+------------+---------+-------------------------------------+
| 512        | 256     | -0.050                              |
+------------+---------+-------------------------------------+
| 1024       | 256     | -0.014                              |
+------------+---------+-------------------------------------+
| 1518       | 256     | -0.003                              |
+------------+---------+-------------------------------------+

Ubuntu 18.04
Kernel: 4.15.0-generic
Compiler: gcc 7.4
NIC: Mellanox ConnectX-5 100000 Mbps
Target: x86_64-native-linuxapp-gcc
Fail/Total: 0/6

Detail performance results: 
+------------+---------+-------------------------------------+
| frame_size | txd/rxd | throughput difference from expected |
+============+=========+=====================================+
| 64         | 256     | 0.118                               |
+------------+---------+-------------------------------------+
| 128        | 256     | 0.370                               |
+------------+---------+-------------------------------------+
| 256        | 256     | -0.077                              |
+------------+---------+-------------------------------------+
| 512        | 256     | -0.003                              |
+------------+---------+-------------------------------------+
| 1024       | 256     | 0.030                               |
+------------+---------+-------------------------------------+
| 1518       | 256     | -0.034                              |
+------------+---------+-------------------------------------+

Ubuntu 18.04
Kernel: 4.15.0-generic
Compiler: gcc 7.4
NIC: Mellanox ConnectX-4 Lx 40000 Mbps
Target: x86_64-native-linuxapp-gcc
Fail/Total: 0/6

Detail performance results: 
+------------+---------+-------------------------------------+
| frame_size | txd/rxd | throughput difference from expected |
+============+=========+=====================================+
| 64         | 256     | 0.144                               |
+------------+---------+-------------------------------------+
| 128        | 256     | 0.005                               |
+------------+---------+-------------------------------------+
| 256        | 256     | 0.020                               |
+------------+---------+-------------------------------------+
| 512        | 256     | 0.009                               |
+------------+---------+-------------------------------------+
| 1024       | 256     | 0.023                               |
+------------+---------+-------------------------------------+
| 1518       | 256     | -0.005                              |
+------------+---------+-------------------------------------+

To view detailed results, visit:
https://lab.dpdk.org/results/dashboard/patchsets/9913/

UNH-IOL DPDK Community Lab

To manage your email subscriptions, visit: 
https://lab.dpdk.org/results/dashboard/preferences/subscriptions/

^ permalink raw reply	[flat|nested] 3+ messages in thread
* [dpdk-test-report] |SUCCESS| pw66463 [PATCH] net/mlx5: fix zero value check for set tag action
@ 2020-03-09 14:58 dpdklab
  0 siblings, 0 replies; 3+ messages in thread
From: dpdklab @ 2020-03-09 14:58 UTC (permalink / raw)
  To: Test Report; +Cc: dpdk-test-reports

[-- Attachment #1: Type: text/plain, Size: 2902 bytes --]

Test-Label: iol-testing
Test-Status: SUCCESS
http://dpdk.org/patch/66463

_Testing PASS_

Submitter: Wisam Jaddo <wisamm@mellanox.com>
Date: Monday, March 09 2020 13:12:03 
DPDK git baseline: Repo:dpdk
  Branch: master
  CommitID:44c775feb491106d472c1a44433c6427a3fb3b3b

66463 --> testing pass

Test environment and result as below:

+---------------------+--------------------+-------------------+------------------+----------------+--------------+
|     Environment     | dpdk_meson_compile | dpdk_compile_spdk | dpdk_compile_ovs | dpdk_unit_test | dpdk_compile |
+=====================+====================+===================+==================+================+==============+
| Windows Server 2019 | PASS               | SKIPPED           | SKIPPED          | SKIPPED        | SKIPPED      |
+---------------------+--------------------+-------------------+------------------+----------------+--------------+
| Fedora 31           | PASS               | PASS              | PASS             | SKIPPED        | PASS         |
+---------------------+--------------------+-------------------+------------------+----------------+--------------+
| Ubuntu 18.04        | PASS               | PASS              | PASS             | PASS           | PASS         |
+---------------------+--------------------+-------------------+------------------+----------------+--------------+
| CentOS 8            | PASS               | PASS              | PASS             | SKIPPED        | PASS         |
+---------------------+--------------------+-------------------+------------------+----------------+--------------+
| openSUSE Leap 15    | PASS               | PASS              | PASS             | SKIPPED        | PASS         |
+---------------------+--------------------+-------------------+------------------+----------------+--------------+
| FreeBSD 11.2        | PASS               | PASS              | SKIPPED          | SKIPPED        | PASS         |
+---------------------+--------------------+-------------------+------------------+----------------+--------------+
| Arch Linux          | PASS               | SKIPPED           | PASS             | SKIPPED        | PASS         |
+---------------------+--------------------+-------------------+------------------+----------------+--------------+

Windows Server 2019
	Kernel: 10.0
	Compiler: clang 9.0

Fedora 31
	Kernel: 5.3.16
	Compiler: gcc 9.2.1

Ubuntu 18.04
	Kernel: 4.15.0-generic
	Compiler: gcc 7.4

CentOS 8
	Kernel: 4.18.0.el8_0
	Compiler: gcc 8.3.1

openSUSE Leap 15
	Kernel: 4.12.14
	Compiler: gcc 7.4.1

FreeBSD 11.2
	Kernel: 11.2
	Compiler: gcc 8.3

Arch Linux
	Kernel: latest
	Compiler: gcc latest

To view detailed results, visit:
https://lab.dpdk.org/results/dashboard/patchsets/9913/

UNH-IOL DPDK Community Lab

To manage your email subscriptions, visit: 
https://lab.dpdk.org/results/dashboard/preferences/subscriptions/

^ permalink raw reply	[flat|nested] 3+ messages in thread
[parent not found: <1583759523-25392-1-git-send-email-wisamm@mellanox.com>]

end of thread, other threads:[~2020-03-09 15:54 UTC | newest]

Thread overview: 3+ messages (download: mbox.gz / follow: Atom feed)
-- links below jump to the message on this page --
2020-03-09 15:54 [dpdk-test-report] |SUCCESS| pw66463 [PATCH] net/mlx5: fix zero value check for set tag action dpdklab
  -- strict thread matches above, loose matches on Subject: below --
2020-03-09 14:58 dpdklab
     [not found] <1583759523-25392-1-git-send-email-wisamm@mellanox.com>
2020-03-09 13:13 ` checkpatch

automatic DPDK test reports

This inbox may be cloned and mirrored by anyone:

	git clone --mirror https://inbox.dpdk.org/test-report/0 test-report/git/0.git

	# If you have public-inbox 1.1+ installed, you may
	# initialize and index your mirror using the following commands:
	public-inbox-init -V2 test-report test-report/ https://inbox.dpdk.org/test-report \
		test-report@dpdk.org
	public-inbox-index test-report

Example config snippet for mirrors.
Newsgroup available over NNTP:
	nntp://inbox.dpdk.org/inbox.dpdk.test-report


AGPL code for this site: git clone https://public-inbox.org/public-inbox.git