Test-Label: checkpatch Test-Status: SUCCESS http://dpdk.org/patch/66542 _coding style OK_
[-- Attachment #1: Type: text/plain, Size: 2917 bytes --] Test-Label: iol-testing Test-Status: SUCCESS http://dpdk.org/patch/66542 _Testing PASS_ Submitter: Louise Kilheeney <louise.kilheeney@intel.com> Date: Wednesday, March 11 2020 12:04:56 DPDK git baseline: Repo:dpdk Branch: master CommitID:44c775feb491106d472c1a44433c6427a3fb3b3b 66542 --> testing pass Test environment and result as below: +---------------------+--------------------+--------------+-------------------+------------------+----------------+ | Environment | dpdk_meson_compile | dpdk_compile | dpdk_compile_spdk | dpdk_compile_ovs | dpdk_unit_test | +=====================+====================+==============+===================+==================+================+ | Windows Server 2019 | PASS | SKIPPED | SKIPPED | SKIPPED | SKIPPED | +---------------------+--------------------+--------------+-------------------+------------------+----------------+ | Fedora 31 | PASS | PASS | PASS | PASS | SKIPPED | +---------------------+--------------------+--------------+-------------------+------------------+----------------+ | CentOS 8 | PASS | PASS | PASS | PASS | SKIPPED | +---------------------+--------------------+--------------+-------------------+------------------+----------------+ | Ubuntu 18.04 | PASS | PASS | PASS | PASS | PASS | +---------------------+--------------------+--------------+-------------------+------------------+----------------+ | openSUSE Leap 15 | PASS | PASS | PASS | PASS | SKIPPED | +---------------------+--------------------+--------------+-------------------+------------------+----------------+ | FreeBSD 11.2 | PASS | PASS | PASS | SKIPPED | SKIPPED | +---------------------+--------------------+--------------+-------------------+------------------+----------------+ | Arch Linux | PASS | PASS | SKIPPED | PASS | SKIPPED | +---------------------+--------------------+--------------+-------------------+------------------+----------------+ Windows Server 2019 Kernel: 10.0 Compiler: clang 9.0 Fedora 31 Kernel: 5.3.16 Compiler: gcc 9.2.1 CentOS 8 Kernel: 4.18.0.el8_0 Compiler: gcc 8.3.1 Ubuntu 18.04 Kernel: 4.15.0-generic Compiler: gcc 7.4 openSUSE Leap 15 Kernel: 4.12.14 Compiler: gcc 7.4.1 FreeBSD 11.2 Kernel: 11.2 Compiler: gcc 8.3 Arch Linux Kernel: latest Compiler: gcc latest To view detailed results, visit: https://lab.dpdk.org/results/dashboard/patchsets/9946/ UNH-IOL DPDK Community Lab To manage your email subscriptions, visit: https://lab.dpdk.org/results/dashboard/preferences/subscriptions/
[-- Attachment #1: Type: text/plain, Size: 3972 bytes --] Test-Label: iol-mellanox-Performance Test-Status: SUCCESS http://dpdk.org/patch/66542 _Performance Testing PASS_ Submitter: Louise Kilheeney <louise.kilheeney@intel.com> Date: Wednesday, March 11 2020 12:04:56 DPDK git baseline: Repo:dpdk Branch: master CommitID:44c775feb491106d472c1a44433c6427a3fb3b3b 66542 --> performance testing pass Test environment and result as below: Ubuntu 18.04 Kernel: 4.15.0-generic Compiler: gcc 7.4 NIC: Mellanox ConnectX-5 100000 Mbps Target: x86_64-native-linuxapp-gcc Fail/Total: 0/6 Detail performance results: +------------+---------+-------------------------------------+ | frame_size | txd/rxd | throughput difference from expected | +============+=========+=====================================+ | 64 | 256 | 0.073 | +------------+---------+-------------------------------------+ | 128 | 256 | 0.443 | +------------+---------+-------------------------------------+ | 256 | 256 | -0.050 | +------------+---------+-------------------------------------+ | 512 | 256 | -0.080 | +------------+---------+-------------------------------------+ | 1024 | 256 | 0.081 | +------------+---------+-------------------------------------+ | 1518 | 256 | -0.014 | +------------+---------+-------------------------------------+ Ubuntu 18.04 Kernel: 4.15.0-generic Compiler: gcc 7.4 NIC: Mellanox ConnectX-4 Lx 40000 Mbps Target: x86_64-native-linuxapp-gcc Fail/Total: 0/6 Detail performance results: +------------+---------+-------------------------------------+ | frame_size | txd/rxd | throughput difference from expected | +============+=========+=====================================+ | 64 | 256 | 0.228 | +------------+---------+-------------------------------------+ | 128 | 256 | 0.101 | +------------+---------+-------------------------------------+ | 256 | 256 | 0.023 | +------------+---------+-------------------------------------+ | 512 | 256 | 0.006 | +------------+---------+-------------------------------------+ | 1024 | 256 | 0.002 | +------------+---------+-------------------------------------+ | 1518 | 256 | 0.003 | +------------+---------+-------------------------------------+ Ubuntu 18.04 Kernel: 4.15.0-generic Compiler: gcc 7.4 NIC: Mellanox ConnectX-4 Lx 25000 Mbps Target: x86_64-native-linuxapp-gcc Fail/Total: 0/6 Detail performance results: +------------+---------+-------------------------------------+ | frame_size | txd/rxd | throughput difference from expected | +============+=========+=====================================+ | 64 | 256 | -0.104 | +------------+---------+-------------------------------------+ | 128 | 256 | -0.123 | +------------+---------+-------------------------------------+ | 256 | 256 | 0.018 | +------------+---------+-------------------------------------+ | 512 | 256 | -0.047 | +------------+---------+-------------------------------------+ | 1024 | 256 | -0.012 | +------------+---------+-------------------------------------+ | 1518 | 256 | -0.003 | +------------+---------+-------------------------------------+ To view detailed results, visit: https://lab.dpdk.org/results/dashboard/patchsets/9946/ UNH-IOL DPDK Community Lab To manage your email subscriptions, visit: https://lab.dpdk.org/results/dashboard/preferences/subscriptions/
[-- Attachment #1: Type: text/plain, Size: 1268 bytes --] Test-Label: iol-intel-Performance Test-Status: SUCCESS http://dpdk.org/patch/66542 _Performance Testing PASS_ Submitter: Louise Kilheeney <louise.kilheeney@intel.com> Date: Wednesday, March 11 2020 12:04:56 DPDK git baseline: Repo:dpdk Branch: master CommitID:44c775feb491106d472c1a44433c6427a3fb3b3b 66542 --> performance testing pass Test environment and result as below: Ubuntu 18.04 Kernel: 4.15.0-generic Compiler: gcc 7.4 NIC: Intel Corporation Ethernet Converged Network Adapter XL710-QDA2 40000 Mbps Target: x86_64-native-linuxapp-gcc Fail/Total: 0/2 Detail performance results: +------------+---------+-------------------------------------+ | frame_size | txd/rxd | throughput difference from expected | +============+=========+=====================================+ | 64 | 512 | -0.590 | +------------+---------+-------------------------------------+ | 64 | 2048 | -0.128 | +------------+---------+-------------------------------------+ To view detailed results, visit: https://lab.dpdk.org/results/dashboard/patchsets/9946/ UNH-IOL DPDK Community Lab To manage your email subscriptions, visit: https://lab.dpdk.org/results/dashboard/preferences/subscriptions/