[-- Attachment #1: Type: text/plain, Size: 2923 bytes --] Test-Label: iol-testing Test-Status: SUCCESS http://dpdk.org/patch/66605 _Testing PASS_ Submitter: Stephen Hemminger <stephen@networkplumber.org> Date: Thursday, March 12 2020 17:20:41 DPDK git baseline: Repo:dpdk Branch: master CommitID:44c775feb491106d472c1a44433c6427a3fb3b3b 66605-66611 --> testing pass Test environment and result as below: +---------------------+--------------------+-------------------+--------------+------------------+----------------+ | Environment | dpdk_meson_compile | dpdk_compile_spdk | dpdk_compile | dpdk_compile_ovs | dpdk_unit_test | +=====================+====================+===================+==============+==================+================+ | Windows Server 2019 | PASS | SKIPPED | SKIPPED | SKIPPED | SKIPPED | +---------------------+--------------------+-------------------+--------------+------------------+----------------+ | Ubuntu 18.04 | PASS | PASS | PASS | PASS | PASS | +---------------------+--------------------+-------------------+--------------+------------------+----------------+ | Fedora 31 | PASS | PASS | PASS | PASS | SKIPPED | +---------------------+--------------------+-------------------+--------------+------------------+----------------+ | CentOS 8 | PASS | PASS | PASS | PASS | SKIPPED | +---------------------+--------------------+-------------------+--------------+------------------+----------------+ | FreeBSD 11.2 | PASS | PASS | PASS | SKIPPED | SKIPPED | +---------------------+--------------------+-------------------+--------------+------------------+----------------+ | openSUSE Leap 15 | PASS | PASS | PASS | PASS | SKIPPED | +---------------------+--------------------+-------------------+--------------+------------------+----------------+ | Arch Linux | PASS | SKIPPED | PASS | PASS | SKIPPED | +---------------------+--------------------+-------------------+--------------+------------------+----------------+ Windows Server 2019 Kernel: 10.0 Compiler: clang 9.0 Ubuntu 18.04 Kernel: 4.15.0-generic Compiler: gcc 7.4 Fedora 31 Kernel: 5.3.16 Compiler: gcc 9.2.1 CentOS 8 Kernel: 4.18.0.el8_0 Compiler: gcc 8.3.1 FreeBSD 11.2 Kernel: 11.2 Compiler: gcc 8.3 openSUSE Leap 15 Kernel: 4.12.14 Compiler: gcc 7.4.1 Arch Linux Kernel: latest Compiler: gcc latest To view detailed results, visit: https://lab.dpdk.org/results/dashboard/patchsets/9961/ UNH-IOL DPDK Community Lab To manage your email subscriptions, visit: https://lab.dpdk.org/results/dashboard/preferences/subscriptions/
[-- Attachment #1: Type: text/plain, Size: 3978 bytes --] Test-Label: iol-mellanox-Performance Test-Status: SUCCESS http://dpdk.org/patch/66605 _Performance Testing PASS_ Submitter: Stephen Hemminger <stephen@networkplumber.org> Date: Thursday, March 12 2020 17:20:41 DPDK git baseline: Repo:dpdk Branch: master CommitID:44c775feb491106d472c1a44433c6427a3fb3b3b 66605-66611 --> performance testing pass Test environment and result as below: Ubuntu 18.04 Kernel: 4.15.0-generic Compiler: gcc 7.4 NIC: Mellanox ConnectX-5 100000 Mbps Target: x86_64-native-linuxapp-gcc Fail/Total: 0/6 Detail performance results: +------------+---------+-------------------------------------+ | frame_size | txd/rxd | throughput difference from expected | +============+=========+=====================================+ | 64 | 256 | -0.222 | +------------+---------+-------------------------------------+ | 128 | 256 | 0.418 | +------------+---------+-------------------------------------+ | 256 | 256 | -0.160 | +------------+---------+-------------------------------------+ | 512 | 256 | -0.037 | +------------+---------+-------------------------------------+ | 1024 | 256 | 0.032 | +------------+---------+-------------------------------------+ | 1518 | 256 | -0.018 | +------------+---------+-------------------------------------+ Ubuntu 18.04 Kernel: 4.15.0-generic Compiler: gcc 7.4 NIC: Mellanox ConnectX-4 Lx 25000 Mbps Target: x86_64-native-linuxapp-gcc Fail/Total: 0/6 Detail performance results: +------------+---------+-------------------------------------+ | frame_size | txd/rxd | throughput difference from expected | +============+=========+=====================================+ | 64 | 256 | -0.054 | +------------+---------+-------------------------------------+ | 128 | 256 | -0.033 | +------------+---------+-------------------------------------+ | 256 | 256 | 0.093 | +------------+---------+-------------------------------------+ | 512 | 256 | 0.002 | +------------+---------+-------------------------------------+ | 1024 | 256 | -0.013 | +------------+---------+-------------------------------------+ | 1518 | 256 | -0.005 | +------------+---------+-------------------------------------+ Ubuntu 18.04 Kernel: 4.15.0-generic Compiler: gcc 7.4 NIC: Mellanox ConnectX-4 Lx 40000 Mbps Target: x86_64-native-linuxapp-gcc Fail/Total: 0/6 Detail performance results: +------------+---------+-------------------------------------+ | frame_size | txd/rxd | throughput difference from expected | +============+=========+=====================================+ | 64 | 256 | -0.029 | +------------+---------+-------------------------------------+ | 128 | 256 | 0.099 | +------------+---------+-------------------------------------+ | 256 | 256 | 0.045 | +------------+---------+-------------------------------------+ | 512 | 256 | 0.051 | +------------+---------+-------------------------------------+ | 1024 | 256 | -0.007 | +------------+---------+-------------------------------------+ | 1518 | 256 | -0.003 | +------------+---------+-------------------------------------+ To view detailed results, visit: https://lab.dpdk.org/results/dashboard/patchsets/9961/ UNH-IOL DPDK Community Lab To manage your email subscriptions, visit: https://lab.dpdk.org/results/dashboard/preferences/subscriptions/
[-- Attachment #1: Type: text/plain, Size: 1274 bytes --] Test-Label: iol-intel-Performance Test-Status: SUCCESS http://dpdk.org/patch/66605 _Performance Testing PASS_ Submitter: Stephen Hemminger <stephen@networkplumber.org> Date: Thursday, March 12 2020 17:20:41 DPDK git baseline: Repo:dpdk Branch: master CommitID:44c775feb491106d472c1a44433c6427a3fb3b3b 66605-66611 --> performance testing pass Test environment and result as below: Ubuntu 18.04 Kernel: 4.15.0-generic Compiler: gcc 7.4 NIC: Intel Corporation Ethernet Converged Network Adapter XL710-QDA2 40000 Mbps Target: x86_64-native-linuxapp-gcc Fail/Total: 0/2 Detail performance results: +------------+---------+-------------------------------------+ | frame_size | txd/rxd | throughput difference from expected | +============+=========+=====================================+ | 64 | 512 | -0.269 | +------------+---------+-------------------------------------+ | 64 | 2048 | -0.027 | +------------+---------+-------------------------------------+ To view detailed results, visit: https://lab.dpdk.org/results/dashboard/patchsets/9961/ UNH-IOL DPDK Community Lab To manage your email subscriptions, visit: https://lab.dpdk.org/results/dashboard/preferences/subscriptions/