automatic DPDK test reports
 help / color / mirror / Atom feed
* [dpdk-test-report] |SUCCESS| pw66629-66632 [PATCH] [v3, 1/4] test: enable tests to run in no-huge mode
@ 2020-03-13  9:26 dpdklab
  0 siblings, 0 replies; 3+ messages in thread
From: dpdklab @ 2020-03-13  9:26 UTC (permalink / raw)
  To: Test Report; +Cc: dpdk-test-reports

[-- Attachment #1: Type: text/plain, Size: 2910 bytes --]

Test-Label: iol-testing
Test-Status: SUCCESS
http://dpdk.org/patch/66629

_Testing PASS_

Submitter: Ruifeng Wang <ruifeng.wang@arm.com>
Date: Friday, March 13 2020 08:16:11 
DPDK git baseline: Repo:dpdk
  Branch: master
  CommitID:2a860943b847fbd44e08ef4f1ca66de759875c9e

66629-66632 --> testing pass

Test environment and result as below:

+---------------------+--------------------+--------------+-------------------+----------------+------------------+
|     Environment     | dpdk_meson_compile | dpdk_compile | dpdk_compile_spdk | dpdk_unit_test | dpdk_compile_ovs |
+=====================+====================+==============+===================+================+==================+
| Windows Server 2019 | PASS               | SKIPPED      | SKIPPED           | SKIPPED        | SKIPPED          |
+---------------------+--------------------+--------------+-------------------+----------------+------------------+
| Fedora 31           | PASS               | PASS         | PASS              | SKIPPED        | PASS             |
+---------------------+--------------------+--------------+-------------------+----------------+------------------+
| Ubuntu 18.04        | PASS               | PASS         | PASS              | PASS           | PASS             |
+---------------------+--------------------+--------------+-------------------+----------------+------------------+
| CentOS 8            | PASS               | PASS         | PASS              | SKIPPED        | PASS             |
+---------------------+--------------------+--------------+-------------------+----------------+------------------+
| openSUSE Leap 15    | PASS               | PASS         | PASS              | SKIPPED        | PASS             |
+---------------------+--------------------+--------------+-------------------+----------------+------------------+
| FreeBSD 11.2        | PASS               | PASS         | PASS              | SKIPPED        | SKIPPED          |
+---------------------+--------------------+--------------+-------------------+----------------+------------------+
| Arch Linux          | PASS               | PASS         | SKIPPED           | SKIPPED        | PASS             |
+---------------------+--------------------+--------------+-------------------+----------------+------------------+

Windows Server 2019
	Kernel: 10.0
	Compiler: clang 9.0

Fedora 31
	Kernel: 5.3.16
	Compiler: gcc 9.2.1

Ubuntu 18.04
	Kernel: 4.15.0-generic
	Compiler: gcc 7.4

CentOS 8
	Kernel: 4.18.0.el8_0
	Compiler: gcc 8.3.1

openSUSE Leap 15
	Kernel: 4.12.14
	Compiler: gcc 7.4.1

FreeBSD 11.2
	Kernel: 11.2
	Compiler: gcc 8.3

Arch Linux
	Kernel: latest
	Compiler: gcc latest

To view detailed results, visit:
https://lab.dpdk.org/results/dashboard/patchsets/9964/

UNH-IOL DPDK Community Lab

To manage your email subscriptions, visit: 
https://lab.dpdk.org/results/dashboard/preferences/subscriptions/

^ permalink raw reply	[flat|nested] 3+ messages in thread
* [dpdk-test-report] |SUCCESS| pw66629-66632 [PATCH] [v3, 1/4] test: enable tests to run in no-huge mode
@ 2020-03-13  9:26 dpdklab
  0 siblings, 0 replies; 3+ messages in thread
From: dpdklab @ 2020-03-13  9:26 UTC (permalink / raw)
  To: Test Report; +Cc: dpdk-test-reports

[-- Attachment #1: Type: text/plain, Size: 1261 bytes --]

Test-Label: iol-intel-Performance
Test-Status: SUCCESS
http://dpdk.org/patch/66629

_Performance Testing PASS_

Submitter: Ruifeng Wang <ruifeng.wang@arm.com>
Date: Friday, March 13 2020 08:16:11 
DPDK git baseline: Repo:dpdk
  Branch: master
  CommitID:2a860943b847fbd44e08ef4f1ca66de759875c9e

66629-66632 --> performance testing pass

Test environment and result as below:

Ubuntu 18.04
Kernel: 4.15.0-generic
Compiler: gcc 7.4
NIC: Intel Corporation Ethernet Converged Network Adapter XL710-QDA2 40000 Mbps
Target: x86_64-native-linuxapp-gcc
Fail/Total: 0/2

Detail performance results: 
+------------+---------+-------------------------------------+
| frame_size | txd/rxd | throughput difference from expected |
+============+=========+=====================================+
| 64         | 512     | -0.404                              |
+------------+---------+-------------------------------------+
| 64         | 2048    | 0.060                               |
+------------+---------+-------------------------------------+

To view detailed results, visit:
https://lab.dpdk.org/results/dashboard/patchsets/9964/

UNH-IOL DPDK Community Lab

To manage your email subscriptions, visit: 
https://lab.dpdk.org/results/dashboard/preferences/subscriptions/

^ permalink raw reply	[flat|nested] 3+ messages in thread
* [dpdk-test-report] |SUCCESS| pw66629-66632 [PATCH] [v3, 1/4] test: enable tests to run in no-huge mode
@ 2020-03-13  9:26 dpdklab
  0 siblings, 0 replies; 3+ messages in thread
From: dpdklab @ 2020-03-13  9:26 UTC (permalink / raw)
  To: Ali Alnubani, Test Report; +Cc: dpdk-test-reports

[-- Attachment #1: Type: text/plain, Size: 3965 bytes --]

Test-Label: iol-mellanox-Performance
Test-Status: SUCCESS
http://dpdk.org/patch/66629

_Performance Testing PASS_

Submitter: Ruifeng Wang <ruifeng.wang@arm.com>
Date: Friday, March 13 2020 08:16:11 
DPDK git baseline: Repo:dpdk
  Branch: master
  CommitID:2a860943b847fbd44e08ef4f1ca66de759875c9e

66629-66632 --> performance testing pass

Test environment and result as below:

Ubuntu 18.04
Kernel: 4.15.0-generic
Compiler: gcc 7.4
NIC: Mellanox ConnectX-5 100000 Mbps
Target: x86_64-native-linuxapp-gcc
Fail/Total: 0/6

Detail performance results: 
+------------+---------+-------------------------------------+
| frame_size | txd/rxd | throughput difference from expected |
+============+=========+=====================================+
| 64         | 256     | -0.478                              |
+------------+---------+-------------------------------------+
| 128        | 256     | -0.229                              |
+------------+---------+-------------------------------------+
| 256        | 256     | 0.003                               |
+------------+---------+-------------------------------------+
| 512        | 256     | -0.126                              |
+------------+---------+-------------------------------------+
| 1024       | 256     | 0.094                               |
+------------+---------+-------------------------------------+
| 1518       | 256     | 0.002                               |
+------------+---------+-------------------------------------+

Ubuntu 18.04
Kernel: 4.15.0-generic
Compiler: gcc 7.4
NIC: Mellanox ConnectX-4 Lx 25000 Mbps
Target: x86_64-native-linuxapp-gcc
Fail/Total: 0/6

Detail performance results: 
+------------+---------+-------------------------------------+
| frame_size | txd/rxd | throughput difference from expected |
+============+=========+=====================================+
| 64         | 256     | -0.039                              |
+------------+---------+-------------------------------------+
| 128        | 256     | -0.046                              |
+------------+---------+-------------------------------------+
| 256        | 256     | -0.113                              |
+------------+---------+-------------------------------------+
| 512        | 256     | -0.030                              |
+------------+---------+-------------------------------------+
| 1024       | 256     | 0.002                               |
+------------+---------+-------------------------------------+
| 1518       | 256     | -0.012                              |
+------------+---------+-------------------------------------+

Ubuntu 18.04
Kernel: 4.15.0-generic
Compiler: gcc 7.4
NIC: Mellanox ConnectX-4 Lx 40000 Mbps
Target: x86_64-native-linuxapp-gcc
Fail/Total: 0/6

Detail performance results: 
+------------+---------+-------------------------------------+
| frame_size | txd/rxd | throughput difference from expected |
+============+=========+=====================================+
| 64         | 256     | 0.088                               |
+------------+---------+-------------------------------------+
| 128        | 256     | -0.174                              |
+------------+---------+-------------------------------------+
| 256        | 256     | -0.032                              |
+------------+---------+-------------------------------------+
| 512        | 256     | 0.001                               |
+------------+---------+-------------------------------------+
| 1024       | 256     | 0.009                               |
+------------+---------+-------------------------------------+
| 1518       | 256     | -0.021                              |
+------------+---------+-------------------------------------+

To view detailed results, visit:
https://lab.dpdk.org/results/dashboard/patchsets/9964/

UNH-IOL DPDK Community Lab

To manage your email subscriptions, visit: 
https://lab.dpdk.org/results/dashboard/preferences/subscriptions/

^ permalink raw reply	[flat|nested] 3+ messages in thread

end of thread, other threads:[~2020-03-13  9:27 UTC | newest]

Thread overview: 3+ messages (download: mbox.gz / follow: Atom feed)
-- links below jump to the message on this page --
2020-03-13  9:26 [dpdk-test-report] |SUCCESS| pw66629-66632 [PATCH] [v3, 1/4] test: enable tests to run in no-huge mode dpdklab
2020-03-13  9:26 dpdklab
2020-03-13  9:26 dpdklab

automatic DPDK test reports

This inbox may be cloned and mirrored by anyone:

	git clone --mirror https://inbox.dpdk.org/test-report/0 test-report/git/0.git

	# If you have public-inbox 1.1+ installed, you may
	# initialize and index your mirror using the following commands:
	public-inbox-init -V2 test-report test-report/ https://inbox.dpdk.org/test-report \
		test-report@dpdk.org
	public-inbox-index test-report

Example config snippet for mirrors.
Newsgroup available over NNTP:
	nntp://inbox.dpdk.org/inbox.dpdk.test-report


AGPL code for this site: git clone https://public-inbox.org/public-inbox.git