* [dpdk-test-report] |SUCCESS| pw66673 [PATCH] net/ipn3ke: use ctrl thread to check link status
[not found] <1584338837-436345-1-git-send-email-andy.pei@intel.com>
@ 2020-03-16 6:25 ` checkpatch
2020-03-16 8:06 ` [dpdk-test-report] |SUCCESS| pw66673 " 0-day Robot
1 sibling, 0 replies; 5+ messages in thread
From: checkpatch @ 2020-03-16 6:25 UTC (permalink / raw)
To: test-report
Test-Label: checkpatch
Test-Status: SUCCESS
http://dpdk.org/patch/66673
_coding style OK_
^ permalink raw reply [flat|nested] 5+ messages in thread
* [dpdk-test-report] |SUCCESS| pw66673 net/ipn3ke: use ctrl thread to check link status
[not found] <1584338837-436345-1-git-send-email-andy.pei@intel.com>
2020-03-16 6:25 ` [dpdk-test-report] |SUCCESS| pw66673 [PATCH] net/ipn3ke: use ctrl thread to check link status checkpatch
@ 2020-03-16 8:06 ` 0-day Robot
1 sibling, 0 replies; 5+ messages in thread
From: 0-day Robot @ 2020-03-16 8:06 UTC (permalink / raw)
To: test-report; +Cc: robot
From: robot@bytheb.org
Test-Label: travis-robot
Test-Status: SUCCESS
http://dpdk.org/patch/66673
_Travis build: passed_
Build URL: https://travis-ci.com/ovsrobot/dpdk/builds/153448583
^ permalink raw reply [flat|nested] 5+ messages in thread
* [dpdk-test-report] |SUCCESS| pw66673 [PATCH] net/ipn3ke: use ctrl thread to check link status
@ 2020-03-16 7:23 dpdklab
0 siblings, 0 replies; 5+ messages in thread
From: dpdklab @ 2020-03-16 7:23 UTC (permalink / raw)
To: Test Report; +Cc: dpdk-test-reports
[-- Attachment #1: Type: text/plain, Size: 2898 bytes --]
Test-Label: iol-testing
Test-Status: SUCCESS
http://dpdk.org/patch/66673
_Testing PASS_
Submitter: Andy Pei <andy.pei@intel.com>
Date: Monday, March 16 2020 06:07:17
DPDK git baseline: Repo:dpdk
Branch: master
CommitID:341a793eb193a104c571172e724a98b2552c55cf
66673 --> testing pass
Test environment and result as below:
+---------------------+--------------------+--------------+------------------+-------------------+----------------+
| Environment | dpdk_meson_compile | dpdk_compile | dpdk_compile_ovs | dpdk_compile_spdk | dpdk_unit_test |
+=====================+====================+==============+==================+===================+================+
| Windows Server 2019 | PASS | SKIPPED | SKIPPED | SKIPPED | SKIPPED |
+---------------------+--------------------+--------------+------------------+-------------------+----------------+
| Fedora 31 | PASS | PASS | PASS | PASS | SKIPPED |
+---------------------+--------------------+--------------+------------------+-------------------+----------------+
| openSUSE Leap 15 | PASS | PASS | PASS | PASS | SKIPPED |
+---------------------+--------------------+--------------+------------------+-------------------+----------------+
| CentOS 8 | PASS | PASS | PASS | PASS | SKIPPED |
+---------------------+--------------------+--------------+------------------+-------------------+----------------+
| Ubuntu 18.04 | PASS | PASS | PASS | PASS | PASS |
+---------------------+--------------------+--------------+------------------+-------------------+----------------+
| FreeBSD 11.2 | PASS | PASS | SKIPPED | PASS | SKIPPED |
+---------------------+--------------------+--------------+------------------+-------------------+----------------+
| Arch Linux | PASS | PASS | PASS | SKIPPED | SKIPPED |
+---------------------+--------------------+--------------+------------------+-------------------+----------------+
Windows Server 2019
Kernel: 10.0
Compiler: clang 9.0
Fedora 31
Kernel: 5.3.16
Compiler: gcc 9.2.1
openSUSE Leap 15
Kernel: 4.12.14
Compiler: gcc 7.4.1
CentOS 8
Kernel: 4.18.0.el8_0
Compiler: gcc 8.3.1
Ubuntu 18.04
Kernel: 4.15.0-generic
Compiler: gcc 7.4
FreeBSD 11.2
Kernel: 11.2
Compiler: gcc 8.3
Arch Linux
Kernel: latest
Compiler: gcc latest
To view detailed results, visit:
https://lab.dpdk.org/results/dashboard/patchsets/9980/
UNH-IOL DPDK Community Lab
To manage your email subscriptions, visit:
https://lab.dpdk.org/results/dashboard/preferences/subscriptions/
^ permalink raw reply [flat|nested] 5+ messages in thread
* [dpdk-test-report] |SUCCESS| pw66673 [PATCH] net/ipn3ke: use ctrl thread to check link status
@ 2020-03-16 7:21 dpdklab
0 siblings, 0 replies; 5+ messages in thread
From: dpdklab @ 2020-03-16 7:21 UTC (permalink / raw)
To: Ali Alnubani, Test Report; +Cc: dpdk-test-reports
[-- Attachment #1: Type: text/plain, Size: 3953 bytes --]
Test-Label: iol-mellanox-Performance
Test-Status: SUCCESS
http://dpdk.org/patch/66673
_Performance Testing PASS_
Submitter: Andy Pei <andy.pei@intel.com>
Date: Monday, March 16 2020 06:07:17
DPDK git baseline: Repo:dpdk
Branch: master
CommitID:341a793eb193a104c571172e724a98b2552c55cf
66673 --> performance testing pass
Test environment and result as below:
Ubuntu 18.04
Kernel: 4.15.0-generic
Compiler: gcc 7.4
NIC: Mellanox ConnectX-5 100000 Mbps
Target: x86_64-native-linuxapp-gcc
Fail/Total: 0/6
Detail performance results:
+------------+---------+-------------------------------------+
| frame_size | txd/rxd | throughput difference from expected |
+============+=========+=====================================+
| 64 | 256 | -0.045 |
+------------+---------+-------------------------------------+
| 128 | 256 | -0.031 |
+------------+---------+-------------------------------------+
| 256 | 256 | 0.109 |
+------------+---------+-------------------------------------+
| 512 | 256 | 0.146 |
+------------+---------+-------------------------------------+
| 1024 | 256 | -0.034 |
+------------+---------+-------------------------------------+
| 1518 | 256 | 0.013 |
+------------+---------+-------------------------------------+
Ubuntu 18.04
Kernel: 4.15.0-generic
Compiler: gcc 7.4
NIC: Mellanox ConnectX-4 Lx 25000 Mbps
Target: x86_64-native-linuxapp-gcc
Fail/Total: 0/6
Detail performance results:
+------------+---------+-------------------------------------+
| frame_size | txd/rxd | throughput difference from expected |
+============+=========+=====================================+
| 64 | 256 | 0.343 |
+------------+---------+-------------------------------------+
| 128 | 256 | -0.100 |
+------------+---------+-------------------------------------+
| 256 | 256 | 0.097 |
+------------+---------+-------------------------------------+
| 512 | 256 | -0.013 |
+------------+---------+-------------------------------------+
| 1024 | 256 | -0.010 |
+------------+---------+-------------------------------------+
| 1518 | 256 | -0.001 |
+------------+---------+-------------------------------------+
Ubuntu 18.04
Kernel: 4.15.0-generic
Compiler: gcc 7.4
NIC: Mellanox ConnectX-4 Lx 40000 Mbps
Target: x86_64-native-linuxapp-gcc
Fail/Total: 0/6
Detail performance results:
+------------+---------+-------------------------------------+
| frame_size | txd/rxd | throughput difference from expected |
+============+=========+=====================================+
| 64 | 256 | 0.002 |
+------------+---------+-------------------------------------+
| 128 | 256 | 0.007 |
+------------+---------+-------------------------------------+
| 256 | 256 | 0.001 |
+------------+---------+-------------------------------------+
| 512 | 256 | -0.007 |
+------------+---------+-------------------------------------+
| 1024 | 256 | -0.025 |
+------------+---------+-------------------------------------+
| 1518 | 256 | 0 |
+------------+---------+-------------------------------------+
To view detailed results, visit:
https://lab.dpdk.org/results/dashboard/patchsets/9980/
UNH-IOL DPDK Community Lab
To manage your email subscriptions, visit:
https://lab.dpdk.org/results/dashboard/preferences/subscriptions/
^ permalink raw reply [flat|nested] 5+ messages in thread
* [dpdk-test-report] |SUCCESS| pw66673 [PATCH] net/ipn3ke: use ctrl thread to check link status
@ 2020-03-16 7:21 dpdklab
0 siblings, 0 replies; 5+ messages in thread
From: dpdklab @ 2020-03-16 7:21 UTC (permalink / raw)
To: Test Report; +Cc: dpdk-test-reports
[-- Attachment #1: Type: text/plain, Size: 1249 bytes --]
Test-Label: iol-intel-Performance
Test-Status: SUCCESS
http://dpdk.org/patch/66673
_Performance Testing PASS_
Submitter: Andy Pei <andy.pei@intel.com>
Date: Monday, March 16 2020 06:07:17
DPDK git baseline: Repo:dpdk
Branch: master
CommitID:341a793eb193a104c571172e724a98b2552c55cf
66673 --> performance testing pass
Test environment and result as below:
Ubuntu 18.04
Kernel: 4.15.0-generic
Compiler: gcc 7.4
NIC: Intel Corporation Ethernet Converged Network Adapter XL710-QDA2 40000 Mbps
Target: x86_64-native-linuxapp-gcc
Fail/Total: 0/2
Detail performance results:
+------------+---------+-------------------------------------+
| frame_size | txd/rxd | throughput difference from expected |
+============+=========+=====================================+
| 64 | 512 | 0.137 |
+------------+---------+-------------------------------------+
| 64 | 2048 | 0.599 |
+------------+---------+-------------------------------------+
To view detailed results, visit:
https://lab.dpdk.org/results/dashboard/patchsets/9980/
UNH-IOL DPDK Community Lab
To manage your email subscriptions, visit:
https://lab.dpdk.org/results/dashboard/preferences/subscriptions/
^ permalink raw reply [flat|nested] 5+ messages in thread
end of thread, other threads:[~2020-03-16 8:08 UTC | newest]
Thread overview: 5+ messages (download: mbox.gz / follow: Atom feed)
-- links below jump to the message on this page --
[not found] <1584338837-436345-1-git-send-email-andy.pei@intel.com>
2020-03-16 6:25 ` [dpdk-test-report] |SUCCESS| pw66673 [PATCH] net/ipn3ke: use ctrl thread to check link status checkpatch
2020-03-16 8:06 ` [dpdk-test-report] |SUCCESS| pw66673 " 0-day Robot
2020-03-16 7:23 [dpdk-test-report] |SUCCESS| pw66673 [PATCH] " dpdklab
-- strict thread matches above, loose matches on Subject: below --
2020-03-16 7:21 dpdklab
2020-03-16 7:21 dpdklab
This is a public inbox, see mirroring instructions
for how to clone and mirror all data and code used for this inbox;
as well as URLs for NNTP newsgroup(s).