Test-Label: checkpatch Test-Status: SUCCESS http://dpdk.org/patch/67026 _coding style OK_
[-- Attachment #1: Type: text/plain, Size: 1263 bytes --] Test-Label: iol-intel-Performance Test-Status: SUCCESS http://dpdk.org/patch/67026 _Performance Testing PASS_ Submitter: David Marchand <david.marchand@redhat.com> Date: Monday, March 23 2020 08:39:52 DPDK git baseline: Repo:dpdk Branch: master CommitID:4a3c160742ab4ea7eca7c6e6eec81edbb6906d22 67026 --> performance testing pass Test environment and result as below: Ubuntu 18.04 Kernel: 4.15.0-generic Compiler: gcc 7.4 NIC: Intel Corporation Ethernet Converged Network Adapter XL710-QDA2 40000 Mbps Target: x86_64-native-linuxapp-gcc Fail/Total: 0/2 Detail performance results: +------------+---------+-------------------------------------+ | frame_size | txd/rxd | throughput difference from expected | +============+=========+=====================================+ | 64 | 512 | 0.663 | +------------+---------+-------------------------------------+ | 64 | 2048 | -0.281 | +------------+---------+-------------------------------------+ To view detailed results, visit: https://lab.dpdk.org/results/dashboard/patchsets/10069/ UNH-IOL DPDK Community Lab To manage your email subscriptions, visit: https://lab.dpdk.org/results/dashboard/preferences/subscriptions/
[-- Attachment #1: Type: text/plain, Size: 3967 bytes --] Test-Label: iol-mellanox-Performance Test-Status: SUCCESS http://dpdk.org/patch/67026 _Performance Testing PASS_ Submitter: David Marchand <david.marchand@redhat.com> Date: Monday, March 23 2020 08:39:52 DPDK git baseline: Repo:dpdk Branch: master CommitID:4a3c160742ab4ea7eca7c6e6eec81edbb6906d22 67026 --> performance testing pass Test environment and result as below: Ubuntu 18.04 Kernel: 4.15.0-generic Compiler: gcc 7.4 NIC: Mellanox ConnectX-5 100000 Mbps Target: x86_64-native-linuxapp-gcc Fail/Total: 0/6 Detail performance results: +------------+---------+-------------------------------------+ | frame_size | txd/rxd | throughput difference from expected | +============+=========+=====================================+ | 64 | 256 | -0.048 | +------------+---------+-------------------------------------+ | 128 | 256 | -0.041 | +------------+---------+-------------------------------------+ | 256 | 256 | -0.008 | +------------+---------+-------------------------------------+ | 512 | 256 | 0.047 | +------------+---------+-------------------------------------+ | 1024 | 256 | 0.003 | +------------+---------+-------------------------------------+ | 1518 | 256 | -0.014 | +------------+---------+-------------------------------------+ Ubuntu 18.04 Kernel: 4.15.0-generic Compiler: gcc 7.4 NIC: Mellanox ConnectX-4 Lx 40000 Mbps Target: x86_64-native-linuxapp-gcc Fail/Total: 0/6 Detail performance results: +------------+---------+-------------------------------------+ | frame_size | txd/rxd | throughput difference from expected | +============+=========+=====================================+ | 64 | 256 | -0.037 | +------------+---------+-------------------------------------+ | 128 | 256 | -0.366 | +------------+---------+-------------------------------------+ | 256 | 256 | -0.037 | +------------+---------+-------------------------------------+ | 512 | 256 | 0.022 | +------------+---------+-------------------------------------+ | 1024 | 256 | -0.004 | +------------+---------+-------------------------------------+ | 1518 | 256 | -0.007 | +------------+---------+-------------------------------------+ Ubuntu 18.04 Kernel: 4.15.0-generic Compiler: gcc 7.4 NIC: Mellanox ConnectX-4 Lx 25000 Mbps Target: x86_64-native-linuxapp-gcc Fail/Total: 0/6 Detail performance results: +------------+---------+-------------------------------------+ | frame_size | txd/rxd | throughput difference from expected | +============+=========+=====================================+ | 64 | 256 | 0.219 | +------------+---------+-------------------------------------+ | 128 | 256 | 0.008 | +------------+---------+-------------------------------------+ | 256 | 256 | -0.166 | +------------+---------+-------------------------------------+ | 512 | 256 | 0.012 | +------------+---------+-------------------------------------+ | 1024 | 256 | 0.008 | +------------+---------+-------------------------------------+ | 1518 | 256 | -0.014 | +------------+---------+-------------------------------------+ To view detailed results, visit: https://lab.dpdk.org/results/dashboard/patchsets/10069/ UNH-IOL DPDK Community Lab To manage your email subscriptions, visit: https://lab.dpdk.org/results/dashboard/preferences/subscriptions/
[-- Attachment #1: Type: text/plain, Size: 2912 bytes --] Test-Label: iol-testing Test-Status: SUCCESS http://dpdk.org/patch/67026 _Testing PASS_ Submitter: David Marchand <david.marchand@redhat.com> Date: Monday, March 23 2020 08:39:52 DPDK git baseline: Repo:dpdk Branch: master CommitID:4a3c160742ab4ea7eca7c6e6eec81edbb6906d22 67026 --> testing pass Test environment and result as below: +---------------------+--------------------+--------------+------------------+-------------------+----------------+ | Environment | dpdk_meson_compile | dpdk_compile | dpdk_compile_ovs | dpdk_compile_spdk | dpdk_unit_test | +=====================+====================+==============+==================+===================+================+ | Windows Server 2019 | PASS | SKIPPED | SKIPPED | SKIPPED | SKIPPED | +---------------------+--------------------+--------------+------------------+-------------------+----------------+ | Fedora 31 | PASS | PASS | PASS | PASS | SKIPPED | +---------------------+--------------------+--------------+------------------+-------------------+----------------+ | Ubuntu 18.04 | PASS | PASS | PASS | PASS | PASS | +---------------------+--------------------+--------------+------------------+-------------------+----------------+ | CentOS 8 | PASS | PASS | PASS | PASS | SKIPPED | +---------------------+--------------------+--------------+------------------+-------------------+----------------+ | openSUSE Leap 15 | PASS | PASS | PASS | PASS | SKIPPED | +---------------------+--------------------+--------------+------------------+-------------------+----------------+ | FreeBSD 11.2 | PASS | PASS | SKIPPED | PASS | SKIPPED | +---------------------+--------------------+--------------+------------------+-------------------+----------------+ | Arch Linux | PASS | PASS | PASS | SKIPPED | SKIPPED | +---------------------+--------------------+--------------+------------------+-------------------+----------------+ Windows Server 2019 Kernel: 10.0 Compiler: clang 9.0 Fedora 31 Kernel: 5.3.16 Compiler: gcc 9.2.1 Ubuntu 18.04 Kernel: 4.15.0-generic Compiler: gcc 7.4 CentOS 8 Kernel: 4.18.0.el8_0 Compiler: gcc 8.3.1 openSUSE Leap 15 Kernel: 4.12.14 Compiler: gcc 7.4.1 FreeBSD 11.2 Kernel: 11.2 Compiler: gcc 8.3 Arch Linux Kernel: latest Compiler: gcc latest To view detailed results, visit: https://lab.dpdk.org/results/dashboard/patchsets/10069/ UNH-IOL DPDK Community Lab To manage your email subscriptions, visit: https://lab.dpdk.org/results/dashboard/preferences/subscriptions/