* [dpdk-test-report] |SUCCESS| pw67092-67094 [PATCH] [1/3] net/i40e/base: update X722/X710 FW API version to 1.10
@ 2020-03-25 5:33 dpdklab
0 siblings, 0 replies; 4+ messages in thread
From: dpdklab @ 2020-03-25 5:33 UTC (permalink / raw)
To: Test Report; +Cc: dpdk-test-reports
[-- Attachment #1: Type: text/plain, Size: 2631 bytes --]
Test-Label: iol-testing
Test-Status: SUCCESS
http://dpdk.org/patch/67092
_Testing PASS_
Submitter: Jiaqi Min <jiaqix.min@intel.com>
Date: Wednesday, March 25 2020 03:23:54
DPDK git baseline: Repo:dpdk
Branch: master
CommitID:83bc8bb1a8ec5e57515778216351fa0cdef9599a
67092-67094 --> testing pass
Test environment and result as below:
+---------------------+--------------------+-------------------+--------------+------------------+----------------+
| Environment | dpdk_meson_compile | dpdk_compile_spdk | dpdk_compile | dpdk_compile_ovs | dpdk_unit_test |
+=====================+====================+===================+==============+==================+================+
| Windows Server 2019 | PASS | SKIPPED | SKIPPED | SKIPPED | SKIPPED |
+---------------------+--------------------+-------------------+--------------+------------------+----------------+
| CentOS 8 | PASS | PASS | PASS | PASS | SKIPPED |
+---------------------+--------------------+-------------------+--------------+------------------+----------------+
| Ubuntu 18.04 | PASS | PASS | PASS | PASS | PASS |
+---------------------+--------------------+-------------------+--------------+------------------+----------------+
| openSUSE Leap 15 | PASS | PASS | PASS | PASS | SKIPPED |
+---------------------+--------------------+-------------------+--------------+------------------+----------------+
| FreeBSD 11.2 | PASS | PASS | PASS | SKIPPED | SKIPPED |
+---------------------+--------------------+-------------------+--------------+------------------+----------------+
| Arch Linux | PASS | SKIPPED | PASS | PASS | SKIPPED |
+---------------------+--------------------+-------------------+--------------+------------------+----------------+
Windows Server 2019
Kernel: 10.0
Compiler: clang 9.0
CentOS 8
Kernel: 4.18.0.el8_0
Compiler: gcc 8.3.1
Ubuntu 18.04
Kernel: 4.15.0-generic
Compiler: gcc 7.4
openSUSE Leap 15
Kernel: 4.12.14
Compiler: gcc 7.4.1
FreeBSD 11.2
Kernel: 11.2
Compiler: gcc 8.3
Arch Linux
Kernel: latest
Compiler: gcc latest
To view detailed results, visit:
https://lab.dpdk.org/results/dashboard/patchsets/10095/
UNH-IOL DPDK Community Lab
To manage your email subscriptions, visit:
https://lab.dpdk.org/results/dashboard/preferences/subscriptions/
^ permalink raw reply [flat|nested] 4+ messages in thread
* [dpdk-test-report] |SUCCESS| pw67092-67094 [PATCH] [1/3] net/i40e/base: update X722/X710 FW API version to 1.10
@ 2020-03-25 4:43 dpdklab
0 siblings, 0 replies; 4+ messages in thread
From: dpdklab @ 2020-03-25 4:43 UTC (permalink / raw)
To: Ali Alnubani, Test Report; +Cc: dpdk-test-reports
[-- Attachment #1: Type: text/plain, Size: 2846 bytes --]
Test-Label: iol-mellanox-Performance
Test-Status: SUCCESS
http://dpdk.org/patch/67092
_Performance Testing PASS_
Submitter: Jiaqi Min <jiaqix.min@intel.com>
Date: Wednesday, March 25 2020 03:23:54
DPDK git baseline: Repo:dpdk
Branch: master
CommitID:83bc8bb1a8ec5e57515778216351fa0cdef9599a
67092-67094 --> performance testing pass
Test environment and result as below:
Ubuntu 18.04
Kernel: 4.15.0-generic
Compiler: gcc 7.4
NIC: Mellanox ConnectX-4 Lx 25000 Mbps
Target: x86_64-native-linuxapp-gcc
Fail/Total: 0/6
Detail performance results:
+------------+---------+-------------------------------------+
| frame_size | txd/rxd | throughput difference from expected |
+============+=========+=====================================+
| 64 | 256 | 0.188 |
+------------+---------+-------------------------------------+
| 128 | 256 | 0.007 |
+------------+---------+-------------------------------------+
| 256 | 256 | -0.242 |
+------------+---------+-------------------------------------+
| 512 | 256 | -0.001 |
+------------+---------+-------------------------------------+
| 1024 | 256 | 0.007 |
+------------+---------+-------------------------------------+
| 1518 | 256 | -0.006 |
+------------+---------+-------------------------------------+
Ubuntu 18.04
Kernel: 4.15.0-generic
Compiler: gcc 7.4
NIC: Mellanox ConnectX-5 100000 Mbps
Target: x86_64-native-linuxapp-gcc
Fail/Total: 0/6
Detail performance results:
+------------+---------+-------------------------------------+
| frame_size | txd/rxd | throughput difference from expected |
+============+=========+=====================================+
| 64 | 256 | 0.149 |
+------------+---------+-------------------------------------+
| 128 | 256 | 0.129 |
+------------+---------+-------------------------------------+
| 256 | 256 | 0.095 |
+------------+---------+-------------------------------------+
| 512 | 256 | 0.126 |
+------------+---------+-------------------------------------+
| 1024 | 256 | 0.074 |
+------------+---------+-------------------------------------+
| 1518 | 256 | -0.011 |
+------------+---------+-------------------------------------+
To view detailed results, visit:
https://lab.dpdk.org/results/dashboard/patchsets/10095/
UNH-IOL DPDK Community Lab
To manage your email subscriptions, visit:
https://lab.dpdk.org/results/dashboard/preferences/subscriptions/
^ permalink raw reply [flat|nested] 4+ messages in thread
* [dpdk-test-report] |SUCCESS| pw67092-67094 [PATCH] [1/3] net/i40e/base: update X722/X710 FW API version to 1.10
@ 2020-03-25 4:19 dpdklab
0 siblings, 0 replies; 4+ messages in thread
From: dpdklab @ 2020-03-25 4:19 UTC (permalink / raw)
To: Test Report; +Cc: dpdk-test-reports
[-- Attachment #1: Type: text/plain, Size: 1916 bytes --]
Test-Label: iol-intel-Performance
Test-Status: SUCCESS
http://dpdk.org/patch/67092
_Performance Testing PASS_
Submitter: Jiaqi Min <jiaqix.min@intel.com>
Date: Wednesday, March 25 2020 03:23:54
DPDK git baseline: Repo:dpdk
Branch: master
CommitID:83bc8bb1a8ec5e57515778216351fa0cdef9599a
67092-67094 --> performance testing pass
Test environment and result as below:
Ubuntu 18.04
Kernel: 4.15.0-generic
Compiler: gcc 7.4
NIC: Intel Corporation Ethernet Converged Network Adapter XL710-QDA2 40000 Mbps
Target: x86_64-native-linuxapp-gcc
Fail/Total: 0/2
Detail performance results:
+------------+---------+-------------------------------------+
| frame_size | txd/rxd | throughput difference from expected |
+============+=========+=====================================+
| 64 | 512 | -0.353 |
+------------+---------+-------------------------------------+
| 64 | 2048 | -0.161 |
+------------+---------+-------------------------------------+
Ubuntu 18.04
Kernel: 4.15.0-generic
Compiler: gcc 7.4
NIC: Intel Corporation Ethernet Converged Network Adapter 82599ES 10000 Mbps
Target: x86_64-native-linuxapp-gcc
Fail/Total: 0/2
Detail performance results:
+------------+---------+-------------------------------------+
| frame_size | txd/rxd | throughput difference from expected |
+============+=========+=====================================+
| 64 | 512 | -0.042 |
+------------+---------+-------------------------------------+
| 64 | 2048 | 0.422 |
+------------+---------+-------------------------------------+
To view detailed results, visit:
https://lab.dpdk.org/results/dashboard/patchsets/10095/
UNH-IOL DPDK Community Lab
To manage your email subscriptions, visit:
https://lab.dpdk.org/results/dashboard/preferences/subscriptions/
^ permalink raw reply [flat|nested] 4+ messages in thread
* [dpdk-test-report] |SUCCESS| pw67092-67094 [PATCH] [1/3] net/i40e/base: update X722/X710 FW API version to 1.10
@ 2020-03-25 4:19 dpdklab
0 siblings, 0 replies; 4+ messages in thread
From: dpdklab @ 2020-03-25 4:19 UTC (permalink / raw)
To: Ali Alnubani, Test Report; +Cc: dpdk-test-reports
[-- Attachment #1: Type: text/plain, Size: 1728 bytes --]
Test-Label: iol-mellanox-Performance
Test-Status: SUCCESS
http://dpdk.org/patch/67092
_Performance Testing PASS_
Submitter: Jiaqi Min <jiaqix.min@intel.com>
Date: Wednesday, March 25 2020 03:23:54
DPDK git baseline: Repo:dpdk
Branch: master
CommitID:83bc8bb1a8ec5e57515778216351fa0cdef9599a
67092-67094 --> performance testing pass
Test environment and result as below:
Ubuntu 18.04
Kernel: 4.15.0-generic
Compiler: gcc 7.4
NIC: Mellanox ConnectX-4 Lx 40000 Mbps
Target: x86_64-native-linuxapp-gcc
Fail/Total: 0/6
Detail performance results:
+------------+---------+-------------------------------------+
| frame_size | txd/rxd | throughput difference from expected |
+============+=========+=====================================+
| 64 | 256 | 0.442 |
+------------+---------+-------------------------------------+
| 128 | 256 | 0.109 |
+------------+---------+-------------------------------------+
| 256 | 256 | 0.050 |
+------------+---------+-------------------------------------+
| 512 | 256 | 0.017 |
+------------+---------+-------------------------------------+
| 1024 | 256 | 0.023 |
+------------+---------+-------------------------------------+
| 1518 | 256 | -0.017 |
+------------+---------+-------------------------------------+
To view detailed results, visit:
https://lab.dpdk.org/results/dashboard/patchsets/10095/
UNH-IOL DPDK Community Lab
To manage your email subscriptions, visit:
https://lab.dpdk.org/results/dashboard/preferences/subscriptions/
^ permalink raw reply [flat|nested] 4+ messages in thread
end of thread, other threads:[~2020-03-25 5:33 UTC | newest]
Thread overview: 4+ messages (download: mbox.gz / follow: Atom feed)
-- links below jump to the message on this page --
2020-03-25 5:33 [dpdk-test-report] |SUCCESS| pw67092-67094 [PATCH] [1/3] net/i40e/base: update X722/X710 FW API version to 1.10 dpdklab
-- strict thread matches above, loose matches on Subject: below --
2020-03-25 4:43 dpdklab
2020-03-25 4:19 dpdklab
2020-03-25 4:19 dpdklab
This is a public inbox, see mirroring instructions
for how to clone and mirror all data and code used for this inbox;
as well as URLs for NNTP newsgroup(s).