* [dpdk-test-report] |SUCCESS| pw68040 [PATCH] eal: return -1 if rte_lcore_index called from non-DPDK thread
[not found] <20200408202419.16471-1-stephen@networkplumber.org>
@ 2020-04-08 20:25 ` checkpatch
2020-04-08 22:10 ` [dpdk-test-report] |SUCCESS| pw68040 " 0-day Robot
1 sibling, 0 replies; 6+ messages in thread
From: checkpatch @ 2020-04-08 20:25 UTC (permalink / raw)
To: test-report
Test-Label: checkpatch
Test-Status: SUCCESS
http://dpdk.org/patch/68040
_coding style OK_
^ permalink raw reply [flat|nested] 6+ messages in thread
* [dpdk-test-report] |SUCCESS| pw68040 eal: return -1 if rte_lcore_index called from non-DPDK thread
[not found] <20200408202419.16471-1-stephen@networkplumber.org>
2020-04-08 20:25 ` [dpdk-test-report] |SUCCESS| pw68040 [PATCH] eal: return -1 if rte_lcore_index called from non-DPDK thread checkpatch
@ 2020-04-08 22:10 ` 0-day Robot
1 sibling, 0 replies; 6+ messages in thread
From: 0-day Robot @ 2020-04-08 22:10 UTC (permalink / raw)
To: test-report; +Cc: robot
From: robot@bytheb.org
Test-Label: travis-robot
Test-Status: SUCCESS
http://dpdk.org/patch/68040
_Travis build: passed_
Build URL: https://travis-ci.com/ovsrobot/dpdk/builds/159487399
^ permalink raw reply [flat|nested] 6+ messages in thread
* [dpdk-test-report] |SUCCESS| pw68040 [PATCH] eal: return -1 if rte_lcore_index called from non-DPDK thread
@ 2020-04-08 21:32 dpdklab
0 siblings, 0 replies; 6+ messages in thread
From: dpdklab @ 2020-04-08 21:32 UTC (permalink / raw)
To: Test Report; +Cc: dpdk-test-reports
[-- Attachment #1: Type: text/plain, Size: 2919 bytes --]
Test-Label: iol-testing
Test-Status: SUCCESS
http://dpdk.org/patch/68040
_Testing PASS_
Submitter: Stephen Hemminger <stephen@networkplumber.org>
Date: Wednesday, April 08 2020 20:24:19
DPDK git baseline: Repo:dpdk
Branch: master
CommitID:10c69730a4b4910b4d57c365329a6c26479d25cd
68040 --> testing pass
Test environment and result as below:
+---------------------+--------------------+-------------------+------------------+--------------+----------------+
| Environment | dpdk_meson_compile | dpdk_compile_spdk | dpdk_compile_ovs | dpdk_compile | dpdk_unit_test |
+=====================+====================+===================+==================+==============+================+
| Windows Server 2019 | PASS | SKIPPED | SKIPPED | SKIPPED | SKIPPED |
+---------------------+--------------------+-------------------+------------------+--------------+----------------+
| Fedora 31 | PASS | PASS | PASS | PASS | SKIPPED |
+---------------------+--------------------+-------------------+------------------+--------------+----------------+
| CentOS 8 | PASS | PASS | PASS | PASS | SKIPPED |
+---------------------+--------------------+-------------------+------------------+--------------+----------------+
| Ubuntu 18.04 | PASS | PASS | PASS | PASS | PASS |
+---------------------+--------------------+-------------------+------------------+--------------+----------------+
| openSUSE Leap 15 | PASS | PASS | PASS | PASS | SKIPPED |
+---------------------+--------------------+-------------------+------------------+--------------+----------------+
| FreeBSD 11.2 | PASS | PASS | SKIPPED | PASS | SKIPPED |
+---------------------+--------------------+-------------------+------------------+--------------+----------------+
| Arch Linux | PASS | SKIPPED | PASS | PASS | SKIPPED |
+---------------------+--------------------+-------------------+------------------+--------------+----------------+
Windows Server 2019
Kernel: 10.0
Compiler: clang 9.0
Fedora 31
Kernel: 5.3.16
Compiler: gcc 9.2.1
CentOS 8
Kernel: 4.18.0.el8_0
Compiler: gcc 8.3.1
Ubuntu 18.04
Kernel: 4.15.0-generic
Compiler: gcc 7.4
openSUSE Leap 15
Kernel: 4.12.14
Compiler: gcc 7.4.1
FreeBSD 11.2
Kernel: 11.2
Compiler: gcc 8.3
Arch Linux
Kernel: latest
Compiler: gcc latest
To view detailed results, visit:
https://lab.dpdk.org/results/dashboard/patchsets/10320/
UNH-IOL DPDK Community Lab
To manage your email subscriptions, visit:
https://lab.dpdk.org/results/dashboard/preferences/subscriptions/
^ permalink raw reply [flat|nested] 6+ messages in thread
* [dpdk-test-report] |SUCCESS| pw68040 [PATCH] eal: return -1 if rte_lcore_index called from non-DPDK thread
@ 2020-04-08 21:28 dpdklab
0 siblings, 0 replies; 6+ messages in thread
From: dpdklab @ 2020-04-08 21:28 UTC (permalink / raw)
To: Ali Alnubani, Test Report; +Cc: dpdk-test-reports
[-- Attachment #1: Type: text/plain, Size: 2854 bytes --]
Test-Label: iol-mellanox-Performance
Test-Status: SUCCESS
http://dpdk.org/patch/68040
_Performance Testing PASS_
Submitter: Stephen Hemminger <stephen@networkplumber.org>
Date: Wednesday, April 08 2020 20:24:19
DPDK git baseline: Repo:dpdk
Branch: master
CommitID:10c69730a4b4910b4d57c365329a6c26479d25cd
68040 --> performance testing pass
Test environment and result as below:
Ubuntu 18.04
Kernel: 4.15.0-generic
Compiler: gcc 7.4
NIC: Mellanox ConnectX-5 100000 Mbps
Target: x86_64-native-linuxapp-gcc
Fail/Total: 0/6
Detail performance results:
+------------+---------+-------------------------------------+
| frame_size | txd/rxd | throughput difference from expected |
+============+=========+=====================================+
| 64 | 256 | 0.262 |
+------------+---------+-------------------------------------+
| 128 | 256 | -0.283 |
+------------+---------+-------------------------------------+
| 256 | 256 | -0.034 |
+------------+---------+-------------------------------------+
| 512 | 256 | 0.005 |
+------------+---------+-------------------------------------+
| 1024 | 256 | -0.079 |
+------------+---------+-------------------------------------+
| 1518 | 256 | -0.033 |
+------------+---------+-------------------------------------+
Ubuntu 18.04
Kernel: 4.15.0-generic
Compiler: gcc 7.4
NIC: Mellanox ConnectX-4 Lx 25000 Mbps
Target: x86_64-native-linuxapp-gcc
Fail/Total: 0/6
Detail performance results:
+------------+---------+-------------------------------------+
| frame_size | txd/rxd | throughput difference from expected |
+============+=========+=====================================+
| 64 | 256 | -0.607 |
+------------+---------+-------------------------------------+
| 128 | 256 | -0.155 |
+------------+---------+-------------------------------------+
| 256 | 256 | -0.056 |
+------------+---------+-------------------------------------+
| 512 | 256 | -0.008 |
+------------+---------+-------------------------------------+
| 1024 | 256 | -0.003 |
+------------+---------+-------------------------------------+
| 1518 | 256 | -0.012 |
+------------+---------+-------------------------------------+
To view detailed results, visit:
https://lab.dpdk.org/results/dashboard/patchsets/10320/
UNH-IOL DPDK Community Lab
To manage your email subscriptions, visit:
https://lab.dpdk.org/results/dashboard/preferences/subscriptions/
^ permalink raw reply [flat|nested] 6+ messages in thread
* [dpdk-test-report] |SUCCESS| pw68040 [PATCH] eal: return -1 if rte_lcore_index called from non-DPDK thread
@ 2020-04-08 21:11 dpdklab
0 siblings, 0 replies; 6+ messages in thread
From: dpdklab @ 2020-04-08 21:11 UTC (permalink / raw)
To: Ali Alnubani, Test Report; +Cc: dpdk-test-reports
[-- Attachment #1: Type: text/plain, Size: 1736 bytes --]
Test-Label: iol-mellanox-Performance
Test-Status: SUCCESS
http://dpdk.org/patch/68040
_Performance Testing PASS_
Submitter: Stephen Hemminger <stephen@networkplumber.org>
Date: Wednesday, April 08 2020 20:24:19
DPDK git baseline: Repo:dpdk
Branch: master
CommitID:10c69730a4b4910b4d57c365329a6c26479d25cd
68040 --> performance testing pass
Test environment and result as below:
Ubuntu 18.04
Kernel: 4.15.0-generic
Compiler: gcc 7.4
NIC: Mellanox ConnectX-4 Lx 40000 Mbps
Target: x86_64-native-linuxapp-gcc
Fail/Total: 0/6
Detail performance results:
+------------+---------+-------------------------------------+
| frame_size | txd/rxd | throughput difference from expected |
+============+=========+=====================================+
| 64 | 256 | 0.496 |
+------------+---------+-------------------------------------+
| 128 | 256 | 0.266 |
+------------+---------+-------------------------------------+
| 256 | 256 | -0.018 |
+------------+---------+-------------------------------------+
| 512 | 256 | 0.002 |
+------------+---------+-------------------------------------+
| 1024 | 256 | -0.003 |
+------------+---------+-------------------------------------+
| 1518 | 256 | 0.004 |
+------------+---------+-------------------------------------+
To view detailed results, visit:
https://lab.dpdk.org/results/dashboard/patchsets/10320/
UNH-IOL DPDK Community Lab
To manage your email subscriptions, visit:
https://lab.dpdk.org/results/dashboard/preferences/subscriptions/
^ permalink raw reply [flat|nested] 6+ messages in thread
* [dpdk-test-report] |SUCCESS| pw68040 [PATCH] eal: return -1 if rte_lcore_index called from non-DPDK thread
@ 2020-04-08 21:11 dpdklab
0 siblings, 0 replies; 6+ messages in thread
From: dpdklab @ 2020-04-08 21:11 UTC (permalink / raw)
To: Test Report; +Cc: dpdk-test-reports
[-- Attachment #1: Type: text/plain, Size: 1924 bytes --]
Test-Label: iol-intel-Performance
Test-Status: SUCCESS
http://dpdk.org/patch/68040
_Performance Testing PASS_
Submitter: Stephen Hemminger <stephen@networkplumber.org>
Date: Wednesday, April 08 2020 20:24:19
DPDK git baseline: Repo:dpdk
Branch: master
CommitID:10c69730a4b4910b4d57c365329a6c26479d25cd
68040 --> performance testing pass
Test environment and result as below:
Ubuntu 18.04
Kernel: 4.15.0-generic
Compiler: gcc 7.4
NIC: Intel Corporation Ethernet Converged Network Adapter XL710-QDA2 40000 Mbps
Target: x86_64-native-linuxapp-gcc
Fail/Total: 0/2
Detail performance results:
+------------+---------+-------------------------------------+
| frame_size | txd/rxd | throughput difference from expected |
+============+=========+=====================================+
| 64 | 512 | 4.165 |
+------------+---------+-------------------------------------+
| 64 | 2048 | 2.742 |
+------------+---------+-------------------------------------+
Ubuntu 18.04
Kernel: 4.15.0-generic
Compiler: gcc 7.4
NIC: Intel Corporation Ethernet Converged Network Adapter 82599ES 10000 Mbps
Target: x86_64-native-linuxapp-gcc
Fail/Total: 0/2
Detail performance results:
+------------+---------+-------------------------------------+
| frame_size | txd/rxd | throughput difference from expected |
+============+=========+=====================================+
| 64 | 512 | 3.106 |
+------------+---------+-------------------------------------+
| 64 | 2048 | 1.057 |
+------------+---------+-------------------------------------+
To view detailed results, visit:
https://lab.dpdk.org/results/dashboard/patchsets/10320/
UNH-IOL DPDK Community Lab
To manage your email subscriptions, visit:
https://lab.dpdk.org/results/dashboard/preferences/subscriptions/
^ permalink raw reply [flat|nested] 6+ messages in thread
end of thread, other threads:[~2020-04-08 22:12 UTC | newest]
Thread overview: 6+ messages (download: mbox.gz / follow: Atom feed)
-- links below jump to the message on this page --
[not found] <20200408202419.16471-1-stephen@networkplumber.org>
2020-04-08 20:25 ` [dpdk-test-report] |SUCCESS| pw68040 [PATCH] eal: return -1 if rte_lcore_index called from non-DPDK thread checkpatch
2020-04-08 22:10 ` [dpdk-test-report] |SUCCESS| pw68040 " 0-day Robot
2020-04-08 21:32 [dpdk-test-report] |SUCCESS| pw68040 [PATCH] " dpdklab
-- strict thread matches above, loose matches on Subject: below --
2020-04-08 21:28 dpdklab
2020-04-08 21:11 dpdklab
2020-04-08 21:11 dpdklab
This is a public inbox, see mirroring instructions
for how to clone and mirror all data and code used for this inbox;
as well as URLs for NNTP newsgroup(s).