* [dpdk-test-report] |SUCCESS| pw68467 [PATCH] [v3] net/ixgbe: fix resource leak after thread exits normally
@ 2020-04-15 4:43 dpdklab
0 siblings, 0 replies; 4+ messages in thread
From: dpdklab @ 2020-04-15 4:43 UTC (permalink / raw)
To: Ali Alnubani, Test Report; +Cc: dpdk-test-reports
[-- Attachment #1: Type: text/plain, Size: 2853 bytes --]
Test-Label: iol-mellanox-Performance
Test-Status: SUCCESS
http://dpdk.org/patch/68467
_Performance Testing PASS_
Submitter: Zhu, TaoX <taox.zhu@intel.com>
Date: Wednesday, April 15 2020 12:27:15
DPDK git baseline: Repo:dpdk-next-net-intel
Branch: master
CommitID:01fe48191472e2112d14e1d99909106d68e6771e
68467 --> performance testing pass
Test environment and result as below:
Ubuntu 18.04
Kernel: 4.15.0-generic
Compiler: gcc 7.4
NIC: Mellanox ConnectX-5 100000 Mbps
Target: x86_64-native-linuxapp-gcc
Fail/Total: 0/6
Detail performance results:
+------------+---------+-------------------------------------+
| frame_size | txd/rxd | throughput difference from expected |
+============+=========+=====================================+
| 64 | 256 | 0.805 |
+------------+---------+-------------------------------------+
| 128 | 256 | 0.397 |
+------------+---------+-------------------------------------+
| 256 | 256 | 0.045 |
+------------+---------+-------------------------------------+
| 512 | 256 | 0.175 |
+------------+---------+-------------------------------------+
| 1024 | 256 | -0.012 |
+------------+---------+-------------------------------------+
| 1518 | 256 | 0.027 |
+------------+---------+-------------------------------------+
Ubuntu 18.04
Kernel: 4.15.0-generic
Compiler: gcc 7.4
NIC: Mellanox ConnectX-4 Lx 40000 Mbps
Target: x86_64-native-linuxapp-gcc
Fail/Total: 0/6
Detail performance results:
+------------+---------+-------------------------------------+
| frame_size | txd/rxd | throughput difference from expected |
+============+=========+=====================================+
| 64 | 256 | 0.242 |
+------------+---------+-------------------------------------+
| 128 | 256 | 0.604 |
+------------+---------+-------------------------------------+
| 256 | 256 | 0.389 |
+------------+---------+-------------------------------------+
| 512 | 256 | -0.011 |
+------------+---------+-------------------------------------+
| 1024 | 256 | -0.022 |
+------------+---------+-------------------------------------+
| 1518 | 256 | 0.007 |
+------------+---------+-------------------------------------+
To view detailed results, visit:
https://lab.dpdk.org/results/dashboard/patchsets/10439/
UNH-IOL DPDK Community Lab
To manage your email subscriptions, visit:
https://lab.dpdk.org/results/dashboard/preferences/subscriptions/
^ permalink raw reply [flat|nested] 4+ messages in thread
* [dpdk-test-report] |SUCCESS| pw68467 [PATCH] [v3] net/ixgbe: fix resource leak after thread exits normally
@ 2020-04-15 4:59 dpdklab
0 siblings, 0 replies; 4+ messages in thread
From: dpdklab @ 2020-04-15 4:59 UTC (permalink / raw)
To: Test Report; +Cc: dpdk-test-reports
[-- Attachment #1: Type: text/plain, Size: 2918 bytes --]
Test-Label: iol-testing
Test-Status: SUCCESS
http://dpdk.org/patch/68467
_Testing PASS_
Submitter: Zhu, TaoX <taox.zhu@intel.com>
Date: Wednesday, April 15 2020 12:27:15
DPDK git baseline: Repo:dpdk-next-net-intel
Branch: master
CommitID:01fe48191472e2112d14e1d99909106d68e6771e
68467 --> testing pass
Test environment and result as below:
+---------------------+--------------------+-------------------+--------------+----------------+------------------+
| Environment | dpdk_meson_compile | dpdk_compile_spdk | dpdk_compile | dpdk_unit_test | dpdk_compile_ovs |
+=====================+====================+===================+==============+================+==================+
| Windows Server 2019 | PASS | SKIPPED | SKIPPED | SKIPPED | SKIPPED |
+---------------------+--------------------+-------------------+--------------+----------------+------------------+
| Arch Linux | PASS | SKIPPED | PASS | SKIPPED | PASS |
+---------------------+--------------------+-------------------+--------------+----------------+------------------+
| Ubuntu 18.04 | PASS | PASS | PASS | PASS | PASS |
+---------------------+--------------------+-------------------+--------------+----------------+------------------+
| Fedora 31 | PASS | PASS | PASS | SKIPPED | PASS |
+---------------------+--------------------+-------------------+--------------+----------------+------------------+
| CentOS 8 | PASS | PASS | PASS | SKIPPED | PASS |
+---------------------+--------------------+-------------------+--------------+----------------+------------------+
| FreeBSD 11.2 | PASS | PASS | PASS | SKIPPED | SKIPPED |
+---------------------+--------------------+-------------------+--------------+----------------+------------------+
| openSUSE Leap 15 | PASS | PASS | PASS | SKIPPED | PASS |
+---------------------+--------------------+-------------------+--------------+----------------+------------------+
Windows Server 2019
Kernel: 10.0
Compiler: clang 9.0
Arch Linux
Kernel: latest
Compiler: gcc latest
Ubuntu 18.04
Kernel: 4.15.0-generic
Compiler: gcc 7.4
Fedora 31
Kernel: 5.3.16
Compiler: gcc 9.2.1
CentOS 8
Kernel: 4.18.0.el8_0
Compiler: gcc 8.3.1
FreeBSD 11.2
Kernel: 11.2
Compiler: gcc 8.3
openSUSE Leap 15
Kernel: 4.12.14
Compiler: gcc 7.4.1
To view detailed results, visit:
https://lab.dpdk.org/results/dashboard/patchsets/10439/
UNH-IOL DPDK Community Lab
To manage your email subscriptions, visit:
https://lab.dpdk.org/results/dashboard/preferences/subscriptions/
^ permalink raw reply [flat|nested] 4+ messages in thread
* [dpdk-test-report] |SUCCESS| pw68467 [PATCH] [v3] net/ixgbe: fix resource leak after thread exits normally
@ 2020-04-15 4:53 dpdklab
0 siblings, 0 replies; 4+ messages in thread
From: dpdklab @ 2020-04-15 4:53 UTC (permalink / raw)
To: Ali Alnubani, Test Report; +Cc: dpdk-test-reports
[-- Attachment #1: Type: text/plain, Size: 1735 bytes --]
Test-Label: iol-mellanox-Performance
Test-Status: SUCCESS
http://dpdk.org/patch/68467
_Performance Testing PASS_
Submitter: Zhu, TaoX <taox.zhu@intel.com>
Date: Wednesday, April 15 2020 12:27:15
DPDK git baseline: Repo:dpdk-next-net-intel
Branch: master
CommitID:01fe48191472e2112d14e1d99909106d68e6771e
68467 --> performance testing pass
Test environment and result as below:
Ubuntu 18.04
Kernel: 4.15.0-generic
Compiler: gcc 7.4
NIC: Mellanox ConnectX-4 Lx 25000 Mbps
Target: x86_64-native-linuxapp-gcc
Fail/Total: 0/6
Detail performance results:
+------------+---------+-------------------------------------+
| frame_size | txd/rxd | throughput difference from expected |
+============+=========+=====================================+
| 64 | 256 | -0.329 |
+------------+---------+-------------------------------------+
| 128 | 256 | 0.263 |
+------------+---------+-------------------------------------+
| 256 | 256 | 0.023 |
+------------+---------+-------------------------------------+
| 512 | 256 | 0.014 |
+------------+---------+-------------------------------------+
| 1024 | 256 | -0.019 |
+------------+---------+-------------------------------------+
| 1518 | 256 | -0.003 |
+------------+---------+-------------------------------------+
To view detailed results, visit:
https://lab.dpdk.org/results/dashboard/patchsets/10439/
UNH-IOL DPDK Community Lab
To manage your email subscriptions, visit:
https://lab.dpdk.org/results/dashboard/preferences/subscriptions/
^ permalink raw reply [flat|nested] 4+ messages in thread
* [dpdk-test-report] |SUCCESS| pw68467 [PATCH] [v3] net/ixgbe: fix resource leak after thread exits normally
@ 2020-04-15 4:43 dpdklab
0 siblings, 0 replies; 4+ messages in thread
From: dpdklab @ 2020-04-15 4:43 UTC (permalink / raw)
To: Test Report; +Cc: dpdk-test-reports
[-- Attachment #1: Type: text/plain, Size: 1923 bytes --]
Test-Label: iol-intel-Performance
Test-Status: SUCCESS
http://dpdk.org/patch/68467
_Performance Testing PASS_
Submitter: Zhu, TaoX <taox.zhu@intel.com>
Date: Wednesday, April 15 2020 12:27:15
DPDK git baseline: Repo:dpdk-next-net-intel
Branch: master
CommitID:01fe48191472e2112d14e1d99909106d68e6771e
68467 --> performance testing pass
Test environment and result as below:
Ubuntu 18.04
Kernel: 4.15.0-generic
Compiler: gcc 7.4
NIC: Intel Corporation Ethernet Converged Network Adapter XL710-QDA2 40000 Mbps
Target: x86_64-native-linuxapp-gcc
Fail/Total: 0/2
Detail performance results:
+------------+---------+-------------------------------------+
| frame_size | txd/rxd | throughput difference from expected |
+============+=========+=====================================+
| 64 | 512 | -0.028 |
+------------+---------+-------------------------------------+
| 64 | 2048 | 0.204 |
+------------+---------+-------------------------------------+
Ubuntu 18.04
Kernel: 4.15.0-generic
Compiler: gcc 7.4
NIC: Intel Corporation Ethernet Converged Network Adapter 82599ES 10000 Mbps
Target: x86_64-native-linuxapp-gcc
Fail/Total: 0/2
Detail performance results:
+------------+---------+-------------------------------------+
| frame_size | txd/rxd | throughput difference from expected |
+============+=========+=====================================+
| 64 | 512 | 3.121 |
+------------+---------+-------------------------------------+
| 64 | 2048 | 1.203 |
+------------+---------+-------------------------------------+
To view detailed results, visit:
https://lab.dpdk.org/results/dashboard/patchsets/10439/
UNH-IOL DPDK Community Lab
To manage your email subscriptions, visit:
https://lab.dpdk.org/results/dashboard/preferences/subscriptions/
^ permalink raw reply [flat|nested] 4+ messages in thread
end of thread, other threads:[~2020-04-15 4:59 UTC | newest]
Thread overview: 4+ messages (download: mbox.gz / follow: Atom feed)
-- links below jump to the message on this page --
2020-04-15 4:43 [dpdk-test-report] |SUCCESS| pw68467 [PATCH] [v3] net/ixgbe: fix resource leak after thread exits normally dpdklab
2020-04-15 4:43 dpdklab
2020-04-15 4:53 dpdklab
2020-04-15 4:59 dpdklab
This is a public inbox, see mirroring instructions
for how to clone and mirror all data and code used for this inbox;
as well as URLs for NNTP newsgroup(s).