* [dpdk-test-report] |SUCCESS| pw68469 [PATCH] drivers/crypto: move logtype variables to source files
@ 2020-04-15 22:18 dpdklab
0 siblings, 0 replies; 4+ messages in thread
From: dpdklab @ 2020-04-15 22:18 UTC (permalink / raw)
To: Ali Alnubani, Test Report; +Cc: dpdk-test-reports
[-- Attachment #1: Type: text/plain, Size: 3983 bytes --]
Test-Label: iol-mellanox-Performance
Test-Status: SUCCESS
http://dpdk.org/patch/68469
_Performance Testing PASS_
Submitter: Lukasz Wojciechowski <l.wojciechow@partner.samsung.com>
Date: Wednesday, April 15 2020 06:22:16
DPDK git baseline: Repo:dpdk
Branch: master
CommitID:acec04c4b2f5c75d244319e1d0ca17ea7d4da72d
68469 --> performance testing pass
Test environment and result as below:
Ubuntu 18.04
Kernel: 4.15.0-generic
Compiler: gcc 7.4
NIC: Mellanox ConnectX-4 Lx 25000 Mbps
Target: x86_64-native-linuxapp-gcc
Fail/Total: 0/6
Detail performance results:
+------------+---------+-------------------------------------+
| frame_size | txd/rxd | throughput difference from expected |
+============+=========+=====================================+
| 64 | 256 | -0.356 |
+------------+---------+-------------------------------------+
| 128 | 256 | -0.074 |
+------------+---------+-------------------------------------+
| 256 | 256 | 0.323 |
+------------+---------+-------------------------------------+
| 512 | 256 | -0.012 |
+------------+---------+-------------------------------------+
| 1024 | 256 | 0 |
+------------+---------+-------------------------------------+
| 1518 | 256 | -0.002 |
+------------+---------+-------------------------------------+
Ubuntu 18.04
Kernel: 4.15.0-generic
Compiler: gcc 7.4
NIC: Mellanox ConnectX-5 100000 Mbps
Target: x86_64-native-linuxapp-gcc
Fail/Total: 0/6
Detail performance results:
+------------+---------+-------------------------------------+
| frame_size | txd/rxd | throughput difference from expected |
+============+=========+=====================================+
| 64 | 256 | 0.104 |
+------------+---------+-------------------------------------+
| 128 | 256 | -0.030 |
+------------+---------+-------------------------------------+
| 256 | 256 | -0.050 |
+------------+---------+-------------------------------------+
| 512 | 256 | 0.207 |
+------------+---------+-------------------------------------+
| 1024 | 256 | 0.117 |
+------------+---------+-------------------------------------+
| 1518 | 256 | 0.031 |
+------------+---------+-------------------------------------+
Ubuntu 18.04
Kernel: 4.15.0-generic
Compiler: gcc 7.4
NIC: Mellanox ConnectX-4 Lx 40000 Mbps
Target: x86_64-native-linuxapp-gcc
Fail/Total: 0/6
Detail performance results:
+------------+---------+-------------------------------------+
| frame_size | txd/rxd | throughput difference from expected |
+============+=========+=====================================+
| 64 | 256 | -0.296 |
+------------+---------+-------------------------------------+
| 128 | 256 | 0.074 |
+------------+---------+-------------------------------------+
| 256 | 256 | -0.260 |
+------------+---------+-------------------------------------+
| 512 | 256 | -0.014 |
+------------+---------+-------------------------------------+
| 1024 | 256 | 0 |
+------------+---------+-------------------------------------+
| 1518 | 256 | 0.001 |
+------------+---------+-------------------------------------+
To view detailed results, visit:
https://lab.dpdk.org/results/dashboard/patchsets/10441/
UNH-IOL DPDK Community Lab
To manage your email subscriptions, visit:
https://lab.dpdk.org/results/dashboard/preferences/subscriptions/
^ permalink raw reply [flat|nested] 4+ messages in thread
* [dpdk-test-report] |SUCCESS| pw68469 [PATCH] drivers/crypto: move logtype variables to source files
@ 2020-04-15 23:08 dpdklab
0 siblings, 0 replies; 4+ messages in thread
From: dpdklab @ 2020-04-15 23:08 UTC (permalink / raw)
To: Test Report; +Cc: dpdk-test-reports
[-- Attachment #1: Type: text/plain, Size: 2928 bytes --]
Test-Label: iol-testing
Test-Status: SUCCESS
http://dpdk.org/patch/68469
_Testing PASS_
Submitter: Lukasz Wojciechowski <l.wojciechow@partner.samsung.com>
Date: Wednesday, April 15 2020 06:22:16
DPDK git baseline: Repo:dpdk
Branch: master
CommitID:acec04c4b2f5c75d244319e1d0ca17ea7d4da72d
68469 --> testing pass
Test environment and result as below:
+---------------------+--------------------+--------------+-------------------+----------------+------------------+
| Environment | dpdk_meson_compile | dpdk_compile | dpdk_compile_spdk | dpdk_unit_test | dpdk_compile_ovs |
+=====================+====================+==============+===================+================+==================+
| Windows Server 2019 | PASS | SKIPPED | SKIPPED | SKIPPED | SKIPPED |
+---------------------+--------------------+--------------+-------------------+----------------+------------------+
| Ubuntu 18.04 | PASS | PASS | PASS | PASS | PASS |
+---------------------+--------------------+--------------+-------------------+----------------+------------------+
| Fedora 31 | PASS | PASS | PASS | SKIPPED | PASS |
+---------------------+--------------------+--------------+-------------------+----------------+------------------+
| CentOS 8 | PASS | PASS | PASS | SKIPPED | PASS |
+---------------------+--------------------+--------------+-------------------+----------------+------------------+
| openSUSE Leap 15 | PASS | PASS | PASS | SKIPPED | PASS |
+---------------------+--------------------+--------------+-------------------+----------------+------------------+
| FreeBSD 11.2 | PASS | PASS | PASS | SKIPPED | SKIPPED |
+---------------------+--------------------+--------------+-------------------+----------------+------------------+
| Arch Linux | PASS | PASS | SKIPPED | SKIPPED | PASS |
+---------------------+--------------------+--------------+-------------------+----------------+------------------+
Windows Server 2019
Kernel: 10.0
Compiler: clang 9.0
Ubuntu 18.04
Kernel: 4.15.0-generic
Compiler: gcc 7.4
Fedora 31
Kernel: 5.3.16
Compiler: gcc 9.2.1
CentOS 8
Kernel: 4.18.0.el8_0
Compiler: gcc 8.3.1
openSUSE Leap 15
Kernel: 4.12.14
Compiler: gcc 7.4.1
FreeBSD 11.2
Kernel: 11.2
Compiler: gcc 8.3
Arch Linux
Kernel: latest
Compiler: gcc latest
To view detailed results, visit:
https://lab.dpdk.org/results/dashboard/patchsets/10441/
UNH-IOL DPDK Community Lab
To manage your email subscriptions, visit:
https://lab.dpdk.org/results/dashboard/preferences/subscriptions/
^ permalink raw reply [flat|nested] 4+ messages in thread
* [dpdk-test-report] |SUCCESS| pw68469 [PATCH] drivers/crypto: move logtype variables to source files
@ 2020-04-15 19:44 dpdklab
0 siblings, 0 replies; 4+ messages in thread
From: dpdklab @ 2020-04-15 19:44 UTC (permalink / raw)
To: Test Report; +Cc: dpdk-test-reports
[-- Attachment #1: Type: text/plain, Size: 1933 bytes --]
Test-Label: iol-intel-Performance
Test-Status: SUCCESS
http://dpdk.org/patch/68469
_Performance Testing PASS_
Submitter: Lukasz Wojciechowski <l.wojciechow@partner.samsung.com>
Date: Wednesday, April 15 2020 06:22:16
DPDK git baseline: Repo:dpdk
Branch: master
CommitID:acec04c4b2f5c75d244319e1d0ca17ea7d4da72d
68469 --> performance testing pass
Test environment and result as below:
Ubuntu 18.04
Kernel: 4.15.0-generic
Compiler: gcc 7.4
NIC: Intel Corporation Ethernet Converged Network Adapter XL710-QDA2 40000 Mbps
Target: x86_64-native-linuxapp-gcc
Fail/Total: 0/2
Detail performance results:
+------------+---------+-------------------------------------+
| frame_size | txd/rxd | throughput difference from expected |
+============+=========+=====================================+
| 64 | 512 | -0.095 |
+------------+---------+-------------------------------------+
| 64 | 2048 | 0.231 |
+------------+---------+-------------------------------------+
Ubuntu 18.04
Kernel: 4.15.0-generic
Compiler: gcc 7.4
NIC: Intel Corporation Ethernet Converged Network Adapter 82599ES 10000 Mbps
Target: x86_64-native-linuxapp-gcc
Fail/Total: 0/2
Detail performance results:
+------------+---------+-------------------------------------+
| frame_size | txd/rxd | throughput difference from expected |
+============+=========+=====================================+
| 64 | 512 | 3.116 |
+------------+---------+-------------------------------------+
| 64 | 2048 | 1.128 |
+------------+---------+-------------------------------------+
To view detailed results, visit:
https://lab.dpdk.org/results/dashboard/patchsets/10441/
UNH-IOL DPDK Community Lab
To manage your email subscriptions, visit:
https://lab.dpdk.org/results/dashboard/preferences/subscriptions/
^ permalink raw reply [flat|nested] 4+ messages in thread
* [dpdk-test-report] |SUCCESS| pw68469 [PATCH] drivers/crypto: move logtype variables to source files
[not found] <20200415062216.22220-1-l.wojciechow@partner.samsung.com>
@ 2020-04-15 6:23 ` checkpatch
0 siblings, 0 replies; 4+ messages in thread
From: checkpatch @ 2020-04-15 6:23 UTC (permalink / raw)
To: test-report
Test-Label: checkpatch
Test-Status: SUCCESS
http://dpdk.org/patch/68469
_coding style OK_
^ permalink raw reply [flat|nested] 4+ messages in thread
end of thread, other threads:[~2020-04-15 23:08 UTC | newest]
Thread overview: 4+ messages (download: mbox.gz / follow: Atom feed)
-- links below jump to the message on this page --
2020-04-15 22:18 [dpdk-test-report] |SUCCESS| pw68469 [PATCH] drivers/crypto: move logtype variables to source files dpdklab
-- strict thread matches above, loose matches on Subject: below --
2020-04-15 23:08 dpdklab
2020-04-15 19:44 dpdklab
[not found] <20200415062216.22220-1-l.wojciechow@partner.samsung.com>
2020-04-15 6:23 ` checkpatch
This is a public inbox, see mirroring instructions
for how to clone and mirror all data and code used for this inbox;
as well as URLs for NNTP newsgroup(s).