* [dpdk-test-report] |SUCCESS| pw68657 [PATCH] sched: fix port time rounding error
[not found] <20200416084821.12591-1-alan.dewar@att.com>
@ 2020-04-16 8:48 ` checkpatch
2020-04-16 10:13 ` [dpdk-test-report] |SUCCESS| pw68657 " 0-day Robot
1 sibling, 0 replies; 5+ messages in thread
From: checkpatch @ 2020-04-16 8:48 UTC (permalink / raw)
To: test-report
Test-Label: checkpatch
Test-Status: SUCCESS
http://dpdk.org/patch/68657
_coding style OK_
^ permalink raw reply [flat|nested] 5+ messages in thread
* [dpdk-test-report] |SUCCESS| pw68657 sched: fix port time rounding error
[not found] <20200416084821.12591-1-alan.dewar@att.com>
2020-04-16 8:48 ` [dpdk-test-report] |SUCCESS| pw68657 [PATCH] sched: fix port time rounding error checkpatch
@ 2020-04-16 10:13 ` 0-day Robot
1 sibling, 0 replies; 5+ messages in thread
From: 0-day Robot @ 2020-04-16 10:13 UTC (permalink / raw)
To: test-report; +Cc: robot
From: robot@bytheb.org
Test-Label: travis-robot
Test-Status: SUCCESS
http://dpdk.org/patch/68657
_Travis build: passed_
Build URL: https://travis-ci.com/ovsrobot/dpdk/builds/160518237
^ permalink raw reply [flat|nested] 5+ messages in thread
* [dpdk-test-report] |SUCCESS| pw68657 [PATCH] sched: fix port time rounding error
@ 2020-04-16 16:13 dpdklab
0 siblings, 0 replies; 5+ messages in thread
From: dpdklab @ 2020-04-16 16:13 UTC (permalink / raw)
To: Test Report; +Cc: dpdk-test-reports
[-- Attachment #1: Type: text/plain, Size: 2910 bytes --]
Test-Label: iol-testing
Test-Status: SUCCESS
http://dpdk.org/patch/68657
_Testing PASS_
Submitter: Alan Dewar <alangordondewar@gmail.com>
Date: Thursday, April 16 2020 08:48:21
DPDK git baseline: Repo:dpdk
Branch: master
CommitID:c3eb8b62744930029f96c5d64d9adac5749908ef
68657 --> testing pass
Test environment and result as below:
+---------------------+-------------------+--------------------+--------------+------------------+----------------+
| Environment | dpdk_compile_spdk | dpdk_meson_compile | dpdk_compile | dpdk_compile_ovs | dpdk_unit_test |
+=====================+===================+====================+==============+==================+================+
| Ubuntu 18.04 | PASS | PASS | PASS | PASS | PASS |
+---------------------+-------------------+--------------------+--------------+------------------+----------------+
| FreeBSD 11.2 | PASS | PASS | PASS | SKIPPED | SKIPPED |
+---------------------+-------------------+--------------------+--------------+------------------+----------------+
| CentOS 8 | PASS | PASS | PASS | PASS | SKIPPED |
+---------------------+-------------------+--------------------+--------------+------------------+----------------+
| Fedora 31 | PASS | PASS | PASS | PASS | SKIPPED |
+---------------------+-------------------+--------------------+--------------+------------------+----------------+
| openSUSE Leap 15 | PASS | PASS | PASS | PASS | SKIPPED |
+---------------------+-------------------+--------------------+--------------+------------------+----------------+
| Windows Server 2019 | SKIPPED | PASS | SKIPPED | SKIPPED | SKIPPED |
+---------------------+-------------------+--------------------+--------------+------------------+----------------+
| Arch Linux | SKIPPED | PASS | PASS | PASS | SKIPPED |
+---------------------+-------------------+--------------------+--------------+------------------+----------------+
Ubuntu 18.04
Kernel: 4.15.0-generic
Compiler: gcc 7.4
FreeBSD 11.2
Kernel: 11.2
Compiler: gcc 8.3
CentOS 8
Kernel: 4.18.0.el8_0
Compiler: gcc 8.3.1
Fedora 31
Kernel: 5.3.16
Compiler: gcc 9.2.1
openSUSE Leap 15
Kernel: 4.12.14
Compiler: gcc 7.4.1
Windows Server 2019
Kernel: 10.0
Compiler: clang 9.0
Arch Linux
Kernel: latest
Compiler: gcc latest
To view detailed results, visit:
https://lab.dpdk.org/results/dashboard/patchsets/10474/
UNH-IOL DPDK Community Lab
To manage your email subscriptions, visit:
https://lab.dpdk.org/results/dashboard/preferences/subscriptions/
^ permalink raw reply [flat|nested] 5+ messages in thread
* [dpdk-test-report] |SUCCESS| pw68657 [PATCH] sched: fix port time rounding error
@ 2020-04-16 9:53 dpdklab
0 siblings, 0 replies; 5+ messages in thread
From: dpdklab @ 2020-04-16 9:53 UTC (permalink / raw)
To: Ali Alnubani, Test Report; +Cc: dpdk-test-reports
[-- Attachment #1: Type: text/plain, Size: 1727 bytes --]
Test-Label: iol-mellanox-Performance
Test-Status: SUCCESS
http://dpdk.org/patch/68657
_Performance Testing PASS_
Submitter: Alan Dewar <alangordondewar@gmail.com>
Date: Thursday, April 16 2020 08:48:21
DPDK git baseline: Repo:dpdk
Branch: master
CommitID:c3eb8b62744930029f96c5d64d9adac5749908ef
68657 --> performance testing pass
Test environment and result as below:
Ubuntu 18.04
Kernel: 4.15.0-generic
Compiler: gcc 7.4
NIC: Mellanox ConnectX-4 Lx 40000 Mbps
Target: x86_64-native-linuxapp-gcc
Fail/Total: 0/6
Detail performance results:
+------------+---------+-------------------------------------+
| frame_size | txd/rxd | throughput difference from expected |
+============+=========+=====================================+
| 64 | 256 | 0.149 |
+------------+---------+-------------------------------------+
| 128 | 256 | 0.292 |
+------------+---------+-------------------------------------+
| 256 | 256 | -0.035 |
+------------+---------+-------------------------------------+
| 512 | 256 | 0.048 |
+------------+---------+-------------------------------------+
| 1024 | 256 | 0.005 |
+------------+---------+-------------------------------------+
| 1518 | 256 | -0.015 |
+------------+---------+-------------------------------------+
To view detailed results, visit:
https://lab.dpdk.org/results/dashboard/patchsets/10474/
UNH-IOL DPDK Community Lab
To manage your email subscriptions, visit:
https://lab.dpdk.org/results/dashboard/preferences/subscriptions/
^ permalink raw reply [flat|nested] 5+ messages in thread
* [dpdk-test-report] |SUCCESS| pw68657 [PATCH] sched: fix port time rounding error
@ 2020-04-16 9:41 dpdklab
0 siblings, 0 replies; 5+ messages in thread
From: dpdklab @ 2020-04-16 9:41 UTC (permalink / raw)
To: Ali Alnubani, Test Report; +Cc: dpdk-test-reports
[-- Attachment #1: Type: text/plain, Size: 2845 bytes --]
Test-Label: iol-mellanox-Performance
Test-Status: SUCCESS
http://dpdk.org/patch/68657
_Performance Testing PASS_
Submitter: Alan Dewar <alangordondewar@gmail.com>
Date: Thursday, April 16 2020 08:48:21
DPDK git baseline: Repo:dpdk
Branch: master
CommitID:c3eb8b62744930029f96c5d64d9adac5749908ef
68657 --> performance testing pass
Test environment and result as below:
Ubuntu 18.04
Kernel: 4.15.0-generic
Compiler: gcc 7.4
NIC: Mellanox ConnectX-5 100000 Mbps
Target: x86_64-native-linuxapp-gcc
Fail/Total: 0/6
Detail performance results:
+------------+---------+-------------------------------------+
| frame_size | txd/rxd | throughput difference from expected |
+============+=========+=====================================+
| 64 | 256 | -0.009 |
+------------+---------+-------------------------------------+
| 128 | 256 | -0.007 |
+------------+---------+-------------------------------------+
| 256 | 256 | 0.028 |
+------------+---------+-------------------------------------+
| 512 | 256 | 0.108 |
+------------+---------+-------------------------------------+
| 1024 | 256 | -0.012 |
+------------+---------+-------------------------------------+
| 1518 | 256 | -0.007 |
+------------+---------+-------------------------------------+
Ubuntu 18.04
Kernel: 4.15.0-generic
Compiler: gcc 7.4
NIC: Mellanox ConnectX-4 Lx 25000 Mbps
Target: x86_64-native-linuxapp-gcc
Fail/Total: 0/6
Detail performance results:
+------------+---------+-------------------------------------+
| frame_size | txd/rxd | throughput difference from expected |
+============+=========+=====================================+
| 64 | 256 | -0.060 |
+------------+---------+-------------------------------------+
| 128 | 256 | -0.116 |
+------------+---------+-------------------------------------+
| 256 | 256 | -0.173 |
+------------+---------+-------------------------------------+
| 512 | 256 | -0.004 |
+------------+---------+-------------------------------------+
| 1024 | 256 | 0.002 |
+------------+---------+-------------------------------------+
| 1518 | 256 | 0 |
+------------+---------+-------------------------------------+
To view detailed results, visit:
https://lab.dpdk.org/results/dashboard/patchsets/10474/
UNH-IOL DPDK Community Lab
To manage your email subscriptions, visit:
https://lab.dpdk.org/results/dashboard/preferences/subscriptions/
^ permalink raw reply [flat|nested] 5+ messages in thread
end of thread, other threads:[~2020-04-16 16:13 UTC | newest]
Thread overview: 5+ messages (download: mbox.gz / follow: Atom feed)
-- links below jump to the message on this page --
[not found] <20200416084821.12591-1-alan.dewar@att.com>
2020-04-16 8:48 ` [dpdk-test-report] |SUCCESS| pw68657 [PATCH] sched: fix port time rounding error checkpatch
2020-04-16 10:13 ` [dpdk-test-report] |SUCCESS| pw68657 " 0-day Robot
2020-04-16 16:13 [dpdk-test-report] |SUCCESS| pw68657 [PATCH] " dpdklab
-- strict thread matches above, loose matches on Subject: below --
2020-04-16 9:53 dpdklab
2020-04-16 9:41 dpdklab
This is a public inbox, see mirroring instructions
for how to clone and mirror all data and code used for this inbox;
as well as URLs for NNTP newsgroup(s).