* [dpdk-test-report] |SUCCESS| pw68624-68632 [PATCH] [v5, 1/9] net/virtio: add Rx free threshold setting
@ 2020-04-16 9:06 dpdklab
0 siblings, 0 replies; 3+ messages in thread
From: dpdklab @ 2020-04-16 9:06 UTC (permalink / raw)
To: Ali Alnubani, Test Report; +Cc: dpdk-test-reports
[-- Attachment #1: Type: text/plain, Size: 1726 bytes --]
Test-Label: iol-mellanox-Performance
Test-Status: SUCCESS
http://dpdk.org/patch/68624
_Performance Testing PASS_
Submitter: Marvin Liu <yong.liu@intel.com>
Date: Thursday, April 16 2020 15:31:39
DPDK git baseline: Repo:dpdk
Branch: master
CommitID:c3eb8b62744930029f96c5d64d9adac5749908ef
68624-68632 --> performance testing pass
Test environment and result as below:
Ubuntu 18.04
Kernel: 4.15.0-generic
Compiler: gcc 7.4
NIC: Mellanox ConnectX-4 Lx 40000 Mbps
Target: x86_64-native-linuxapp-gcc
Fail/Total: 0/6
Detail performance results:
+------------+---------+-------------------------------------+
| frame_size | txd/rxd | throughput difference from expected |
+============+=========+=====================================+
| 64 | 256 | 0.054 |
+------------+---------+-------------------------------------+
| 128 | 256 | 0.379 |
+------------+---------+-------------------------------------+
| 256 | 256 | 0.014 |
+------------+---------+-------------------------------------+
| 512 | 256 | 0.024 |
+------------+---------+-------------------------------------+
| 1024 | 256 | 0.002 |
+------------+---------+-------------------------------------+
| 1518 | 256 | -0.015 |
+------------+---------+-------------------------------------+
To view detailed results, visit:
https://lab.dpdk.org/results/dashboard/patchsets/10470/
UNH-IOL DPDK Community Lab
To manage your email subscriptions, visit:
https://lab.dpdk.org/results/dashboard/preferences/subscriptions/
^ permalink raw reply [flat|nested] 3+ messages in thread
* [dpdk-test-report] |SUCCESS| pw68624-68632 [PATCH] [v5, 1/9] net/virtio: add Rx free threshold setting
@ 2020-04-16 15:24 dpdklab
0 siblings, 0 replies; 3+ messages in thread
From: dpdklab @ 2020-04-16 15:24 UTC (permalink / raw)
To: Test Report; +Cc: dpdk-test-reports
[-- Attachment #1: Type: text/plain, Size: 2909 bytes --]
Test-Label: iol-testing
Test-Status: SUCCESS
http://dpdk.org/patch/68624
_Testing PASS_
Submitter: Marvin Liu <yong.liu@intel.com>
Date: Thursday, April 16 2020 15:31:39
DPDK git baseline: Repo:dpdk
Branch: master
CommitID:c3eb8b62744930029f96c5d64d9adac5749908ef
68624-68632 --> testing pass
Test environment and result as below:
+---------------------+------------------+--------------------+-------------------+--------------+----------------+
| Environment | dpdk_compile_ovs | dpdk_meson_compile | dpdk_compile_spdk | dpdk_compile | dpdk_unit_test |
+=====================+==================+====================+===================+==============+================+
| Ubuntu 18.04 | PASS | PASS | PASS | PASS | PASS |
+---------------------+------------------+--------------------+-------------------+--------------+----------------+
| CentOS 8 | PASS | PASS | PASS | PASS | SKIPPED |
+---------------------+------------------+--------------------+-------------------+--------------+----------------+
| openSUSE Leap 15 | PASS | PASS | PASS | PASS | SKIPPED |
+---------------------+------------------+--------------------+-------------------+--------------+----------------+
| Fedora 31 | PASS | PASS | PASS | PASS | SKIPPED |
+---------------------+------------------+--------------------+-------------------+--------------+----------------+
| Arch Linux | PASS | PASS | SKIPPED | PASS | SKIPPED |
+---------------------+------------------+--------------------+-------------------+--------------+----------------+
| Windows Server 2019 | SKIPPED | PASS | SKIPPED | SKIPPED | SKIPPED |
+---------------------+------------------+--------------------+-------------------+--------------+----------------+
| FreeBSD 11.2 | SKIPPED | PASS | PASS | PASS | SKIPPED |
+---------------------+------------------+--------------------+-------------------+--------------+----------------+
Ubuntu 18.04
Kernel: 4.15.0-generic
Compiler: gcc 7.4
CentOS 8
Kernel: 4.18.0.el8_0
Compiler: gcc 8.3.1
openSUSE Leap 15
Kernel: 4.12.14
Compiler: gcc 7.4.1
Fedora 31
Kernel: 5.3.16
Compiler: gcc 9.2.1
Arch Linux
Kernel: latest
Compiler: gcc latest
Windows Server 2019
Kernel: 10.0
Compiler: clang 9.0
FreeBSD 11.2
Kernel: 11.2
Compiler: gcc 8.3
To view detailed results, visit:
https://lab.dpdk.org/results/dashboard/patchsets/10470/
UNH-IOL DPDK Community Lab
To manage your email subscriptions, visit:
https://lab.dpdk.org/results/dashboard/preferences/subscriptions/
^ permalink raw reply [flat|nested] 3+ messages in thread
* [dpdk-test-report] |SUCCESS| pw68624-68632 [PATCH] [v5, 1/9] net/virtio: add Rx free threshold setting
@ 2020-04-16 8:56 dpdklab
0 siblings, 0 replies; 3+ messages in thread
From: dpdklab @ 2020-04-16 8:56 UTC (permalink / raw)
To: Ali Alnubani, Test Report; +Cc: dpdk-test-reports
[-- Attachment #1: Type: text/plain, Size: 2844 bytes --]
Test-Label: iol-mellanox-Performance
Test-Status: SUCCESS
http://dpdk.org/patch/68624
_Performance Testing PASS_
Submitter: Marvin Liu <yong.liu@intel.com>
Date: Thursday, April 16 2020 15:31:39
DPDK git baseline: Repo:dpdk
Branch: master
CommitID:c3eb8b62744930029f96c5d64d9adac5749908ef
68624-68632 --> performance testing pass
Test environment and result as below:
Ubuntu 18.04
Kernel: 4.15.0-generic
Compiler: gcc 7.4
NIC: Mellanox ConnectX-4 Lx 25000 Mbps
Target: x86_64-native-linuxapp-gcc
Fail/Total: 0/6
Detail performance results:
+------------+---------+-------------------------------------+
| frame_size | txd/rxd | throughput difference from expected |
+============+=========+=====================================+
| 64 | 256 | -0.063 |
+------------+---------+-------------------------------------+
| 128 | 256 | -0.090 |
+------------+---------+-------------------------------------+
| 256 | 256 | -0.052 |
+------------+---------+-------------------------------------+
| 512 | 256 | -0.007 |
+------------+---------+-------------------------------------+
| 1024 | 256 | 0.001 |
+------------+---------+-------------------------------------+
| 1518 | 256 | -0.003 |
+------------+---------+-------------------------------------+
Ubuntu 18.04
Kernel: 4.15.0-generic
Compiler: gcc 7.4
NIC: Mellanox ConnectX-5 100000 Mbps
Target: x86_64-native-linuxapp-gcc
Fail/Total: 0/6
Detail performance results:
+------------+---------+-------------------------------------+
| frame_size | txd/rxd | throughput difference from expected |
+============+=========+=====================================+
| 64 | 256 | -0.642 |
+------------+---------+-------------------------------------+
| 128 | 256 | 0.236 |
+------------+---------+-------------------------------------+
| 256 | 256 | 0.065 |
+------------+---------+-------------------------------------+
| 512 | 256 | 0.170 |
+------------+---------+-------------------------------------+
| 1024 | 256 | -0.013 |
+------------+---------+-------------------------------------+
| 1518 | 256 | -0.014 |
+------------+---------+-------------------------------------+
To view detailed results, visit:
https://lab.dpdk.org/results/dashboard/patchsets/10470/
UNH-IOL DPDK Community Lab
To manage your email subscriptions, visit:
https://lab.dpdk.org/results/dashboard/preferences/subscriptions/
^ permalink raw reply [flat|nested] 3+ messages in thread
end of thread, other threads:[~2020-04-16 15:24 UTC | newest]
Thread overview: 3+ messages (download: mbox.gz / follow: Atom feed)
-- links below jump to the message on this page --
2020-04-16 9:06 [dpdk-test-report] |SUCCESS| pw68624-68632 [PATCH] [v5, 1/9] net/virtio: add Rx free threshold setting dpdklab
-- strict thread matches above, loose matches on Subject: below --
2020-04-16 15:24 dpdklab
2020-04-16 8:56 dpdklab
This is a public inbox, see mirroring instructions
for how to clone and mirror all data and code used for this inbox;
as well as URLs for NNTP newsgroup(s).