* [dpdk-test-report] |SUCCESS| pw68737 [PATCH] net/mlx5: fix the empty flow error structure
@ 2020-04-18 23:15 dpdklab
0 siblings, 0 replies; 5+ messages in thread
From: dpdklab @ 2020-04-18 23:15 UTC (permalink / raw)
To: Test Report; +Cc: dpdk-test-reports
[-- Attachment #1: Type: text/plain, Size: 2633 bytes --]
Test-Label: iol-testing
Test-Status: SUCCESS
http://dpdk.org/patch/68737
_Testing PASS_
Submitter: Bing Zhao <bingz@mellanox.com>
Date: Friday, April 17 2020 07:30:44
DPDK git baseline: Repo:dpdk-next-net-mlx
Branch: master
CommitID:2f91be9e6719f8259ec3e9f5cc58f8b1429fabb1
68737 --> testing pass
Test environment and result as below:
+---------------------+--------------------+-------------------+----------------+------------------+--------------+
| Environment | dpdk_meson_compile | dpdk_compile_spdk | dpdk_unit_test | dpdk_compile_ovs | dpdk_compile |
+=====================+====================+===================+================+==================+==============+
| Windows Server 2019 | PASS | SKIPPED | SKIPPED | SKIPPED | SKIPPED |
+---------------------+--------------------+-------------------+----------------+------------------+--------------+
| CentOS 8 | PASS | PASS | SKIPPED | PASS | PASS |
+---------------------+--------------------+-------------------+----------------+------------------+--------------+
| Ubuntu 18.04 | PASS | PASS | PASS | PASS | PASS |
+---------------------+--------------------+-------------------+----------------+------------------+--------------+
| openSUSE Leap 15 | PASS | PASS | SKIPPED | PASS | PASS |
+---------------------+--------------------+-------------------+----------------+------------------+--------------+
| FreeBSD 11.2 | PASS | PASS | SKIPPED | SKIPPED | PASS |
+---------------------+--------------------+-------------------+----------------+------------------+--------------+
| Arch Linux | PASS | SKIPPED | SKIPPED | PASS | PASS |
+---------------------+--------------------+-------------------+----------------+------------------+--------------+
Windows Server 2019
Kernel: 10.0
Compiler: clang 9.0
CentOS 8
Kernel: 4.18.0.el8_0
Compiler: gcc 8.3.1
Ubuntu 18.04
Kernel: 4.15.0-generic
Compiler: gcc 7.4
openSUSE Leap 15
Kernel: 4.12.14
Compiler: gcc 7.4.1
FreeBSD 11.2
Kernel: 11.2
Compiler: gcc 8.3
Arch Linux
Kernel: latest
Compiler: gcc latest
To view detailed results, visit:
https://lab.dpdk.org/results/dashboard/patchsets/10511/
UNH-IOL DPDK Community Lab
To manage your email subscriptions, visit:
https://lab.dpdk.org/results/dashboard/preferences/subscriptions/
^ permalink raw reply [flat|nested] 5+ messages in thread
* [dpdk-test-report] |SUCCESS| pw68737 [PATCH] net/mlx5: fix the empty flow error structure
@ 2020-04-18 11:33 dpdklab
0 siblings, 0 replies; 5+ messages in thread
From: dpdklab @ 2020-04-18 11:33 UTC (permalink / raw)
To: Ali Alnubani, Test Report; +Cc: dpdk-test-reports
[-- Attachment #1: Type: text/plain, Size: 3968 bytes --]
Test-Label: iol-mellanox-Performance
Test-Status: SUCCESS
http://dpdk.org/patch/68737
_Performance Testing PASS_
Submitter: Bing Zhao <bingz@mellanox.com>
Date: Friday, April 17 2020 07:30:44
DPDK git baseline: Repo:dpdk-next-net-mlx
Branch: master
CommitID:2f91be9e6719f8259ec3e9f5cc58f8b1429fabb1
68737 --> performance testing pass
Test environment and result as below:
Ubuntu 18.04
Kernel: 4.15.0-generic
Compiler: gcc 7.4
NIC: Mellanox ConnectX-5 100000 Mbps
Target: x86_64-native-linuxapp-gcc
Fail/Total: 0/6
Detail performance results:
+------------+---------+-------------------------------------+
| frame_size | txd/rxd | throughput difference from expected |
+============+=========+=====================================+
| 64 | 256 | 0.846 |
+------------+---------+-------------------------------------+
| 128 | 256 | 0.184 |
+------------+---------+-------------------------------------+
| 256 | 256 | 0.135 |
+------------+---------+-------------------------------------+
| 512 | 256 | -0.054 |
+------------+---------+-------------------------------------+
| 1024 | 256 | 0.005 |
+------------+---------+-------------------------------------+
| 1518 | 256 | -0.022 |
+------------+---------+-------------------------------------+
Ubuntu 18.04
Kernel: 4.15.0-generic
Compiler: gcc 7.4
NIC: Mellanox ConnectX-4 Lx 25000 Mbps
Target: x86_64-native-linuxapp-gcc
Fail/Total: 0/6
Detail performance results:
+------------+---------+-------------------------------------+
| frame_size | txd/rxd | throughput difference from expected |
+============+=========+=====================================+
| 64 | 256 | 0.213 |
+------------+---------+-------------------------------------+
| 128 | 256 | 0.145 |
+------------+---------+-------------------------------------+
| 256 | 256 | 0.152 |
+------------+---------+-------------------------------------+
| 512 | 256 | -0.028 |
+------------+---------+-------------------------------------+
| 1024 | 256 | 0.010 |
+------------+---------+-------------------------------------+
| 1518 | 256 | 0.004 |
+------------+---------+-------------------------------------+
Ubuntu 18.04
Kernel: 4.15.0-generic
Compiler: gcc 7.4
NIC: Mellanox ConnectX-4 Lx 40000 Mbps
Target: x86_64-native-linuxapp-gcc
Fail/Total: 0/6
Detail performance results:
+------------+---------+-------------------------------------+
| frame_size | txd/rxd | throughput difference from expected |
+============+=========+=====================================+
| 64 | 256 | -0.010 |
+------------+---------+-------------------------------------+
| 128 | 256 | 0.169 |
+------------+---------+-------------------------------------+
| 256 | 256 | 0.359 |
+------------+---------+-------------------------------------+
| 512 | 256 | 0.006 |
+------------+---------+-------------------------------------+
| 1024 | 256 | 0.001 |
+------------+---------+-------------------------------------+
| 1518 | 256 | 0.012 |
+------------+---------+-------------------------------------+
To view detailed results, visit:
https://lab.dpdk.org/results/dashboard/patchsets/10511/
UNH-IOL DPDK Community Lab
To manage your email subscriptions, visit:
https://lab.dpdk.org/results/dashboard/preferences/subscriptions/
^ permalink raw reply [flat|nested] 5+ messages in thread
* [dpdk-test-report] |SUCCESS| pw68737 [PATCH] net/mlx5: fix the empty flow error structure
@ 2020-04-18 8:10 dpdklab
0 siblings, 0 replies; 5+ messages in thread
From: dpdklab @ 2020-04-18 8:10 UTC (permalink / raw)
To: Ruoshan Shi, Test Report; +Cc: dpdk-test-reports
[-- Attachment #1: Type: text/plain, Size: 1206 bytes --]
Test-Label: iol-nxp-Performance
Test-Status: SUCCESS
http://dpdk.org/patch/68737
_Performance Testing PASS_
Submitter: Bing Zhao <bingz@mellanox.com>
Date: Friday, April 17 2020 07:30:44
DPDK git baseline: Repo:dpdk-next-net-mlx
Branch: master
CommitID:2f91be9e6719f8259ec3e9f5cc58f8b1429fabb1
68737 --> performance testing pass
Test environment and result as below:
Ubuntu 18.04
Kernel: 4.14.122
Compiler: gcc 7.3.0
NIC: NXP LS2088A 10000 Mbps
Target: x86_64-native-linuxapp-gcc
Fail/Total: 0/2
Detail performance results:
+------------+---------+-------------------------------------+
| frame_size | txd/rxd | throughput difference from expected |
+============+=========+=====================================+
| 64 | 512 | -0.021 |
+------------+---------+-------------------------------------+
| 64 | 2048 | 1.247 |
+------------+---------+-------------------------------------+
To view detailed results, visit:
https://lab.dpdk.org/results/dashboard/patchsets/10511/
UNH-IOL DPDK Community Lab
To manage your email subscriptions, visit:
https://lab.dpdk.org/results/dashboard/preferences/subscriptions/
^ permalink raw reply [flat|nested] 5+ messages in thread
* [dpdk-test-report] |SUCCESS| pw68737 [PATCH] net/mlx5: fix the empty flow error structure
@ 2020-04-18 6:28 dpdklab
0 siblings, 0 replies; 5+ messages in thread
From: dpdklab @ 2020-04-18 6:28 UTC (permalink / raw)
To: Test Report; +Cc: dpdk-test-reports
[-- Attachment #1: Type: text/plain, Size: 1918 bytes --]
Test-Label: iol-intel-Performance
Test-Status: SUCCESS
http://dpdk.org/patch/68737
_Performance Testing PASS_
Submitter: Bing Zhao <bingz@mellanox.com>
Date: Friday, April 17 2020 07:30:44
DPDK git baseline: Repo:dpdk-next-net-mlx
Branch: master
CommitID:2f91be9e6719f8259ec3e9f5cc58f8b1429fabb1
68737 --> performance testing pass
Test environment and result as below:
Ubuntu 18.04
Kernel: 4.15.0-generic
Compiler: gcc 7.4
NIC: Intel Corporation Ethernet Converged Network Adapter XL710-QDA2 40000 Mbps
Target: x86_64-native-linuxapp-gcc
Fail/Total: 0/2
Detail performance results:
+------------+---------+-------------------------------------+
| frame_size | txd/rxd | throughput difference from expected |
+============+=========+=====================================+
| 64 | 512 | 0.039 |
+------------+---------+-------------------------------------+
| 64 | 2048 | 0.012 |
+------------+---------+-------------------------------------+
Ubuntu 18.04
Kernel: 4.15.0-generic
Compiler: gcc 7.4
NIC: Intel Corporation Ethernet Converged Network Adapter 82599ES 10000 Mbps
Target: x86_64-native-linuxapp-gcc
Fail/Total: 0/2
Detail performance results:
+------------+---------+-------------------------------------+
| frame_size | txd/rxd | throughput difference from expected |
+============+=========+=====================================+
| 64 | 512 | 3.129 |
+------------+---------+-------------------------------------+
| 64 | 2048 | 1.079 |
+------------+---------+-------------------------------------+
To view detailed results, visit:
https://lab.dpdk.org/results/dashboard/patchsets/10511/
UNH-IOL DPDK Community Lab
To manage your email subscriptions, visit:
https://lab.dpdk.org/results/dashboard/preferences/subscriptions/
^ permalink raw reply [flat|nested] 5+ messages in thread
* [dpdk-test-report] |SUCCESS| pw68737 [PATCH] net/mlx5: fix the empty flow error structure
[not found] <1587108644-456343-1-git-send-email-bingz@mellanox.com>
@ 2020-04-17 7:31 ` checkpatch
0 siblings, 0 replies; 5+ messages in thread
From: checkpatch @ 2020-04-17 7:31 UTC (permalink / raw)
To: test-report
Test-Label: checkpatch
Test-Status: SUCCESS
http://dpdk.org/patch/68737
_coding style OK_
^ permalink raw reply [flat|nested] 5+ messages in thread
end of thread, other threads:[~2020-04-18 23:15 UTC | newest]
Thread overview: 5+ messages (download: mbox.gz / follow: Atom feed)
-- links below jump to the message on this page --
2020-04-18 23:15 [dpdk-test-report] |SUCCESS| pw68737 [PATCH] net/mlx5: fix the empty flow error structure dpdklab
-- strict thread matches above, loose matches on Subject: below --
2020-04-18 11:33 dpdklab
2020-04-18 8:10 dpdklab
2020-04-18 6:28 dpdklab
[not found] <1587108644-456343-1-git-send-email-bingz@mellanox.com>
2020-04-17 7:31 ` checkpatch
This is a public inbox, see mirroring instructions
for how to clone and mirror all data and code used for this inbox;
as well as URLs for NNTP newsgroup(s).