* [dpdk-test-report] |SUCCESS| pw69386 [PATCH] ethdev: check for Rx RSS distribution and RSS hash
@ 2020-04-27 17:44 dpdklab
0 siblings, 0 replies; 4+ messages in thread
From: dpdklab @ 2020-04-27 17:44 UTC (permalink / raw)
To: Test Report; +Cc: dpdk-test-reports
[-- Attachment #1: Type: text/plain, Size: 2899 bytes --]
Test-Label: iol-testing
Test-Status: SUCCESS
http://dpdk.org/patch/69386
_Testing PASS_
Submitter: Lijun Ou <oulijun@huawei.com>
Date: Monday, April 27 2020 12:34:49
DPDK git baseline: Repo:dpdk
Branch: master
CommitID:97fbfe5a9526c6ef6e5583330161f1ea4add22bd
69386 --> testing pass
Test environment and result as below:
+---------------------+--------------------+-------------------+----------------+------------------+--------------+
| Environment | dpdk_meson_compile | dpdk_compile_spdk | dpdk_unit_test | dpdk_compile_ovs | dpdk_compile |
+=====================+====================+===================+================+==================+==============+
| Windows Server 2019 | PASS | SKIPPED | SKIPPED | SKIPPED | SKIPPED |
+---------------------+--------------------+-------------------+----------------+------------------+--------------+
| Fedora 31 | PASS | PASS | SKIPPED | PASS | PASS |
+---------------------+--------------------+-------------------+----------------+------------------+--------------+
| CentOS 8 | PASS | PASS | SKIPPED | PASS | PASS |
+---------------------+--------------------+-------------------+----------------+------------------+--------------+
| Ubuntu 18.04 | PASS | PASS | PASS | PASS | PASS |
+---------------------+--------------------+-------------------+----------------+------------------+--------------+
| openSUSE Leap 15 | PASS | PASS | SKIPPED | PASS | PASS |
+---------------------+--------------------+-------------------+----------------+------------------+--------------+
| Arch Linux | PASS | SKIPPED | SKIPPED | PASS | PASS |
+---------------------+--------------------+-------------------+----------------+------------------+--------------+
| FreeBSD 11.2 | SKIPPED | PASS | SKIPPED | SKIPPED | PASS |
+---------------------+--------------------+-------------------+----------------+------------------+--------------+
Windows Server 2019
Kernel: 10.0
Compiler: clang 9.0
Fedora 31
Kernel: 5.3.16
Compiler: gcc 9.2.1
CentOS 8
Kernel: 4.18.0.el8_0
Compiler: gcc 8.3.1
Ubuntu 18.04
Kernel: 4.15.0-generic
Compiler: gcc 7.4
openSUSE Leap 15
Kernel: 4.12.14
Compiler: gcc 7.4.1
Arch Linux
Kernel: latest
Compiler: gcc latest
FreeBSD 11.2
Kernel: 11.2
Compiler: gcc 8.3
To view detailed results, visit:
https://lab.dpdk.org/results/dashboard/patchsets/10727/
UNH-IOL DPDK Community Lab
To manage your email subscriptions, visit:
https://lab.dpdk.org/results/dashboard/preferences/subscriptions/
^ permalink raw reply [flat|nested] 4+ messages in thread
* [dpdk-test-report] |SUCCESS| pw69386 [PATCH] ethdev: check for Rx RSS distribution and RSS hash
@ 2020-04-27 13:43 dpdklab
0 siblings, 0 replies; 4+ messages in thread
From: dpdklab @ 2020-04-27 13:43 UTC (permalink / raw)
To: Ruoshan Shi, Test Report; +Cc: dpdk-test-reports
[-- Attachment #1: Type: text/plain, Size: 1192 bytes --]
Test-Label: iol-nxp-Performance
Test-Status: SUCCESS
http://dpdk.org/patch/69386
_Performance Testing PASS_
Submitter: Lijun Ou <oulijun@huawei.com>
Date: Monday, April 27 2020 12:34:49
DPDK git baseline: Repo:dpdk
Branch: master
CommitID:97fbfe5a9526c6ef6e5583330161f1ea4add22bd
69386 --> performance testing pass
Test environment and result as below:
Ubuntu 18.04
Kernel: 4.14.122
Compiler: gcc 7.3.0
NIC: NXP LS2088A 10000 Mbps
Target: x86_64-native-linuxapp-gcc
Fail/Total: 0/2
Detail performance results:
+------------+---------+-------------------------------------+
| frame_size | txd/rxd | throughput difference from expected |
+============+=========+=====================================+
| 64 | 512 | -0.212 |
+------------+---------+-------------------------------------+
| 64 | 2048 | -0.062 |
+------------+---------+-------------------------------------+
To view detailed results, visit:
https://lab.dpdk.org/results/dashboard/patchsets/10727/
UNH-IOL DPDK Community Lab
To manage your email subscriptions, visit:
https://lab.dpdk.org/results/dashboard/preferences/subscriptions/
^ permalink raw reply [flat|nested] 4+ messages in thread
* [dpdk-test-report] |SUCCESS| pw69386 [PATCH] ethdev: check for Rx RSS distribution and RSS hash
@ 2020-04-27 13:41 dpdklab
0 siblings, 0 replies; 4+ messages in thread
From: dpdklab @ 2020-04-27 13:41 UTC (permalink / raw)
To: Ali Alnubani, Test Report; +Cc: dpdk-test-reports
[-- Attachment #1: Type: text/plain, Size: 3954 bytes --]
Test-Label: iol-mellanox-Performance
Test-Status: SUCCESS
http://dpdk.org/patch/69386
_Performance Testing PASS_
Submitter: Lijun Ou <oulijun@huawei.com>
Date: Monday, April 27 2020 12:34:49
DPDK git baseline: Repo:dpdk
Branch: master
CommitID:97fbfe5a9526c6ef6e5583330161f1ea4add22bd
69386 --> performance testing pass
Test environment and result as below:
Ubuntu 18.04
Kernel: 4.15.0-generic
Compiler: gcc 7.4
NIC: Mellanox ConnectX-5 100000 Mbps
Target: x86_64-native-linuxapp-gcc
Fail/Total: 0/6
Detail performance results:
+------------+---------+-------------------------------------+
| frame_size | txd/rxd | throughput difference from expected |
+============+=========+=====================================+
| 64 | 256 | 0.991 |
+------------+---------+-------------------------------------+
| 128 | 256 | 0.467 |
+------------+---------+-------------------------------------+
| 256 | 256 | 0.107 |
+------------+---------+-------------------------------------+
| 512 | 256 | 0.431 |
+------------+---------+-------------------------------------+
| 1024 | 256 | 0.002 |
+------------+---------+-------------------------------------+
| 1518 | 256 | 0.020 |
+------------+---------+-------------------------------------+
Ubuntu 18.04
Kernel: 4.15.0-generic
Compiler: gcc 7.4
NIC: Mellanox ConnectX-4 Lx 25000 Mbps
Target: x86_64-native-linuxapp-gcc
Fail/Total: 0/6
Detail performance results:
+------------+---------+-------------------------------------+
| frame_size | txd/rxd | throughput difference from expected |
+============+=========+=====================================+
| 64 | 256 | 0.824 |
+------------+---------+-------------------------------------+
| 128 | 256 | 0.064 |
+------------+---------+-------------------------------------+
| 256 | 256 | -0.538 |
+------------+---------+-------------------------------------+
| 512 | 256 | 0.058 |
+------------+---------+-------------------------------------+
| 1024 | 256 | 0.016 |
+------------+---------+-------------------------------------+
| 1518 | 256 | 0.011 |
+------------+---------+-------------------------------------+
Ubuntu 18.04
Kernel: 4.15.0-generic
Compiler: gcc 7.4
NIC: Mellanox ConnectX-4 Lx 40000 Mbps
Target: x86_64-native-linuxapp-gcc
Fail/Total: 0/6
Detail performance results:
+------------+---------+-------------------------------------+
| frame_size | txd/rxd | throughput difference from expected |
+============+=========+=====================================+
| 64 | 256 | 0.905 |
+------------+---------+-------------------------------------+
| 128 | 256 | 0.489 |
+------------+---------+-------------------------------------+
| 256 | 256 | 0.505 |
+------------+---------+-------------------------------------+
| 512 | 256 | 0.089 |
+------------+---------+-------------------------------------+
| 1024 | 256 | 0.018 |
+------------+---------+-------------------------------------+
| 1518 | 256 | 0.008 |
+------------+---------+-------------------------------------+
To view detailed results, visit:
https://lab.dpdk.org/results/dashboard/patchsets/10727/
UNH-IOL DPDK Community Lab
To manage your email subscriptions, visit:
https://lab.dpdk.org/results/dashboard/preferences/subscriptions/
^ permalink raw reply [flat|nested] 4+ messages in thread
* [dpdk-test-report] |SUCCESS| pw69386 [PATCH] ethdev: check for Rx RSS distribution and RSS hash
[not found] <1587990889-56408-1-git-send-email-oulijun@huawei.com>
@ 2020-04-27 12:36 ` checkpatch
0 siblings, 0 replies; 4+ messages in thread
From: checkpatch @ 2020-04-27 12:36 UTC (permalink / raw)
To: test-report
Test-Label: checkpatch
Test-Status: SUCCESS
http://dpdk.org/patch/69386
_coding style OK_
^ permalink raw reply [flat|nested] 4+ messages in thread
end of thread, other threads:[~2020-04-27 17:44 UTC | newest]
Thread overview: 4+ messages (download: mbox.gz / follow: Atom feed)
-- links below jump to the message on this page --
2020-04-27 17:44 [dpdk-test-report] |SUCCESS| pw69386 [PATCH] ethdev: check for Rx RSS distribution and RSS hash dpdklab
-- strict thread matches above, loose matches on Subject: below --
2020-04-27 13:43 dpdklab
2020-04-27 13:41 dpdklab
[not found] <1587990889-56408-1-git-send-email-oulijun@huawei.com>
2020-04-27 12:36 ` checkpatch
This is a public inbox, see mirroring instructions
for how to clone and mirror all data and code used for this inbox;
as well as URLs for NNTP newsgroup(s).