* [dpdk-test-report] |SUCCESS| pw69677-69675 [PATCH] [V2, 1/2] net/mlx5: introduce a helper to set IP version match
@ 2020-05-03 11:57 dpdklab
0 siblings, 0 replies; 4+ messages in thread
From: dpdklab @ 2020-05-03 11:57 UTC (permalink / raw)
To: Ruoshan Shi, Test Report; +Cc: dpdk-test-reports
[-- Attachment #1: Type: text/plain, Size: 1201 bytes --]
Test-Label: iol-nxp-Performance
Test-Status: SUCCESS
http://dpdk.org/patch/69677
_Performance Testing PASS_
Submitter: Eli Britstein <elibr@mellanox.com>
Date: Sunday, May 03 2020 10:47:54
DPDK git baseline: Repo:dpdk
Branch: master
CommitID:67d376e7fe7d4e4149d3591ed94cba33206e8cd2
69677-69675 --> performance testing pass
Test environment and result as below:
Ubuntu 18.04
Kernel: 4.14.122
Compiler: gcc 7.3.0
NIC: NXP LS2088A 10000 Mbps
Target: x86_64-native-linuxapp-gcc
Fail/Total: 0/2
Detail performance results:
+------------+---------+-------------------------------------+
| frame_size | txd/rxd | throughput difference from expected |
+============+=========+=====================================+
| 64 | 512 | -0.037 |
+------------+---------+-------------------------------------+
| 64 | 2048 | 0.089 |
+------------+---------+-------------------------------------+
To view detailed results, visit:
https://lab.dpdk.org/results/dashboard/patchsets/10853/
UNH-IOL DPDK Community Lab
To manage your email subscriptions, visit:
https://lab.dpdk.org/results/dashboard/preferences/subscriptions/
^ permalink raw reply [flat|nested] 4+ messages in thread
* [dpdk-test-report] |SUCCESS| pw69677-69675 [PATCH] [V2, 1/2] net/mlx5: introduce a helper to set IP version match
@ 2020-05-03 21:21 dpdklab
0 siblings, 0 replies; 4+ messages in thread
From: dpdklab @ 2020-05-03 21:21 UTC (permalink / raw)
To: Test Report; +Cc: dpdk-test-reports
[-- Attachment #1: Type: text/plain, Size: 2908 bytes --]
Test-Label: iol-testing
Test-Status: SUCCESS
http://dpdk.org/patch/69677
_Testing PASS_
Submitter: Eli Britstein <elibr@mellanox.com>
Date: Sunday, May 03 2020 10:47:54
DPDK git baseline: Repo:dpdk
Branch: master
CommitID:67d376e7fe7d4e4149d3591ed94cba33206e8cd2
69677-69675 --> testing pass
Test environment and result as below:
+---------------------+--------------------+-------------------+----------------+------------------+--------------+
| Environment | dpdk_meson_compile | dpdk_compile_spdk | dpdk_unit_test | dpdk_compile_ovs | dpdk_compile |
+=====================+====================+===================+================+==================+==============+
| Windows Server 2019 | PASS | SKIPPED | SKIPPED | SKIPPED | SKIPPED |
+---------------------+--------------------+-------------------+----------------+------------------+--------------+
| Fedora 31 | PASS | PASS | SKIPPED | PASS | PASS |
+---------------------+--------------------+-------------------+----------------+------------------+--------------+
| CentOS 8 | PASS | PASS | SKIPPED | PASS | PASS |
+---------------------+--------------------+-------------------+----------------+------------------+--------------+
| Ubuntu 18.04 | PASS | PASS | PASS | PASS | PASS |
+---------------------+--------------------+-------------------+----------------+------------------+--------------+
| openSUSE Leap 15 | PASS | PASS | SKIPPED | PASS | PASS |
+---------------------+--------------------+-------------------+----------------+------------------+--------------+
| Arch Linux | PASS | SKIPPED | SKIPPED | PASS | PASS |
+---------------------+--------------------+-------------------+----------------+------------------+--------------+
| FreeBSD 11.2 | PASS | PASS | SKIPPED | SKIPPED | PASS |
+---------------------+--------------------+-------------------+----------------+------------------+--------------+
Windows Server 2019
Kernel: 10.0
Compiler: clang 9.0
Fedora 31
Kernel: 5.3.16
Compiler: gcc 9.2.1
CentOS 8
Kernel: 4.18.0.el8_0
Compiler: gcc 8.3.1
Ubuntu 18.04
Kernel: 4.15.0-generic
Compiler: gcc 7.4
openSUSE Leap 15
Kernel: 4.12.14
Compiler: gcc 7.4.1
Arch Linux
Kernel: latest
Compiler: gcc latest
FreeBSD 11.2
Kernel: 11.2
Compiler: gcc 8.3
To view detailed results, visit:
https://lab.dpdk.org/results/dashboard/patchsets/10853/
UNH-IOL DPDK Community Lab
To manage your email subscriptions, visit:
https://lab.dpdk.org/results/dashboard/preferences/subscriptions/
^ permalink raw reply [flat|nested] 4+ messages in thread
* [dpdk-test-report] |SUCCESS| pw69677-69675 [PATCH] [V2, 1/2] net/mlx5: introduce a helper to set IP version match
@ 2020-05-03 12:07 dpdklab
0 siblings, 0 replies; 4+ messages in thread
From: dpdklab @ 2020-05-03 12:07 UTC (permalink / raw)
To: Ali Alnubani, Test Report; +Cc: dpdk-test-reports
[-- Attachment #1: Type: text/plain, Size: 3963 bytes --]
Test-Label: iol-mellanox-Performance
Test-Status: SUCCESS
http://dpdk.org/patch/69677
_Performance Testing PASS_
Submitter: Eli Britstein <elibr@mellanox.com>
Date: Sunday, May 03 2020 10:47:54
DPDK git baseline: Repo:dpdk
Branch: master
CommitID:67d376e7fe7d4e4149d3591ed94cba33206e8cd2
69677-69675 --> performance testing pass
Test environment and result as below:
Ubuntu 18.04
Kernel: 4.15.0-generic
Compiler: gcc 7.4
NIC: Mellanox ConnectX-5 100000 Mbps
Target: x86_64-native-linuxapp-gcc
Fail/Total: 0/6
Detail performance results:
+------------+---------+-------------------------------------+
| frame_size | txd/rxd | throughput difference from expected |
+============+=========+=====================================+
| 64 | 256 | 0.191 |
+------------+---------+-------------------------------------+
| 128 | 256 | 0.069 |
+------------+---------+-------------------------------------+
| 256 | 256 | 0.066 |
+------------+---------+-------------------------------------+
| 512 | 256 | 0.161 |
+------------+---------+-------------------------------------+
| 1024 | 256 | -0.062 |
+------------+---------+-------------------------------------+
| 1518 | 256 | 0.002 |
+------------+---------+-------------------------------------+
Ubuntu 18.04
Kernel: 4.15.0-generic
Compiler: gcc 7.4
NIC: Mellanox ConnectX-4 Lx 25000 Mbps
Target: x86_64-native-linuxapp-gcc
Fail/Total: 0/6
Detail performance results:
+------------+---------+-------------------------------------+
| frame_size | txd/rxd | throughput difference from expected |
+============+=========+=====================================+
| 64 | 256 | -0.450 |
+------------+---------+-------------------------------------+
| 128 | 256 | -0.142 |
+------------+---------+-------------------------------------+
| 256 | 256 | -0.028 |
+------------+---------+-------------------------------------+
| 512 | 256 | -0.012 |
+------------+---------+-------------------------------------+
| 1024 | 256 | -0.016 |
+------------+---------+-------------------------------------+
| 1518 | 256 | -0.001 |
+------------+---------+-------------------------------------+
Ubuntu 18.04
Kernel: 4.15.0-generic
Compiler: gcc 7.4
NIC: Mellanox ConnectX-4 Lx 40000 Mbps
Target: x86_64-native-linuxapp-gcc
Fail/Total: 0/6
Detail performance results:
+------------+---------+-------------------------------------+
| frame_size | txd/rxd | throughput difference from expected |
+============+=========+=====================================+
| 64 | 256 | 0.653 |
+------------+---------+-------------------------------------+
| 128 | 256 | -0.039 |
+------------+---------+-------------------------------------+
| 256 | 256 | 0.006 |
+------------+---------+-------------------------------------+
| 512 | 256 | 0.004 |
+------------+---------+-------------------------------------+
| 1024 | 256 | 0 |
+------------+---------+-------------------------------------+
| 1518 | 256 | -0.020 |
+------------+---------+-------------------------------------+
To view detailed results, visit:
https://lab.dpdk.org/results/dashboard/patchsets/10853/
UNH-IOL DPDK Community Lab
To manage your email subscriptions, visit:
https://lab.dpdk.org/results/dashboard/preferences/subscriptions/
^ permalink raw reply [flat|nested] 4+ messages in thread
* [dpdk-test-report] |SUCCESS| pw69677-69675 [PATCH] [V2, 1/2] net/mlx5: introduce a helper to set IP version match
@ 2020-05-03 11:53 dpdklab
0 siblings, 0 replies; 4+ messages in thread
From: dpdklab @ 2020-05-03 11:53 UTC (permalink / raw)
To: Test Report; +Cc: dpdk-test-reports
[-- Attachment #1: Type: text/plain, Size: 1913 bytes --]
Test-Label: iol-intel-Performance
Test-Status: SUCCESS
http://dpdk.org/patch/69677
_Performance Testing PASS_
Submitter: Eli Britstein <elibr@mellanox.com>
Date: Sunday, May 03 2020 10:47:54
DPDK git baseline: Repo:dpdk
Branch: master
CommitID:67d376e7fe7d4e4149d3591ed94cba33206e8cd2
69677-69675 --> performance testing pass
Test environment and result as below:
Ubuntu 18.04
Kernel: 4.15.0-generic
Compiler: gcc 7.4
NIC: Intel Corporation Ethernet Converged Network Adapter XL710-QDA2 40000 Mbps
Target: x86_64-native-linuxapp-gcc
Fail/Total: 0/2
Detail performance results:
+------------+---------+-------------------------------------+
| frame_size | txd/rxd | throughput difference from expected |
+============+=========+=====================================+
| 64 | 512 | 4.442 |
+------------+---------+-------------------------------------+
| 64 | 2048 | 0.030 |
+------------+---------+-------------------------------------+
Ubuntu 18.04
Kernel: 4.15.0-generic
Compiler: gcc 7.4
NIC: Intel Corporation Ethernet Converged Network Adapter 82599ES 10000 Mbps
Target: x86_64-native-linuxapp-gcc
Fail/Total: 0/2
Detail performance results:
+------------+---------+-------------------------------------+
| frame_size | txd/rxd | throughput difference from expected |
+============+=========+=====================================+
| 64 | 512 | 0.036 |
+------------+---------+-------------------------------------+
| 64 | 2048 | 0.082 |
+------------+---------+-------------------------------------+
To view detailed results, visit:
https://lab.dpdk.org/results/dashboard/patchsets/10853/
UNH-IOL DPDK Community Lab
To manage your email subscriptions, visit:
https://lab.dpdk.org/results/dashboard/preferences/subscriptions/
^ permalink raw reply [flat|nested] 4+ messages in thread
end of thread, other threads:[~2020-05-03 21:21 UTC | newest]
Thread overview: 4+ messages (download: mbox.gz / follow: Atom feed)
-- links below jump to the message on this page --
2020-05-03 11:57 [dpdk-test-report] |SUCCESS| pw69677-69675 [PATCH] [V2, 1/2] net/mlx5: introduce a helper to set IP version match dpdklab
-- strict thread matches above, loose matches on Subject: below --
2020-05-03 21:21 dpdklab
2020-05-03 12:07 dpdklab
2020-05-03 11:53 dpdklab
This is a public inbox, see mirroring instructions
for how to clone and mirror all data and code used for this inbox;
as well as URLs for NNTP newsgroup(s).