* [dpdk-test-report] |SUCCESS| pw69756 [PATCH] net/mlx5: fix match on empty VLAN item in DV mode
@ 2020-05-05 14:42 dpdklab
0 siblings, 0 replies; 5+ messages in thread
From: dpdklab @ 2020-05-05 14:42 UTC (permalink / raw)
To: Test Report; +Cc: dpdk-test-reports
[-- Attachment #1: Type: text/plain, Size: 1907 bytes --]
Test-Label: iol-intel-Performance
Test-Status: SUCCESS
http://dpdk.org/patch/69756
_Performance Testing PASS_
Submitter: Dekel Peled <dekelp@mellanox.com>
Date: Tuesday, May 05 2020 12:57:54
DPDK git baseline: Repo:dpdk
Branch: master
CommitID:67d376e7fe7d4e4149d3591ed94cba33206e8cd2
69756 --> performance testing pass
Test environment and result as below:
Ubuntu 18.04
Kernel: 4.15.0-generic
Compiler: gcc 7.4
NIC: Intel Corporation Ethernet Converged Network Adapter XL710-QDA2 40000 Mbps
Target: x86_64-native-linuxapp-gcc
Fail/Total: 0/2
Detail performance results:
+------------+---------+-------------------------------------+
| frame_size | txd/rxd | throughput difference from expected |
+============+=========+=====================================+
| 64 | 512 | 5.843 |
+------------+---------+-------------------------------------+
| 64 | 2048 | -0.034 |
+------------+---------+-------------------------------------+
Ubuntu 18.04
Kernel: 4.15.0-generic
Compiler: gcc 7.4
NIC: Intel Corporation Ethernet Converged Network Adapter 82599ES 10000 Mbps
Target: x86_64-native-linuxapp-gcc
Fail/Total: 0/2
Detail performance results:
+------------+---------+-------------------------------------+
| frame_size | txd/rxd | throughput difference from expected |
+============+=========+=====================================+
| 64 | 512 | -0.227 |
+------------+---------+-------------------------------------+
| 64 | 2048 | -0.027 |
+------------+---------+-------------------------------------+
To view detailed results, visit:
https://lab.dpdk.org/results/dashboard/patchsets/10891/
UNH-IOL DPDK Community Lab
To manage your email subscriptions, visit:
https://lab.dpdk.org/results/dashboard/preferences/subscriptions/
^ permalink raw reply [flat|nested] 5+ messages in thread
* [dpdk-test-report] |SUCCESS| pw69756 [PATCH] net/mlx5: fix match on empty VLAN item in DV mode
@ 2020-05-06 5:55 dpdklab
0 siblings, 0 replies; 5+ messages in thread
From: dpdklab @ 2020-05-06 5:55 UTC (permalink / raw)
To: Test Report; +Cc: dpdk-test-reports
[-- Attachment #1: Type: text/plain, Size: 2902 bytes --]
Test-Label: iol-testing
Test-Status: SUCCESS
http://dpdk.org/patch/69756
_Testing PASS_
Submitter: Dekel Peled <dekelp@mellanox.com>
Date: Tuesday, May 05 2020 12:57:54
DPDK git baseline: Repo:dpdk
Branch: master
CommitID:67d376e7fe7d4e4149d3591ed94cba33206e8cd2
69756 --> testing pass
Test environment and result as below:
+---------------------+--------------------+-------------------+------------------+----------------+--------------+
| Environment | dpdk_meson_compile | dpdk_compile_spdk | dpdk_compile_ovs | dpdk_unit_test | dpdk_compile |
+=====================+====================+===================+==================+================+==============+
| Windows Server 2019 | PASS | SKIPPED | SKIPPED | SKIPPED | SKIPPED |
+---------------------+--------------------+-------------------+------------------+----------------+--------------+
| Fedora 31 | PASS | PASS | PASS | SKIPPED | PASS |
+---------------------+--------------------+-------------------+------------------+----------------+--------------+
| openSUSE Leap 15 | PASS | PASS | PASS | SKIPPED | PASS |
+---------------------+--------------------+-------------------+------------------+----------------+--------------+
| CentOS 8 | PASS | PASS | PASS | SKIPPED | PASS |
+---------------------+--------------------+-------------------+------------------+----------------+--------------+
| Ubuntu 18.04 | PASS | PASS | PASS | PASS | PASS |
+---------------------+--------------------+-------------------+------------------+----------------+--------------+
| Arch Linux | PASS | SKIPPED | PASS | SKIPPED | PASS |
+---------------------+--------------------+-------------------+------------------+----------------+--------------+
| FreeBSD 11.2 | PASS | PASS | SKIPPED | SKIPPED | PASS |
+---------------------+--------------------+-------------------+------------------+----------------+--------------+
Windows Server 2019
Kernel: 10.0
Compiler: clang 9.0
Fedora 31
Kernel: 5.3.16
Compiler: gcc 9.2.1
openSUSE Leap 15
Kernel: 4.12.14
Compiler: gcc 7.4.1
CentOS 8
Kernel: 4.18.0.el8_0
Compiler: gcc 8.3.1
Ubuntu 18.04
Kernel: 4.15.0-generic
Compiler: gcc 7.4
Arch Linux
Kernel: latest
Compiler: gcc latest
FreeBSD 11.2
Kernel: 11.2
Compiler: gcc 8.3
To view detailed results, visit:
https://lab.dpdk.org/results/dashboard/patchsets/10891/
UNH-IOL DPDK Community Lab
To manage your email subscriptions, visit:
https://lab.dpdk.org/results/dashboard/preferences/subscriptions/
^ permalink raw reply [flat|nested] 5+ messages in thread
* [dpdk-test-report] |SUCCESS| pw69756 [PATCH] net/mlx5: fix match on empty VLAN item in DV mode
@ 2020-05-05 15:58 dpdklab
0 siblings, 0 replies; 5+ messages in thread
From: dpdklab @ 2020-05-05 15:58 UTC (permalink / raw)
To: Ali Alnubani, Test Report; +Cc: dpdk-test-reports
[-- Attachment #1: Type: text/plain, Size: 3957 bytes --]
Test-Label: iol-mellanox-Performance
Test-Status: SUCCESS
http://dpdk.org/patch/69756
_Performance Testing PASS_
Submitter: Dekel Peled <dekelp@mellanox.com>
Date: Tuesday, May 05 2020 12:57:54
DPDK git baseline: Repo:dpdk
Branch: master
CommitID:67d376e7fe7d4e4149d3591ed94cba33206e8cd2
69756 --> performance testing pass
Test environment and result as below:
Ubuntu 18.04
Kernel: 4.15.0-generic
Compiler: gcc 7.4
NIC: Mellanox ConnectX-5 100000 Mbps
Target: x86_64-native-linuxapp-gcc
Fail/Total: 0/6
Detail performance results:
+------------+---------+-------------------------------------+
| frame_size | txd/rxd | throughput difference from expected |
+============+=========+=====================================+
| 64 | 256 | 0.432 |
+------------+---------+-------------------------------------+
| 128 | 256 | 0.086 |
+------------+---------+-------------------------------------+
| 256 | 256 | 0.141 |
+------------+---------+-------------------------------------+
| 512 | 256 | 0.149 |
+------------+---------+-------------------------------------+
| 1024 | 256 | -0.047 |
+------------+---------+-------------------------------------+
| 1518 | 256 | -0.027 |
+------------+---------+-------------------------------------+
Ubuntu 18.04
Kernel: 4.15.0-generic
Compiler: gcc 7.4
NIC: Mellanox ConnectX-4 Lx 25000 Mbps
Target: x86_64-native-linuxapp-gcc
Fail/Total: 0/6
Detail performance results:
+------------+---------+-------------------------------------+
| frame_size | txd/rxd | throughput difference from expected |
+============+=========+=====================================+
| 64 | 256 | -0.208 |
+------------+---------+-------------------------------------+
| 128 | 256 | 0.037 |
+------------+---------+-------------------------------------+
| 256 | 256 | -0.062 |
+------------+---------+-------------------------------------+
| 512 | 256 | 0.011 |
+------------+---------+-------------------------------------+
| 1024 | 256 | -0.009 |
+------------+---------+-------------------------------------+
| 1518 | 256 | -0.003 |
+------------+---------+-------------------------------------+
Ubuntu 18.04
Kernel: 4.15.0-generic
Compiler: gcc 7.4
NIC: Mellanox ConnectX-4 Lx 40000 Mbps
Target: x86_64-native-linuxapp-gcc
Fail/Total: 0/6
Detail performance results:
+------------+---------+-------------------------------------+
| frame_size | txd/rxd | throughput difference from expected |
+============+=========+=====================================+
| 64 | 256 | 0.695 |
+------------+---------+-------------------------------------+
| 128 | 256 | 0.132 |
+------------+---------+-------------------------------------+
| 256 | 256 | 0.006 |
+------------+---------+-------------------------------------+
| 512 | 256 | 0.041 |
+------------+---------+-------------------------------------+
| 1024 | 256 | 0.001 |
+------------+---------+-------------------------------------+
| 1518 | 256 | -0.014 |
+------------+---------+-------------------------------------+
To view detailed results, visit:
https://lab.dpdk.org/results/dashboard/patchsets/10891/
UNH-IOL DPDK Community Lab
To manage your email subscriptions, visit:
https://lab.dpdk.org/results/dashboard/preferences/subscriptions/
^ permalink raw reply [flat|nested] 5+ messages in thread
* [dpdk-test-report] |SUCCESS| pw69756 [PATCH] net/mlx5: fix match on empty VLAN item in DV mode
@ 2020-05-05 15:03 dpdklab
0 siblings, 0 replies; 5+ messages in thread
From: dpdklab @ 2020-05-05 15:03 UTC (permalink / raw)
To: Ruoshan Shi, Test Report; +Cc: dpdk-test-reports
[-- Attachment #1: Type: text/plain, Size: 1195 bytes --]
Test-Label: iol-nxp-Performance
Test-Status: SUCCESS
http://dpdk.org/patch/69756
_Performance Testing PASS_
Submitter: Dekel Peled <dekelp@mellanox.com>
Date: Tuesday, May 05 2020 12:57:54
DPDK git baseline: Repo:dpdk
Branch: master
CommitID:67d376e7fe7d4e4149d3591ed94cba33206e8cd2
69756 --> performance testing pass
Test environment and result as below:
Ubuntu 18.04
Kernel: 4.14.122
Compiler: gcc 7.3.0
NIC: NXP LS2088A 10000 Mbps
Target: x86_64-native-linuxapp-gcc
Fail/Total: 0/2
Detail performance results:
+------------+---------+-------------------------------------+
| frame_size | txd/rxd | throughput difference from expected |
+============+=========+=====================================+
| 64 | 512 | -0.101 |
+------------+---------+-------------------------------------+
| 64 | 2048 | 0.116 |
+------------+---------+-------------------------------------+
To view detailed results, visit:
https://lab.dpdk.org/results/dashboard/patchsets/10891/
UNH-IOL DPDK Community Lab
To manage your email subscriptions, visit:
https://lab.dpdk.org/results/dashboard/preferences/subscriptions/
^ permalink raw reply [flat|nested] 5+ messages in thread
[parent not found: <851d6f105d060c15334220049b0e311ceeb774b2.1588683371.git.dekelp@mellanox.com>]
end of thread, other threads:[~2020-05-06 5:55 UTC | newest]
Thread overview: 5+ messages (download: mbox.gz / follow: Atom feed)
-- links below jump to the message on this page --
2020-05-05 14:42 [dpdk-test-report] |SUCCESS| pw69756 [PATCH] net/mlx5: fix match on empty VLAN item in DV mode dpdklab
-- strict thread matches above, loose matches on Subject: below --
2020-05-06 5:55 dpdklab
2020-05-05 15:58 dpdklab
2020-05-05 15:03 dpdklab
[not found] <851d6f105d060c15334220049b0e311ceeb774b2.1588683371.git.dekelp@mellanox.com>
2020-05-05 12:59 ` checkpatch
This is a public inbox, see mirroring instructions
for how to clone and mirror all data and code used for this inbox;
as well as URLs for NNTP newsgroup(s).