automatic DPDK test reports
 help / color / mirror / Atom feed
* [dpdk-test-report] |SUCCESS| pw71237 [PATCH] common/octeontx2: retry intr callback unregister
@ 2020-06-11 17:27 dpdklab
  0 siblings, 0 replies; 6+ messages in thread
From: dpdklab @ 2020-06-11 17:27 UTC (permalink / raw)
  To: Ali Alnubani, Test Report; +Cc: dpdk-test-reports

[-- Attachment #1: Type: text/plain, Size: 3969 bytes --]

Test-Label: iol-mellanox-Performance
Test-Status: SUCCESS
http://dpdk.org/patch/71237

_Performance Testing PASS_

Submitter: Nithin Dabilpuram <ndabilpuram@marvell.com>
Date: Thursday, June 11 2020 07:26:04 
DPDK git baseline: Repo:dpdk
  Branch: master
  CommitID:5fd722308ef21819931d25e7a140ff5a292b19d9

71237 --> performance testing pass

Test environment and result as below:

Ubuntu 18.04
Kernel: 4.15.0-generic
Compiler: gcc 7.4
NIC: Mellanox ConnectX-5 100000 Mbps
Target: x86_64-native-linuxapp-gcc
Fail/Total: 0/6

Detail performance results: 
+------------+---------+-------------------------------------+
| frame_size | txd/rxd | throughput difference from expected |
+============+=========+=====================================+
| 64         | 256     | 0.121                               |
+------------+---------+-------------------------------------+
| 128        | 256     | 0.030                               |
+------------+---------+-------------------------------------+
| 256        | 256     | 0.040                               |
+------------+---------+-------------------------------------+
| 512        | 256     | 0.099                               |
+------------+---------+-------------------------------------+
| 1024       | 256     | -0.151                              |
+------------+---------+-------------------------------------+
| 1518       | 256     | -0.021                              |
+------------+---------+-------------------------------------+

Ubuntu 18.04
Kernel: 4.15.0-generic
Compiler: gcc 7.4
NIC: Mellanox ConnectX-4 Lx 25000 Mbps
Target: x86_64-native-linuxapp-gcc
Fail/Total: 0/6

Detail performance results: 
+------------+---------+-------------------------------------+
| frame_size | txd/rxd | throughput difference from expected |
+============+=========+=====================================+
| 64         | 256     | 0.017                               |
+------------+---------+-------------------------------------+
| 128        | 256     | 0.154                               |
+------------+---------+-------------------------------------+
| 256        | 256     | -0.253                              |
+------------+---------+-------------------------------------+
| 512        | 256     | 0.020                               |
+------------+---------+-------------------------------------+
| 1024       | 256     | 0.013                               |
+------------+---------+-------------------------------------+
| 1518       | 256     | -0.007                              |
+------------+---------+-------------------------------------+

Ubuntu 18.04
Kernel: 4.15.0-generic
Compiler: gcc 7.4
NIC: Mellanox ConnectX-4 Lx 40000 Mbps
Target: x86_64-native-linuxapp-gcc
Fail/Total: 0/6

Detail performance results: 
+------------+---------+-------------------------------------+
| frame_size | txd/rxd | throughput difference from expected |
+============+=========+=====================================+
| 64         | 256     | -0.717                              |
+------------+---------+-------------------------------------+
| 128        | 256     | 0.060                               |
+------------+---------+-------------------------------------+
| 256        | 256     | -0.031                              |
+------------+---------+-------------------------------------+
| 512        | 256     | -0.001                              |
+------------+---------+-------------------------------------+
| 1024       | 256     | 0.028                               |
+------------+---------+-------------------------------------+
| 1518       | 256     | 0                                   |
+------------+---------+-------------------------------------+

To view detailed results, visit:
https://lab.dpdk.org/results/dashboard/patchsets/11456/

UNH-IOL DPDK Community Lab

To manage your email subscriptions, visit: 
https://lab.dpdk.org/results/dashboard/preferences/subscriptions/

^ permalink raw reply	[flat|nested] 6+ messages in thread

* [dpdk-test-report] |SUCCESS| pw71237 [PATCH] common/octeontx2: retry intr callback unregister
@ 2020-06-11 21:56 dpdklab
  0 siblings, 0 replies; 6+ messages in thread
From: dpdklab @ 2020-06-11 21:56 UTC (permalink / raw)
  To: Test Report; +Cc: dpdk-test-reports

[-- Attachment #1: Type: text/plain, Size: 2914 bytes --]

Test-Label: iol-testing
Test-Status: SUCCESS
http://dpdk.org/patch/71237

_Testing PASS_

Submitter: Nithin Dabilpuram <ndabilpuram@marvell.com>
Date: Thursday, June 11 2020 07:26:04 
DPDK git baseline: Repo:dpdk
  Branch: master
  CommitID:5fd722308ef21819931d25e7a140ff5a292b19d9

71237 --> testing pass

Test environment and result as below:

+---------------------+--------------------+-------------------+------------------+----------------+--------------+
|     Environment     | dpdk_meson_compile | dpdk_compile_spdk | dpdk_compile_ovs | dpdk_unit_test | dpdk_compile |
+=====================+====================+===================+==================+================+==============+
| Windows Server 2019 | PASS               | SKIPPED           | SKIPPED          | SKIPPED        | SKIPPED      |
+---------------------+--------------------+-------------------+------------------+----------------+--------------+
| Ubuntu 18.04        | PASS               | PASS              | PASS             | PASS           | PASS         |
+---------------------+--------------------+-------------------+------------------+----------------+--------------+
| CentOS 8            | PASS               | PASS              | PASS             | SKIPPED        | PASS         |
+---------------------+--------------------+-------------------+------------------+----------------+--------------+
| Fedora 31           | PASS               | PASS              | PASS             | SKIPPED        | PASS         |
+---------------------+--------------------+-------------------+------------------+----------------+--------------+
| openSUSE Leap 15    | PASS               | PASS              | PASS             | SKIPPED        | PASS         |
+---------------------+--------------------+-------------------+------------------+----------------+--------------+
| Arch Linux          | PASS               | SKIPPED           | PASS             | SKIPPED        | PASS         |
+---------------------+--------------------+-------------------+------------------+----------------+--------------+
| FreeBSD 11.2        | PASS               | PASS              | SKIPPED          | SKIPPED        | PASS         |
+---------------------+--------------------+-------------------+------------------+----------------+--------------+

Windows Server 2019
	Kernel: 10.0
	Compiler: clang 9.0

Ubuntu 18.04
	Kernel: 4.15.0-generic
	Compiler: gcc 7.4

CentOS 8
	Kernel: 4.18.0.el8_0
	Compiler: gcc 8.3.1

Fedora 31
	Kernel: 5.3.16
	Compiler: gcc 9.2.1

openSUSE Leap 15
	Kernel: 4.12.14
	Compiler: gcc 7.4.1

Arch Linux
	Kernel: latest
	Compiler: gcc latest

FreeBSD 11.2
	Kernel: 11.2
	Compiler: gcc 8.3

To view detailed results, visit:
https://lab.dpdk.org/results/dashboard/patchsets/11456/

UNH-IOL DPDK Community Lab

To manage your email subscriptions, visit: 
https://lab.dpdk.org/results/dashboard/preferences/subscriptions/

^ permalink raw reply	[flat|nested] 6+ messages in thread

* [dpdk-test-report] |SUCCESS| pw71237 [PATCH] common/octeontx2: retry intr callback unregister
@ 2020-06-11 15:00 dpdklab
  0 siblings, 0 replies; 6+ messages in thread
From: dpdklab @ 2020-06-11 15:00 UTC (permalink / raw)
  To: Ruoshan Shi, Test Report; +Cc: dpdk-test-reports

[-- Attachment #1: Type: text/plain, Size: 1207 bytes --]

Test-Label: iol-nxp-Performance
Test-Status: SUCCESS
http://dpdk.org/patch/71237

_Performance Testing PASS_

Submitter: Nithin Dabilpuram <ndabilpuram@marvell.com>
Date: Thursday, June 11 2020 07:26:04 
DPDK git baseline: Repo:dpdk
  Branch: master
  CommitID:5fd722308ef21819931d25e7a140ff5a292b19d9

71237 --> performance testing pass

Test environment and result as below:

Ubuntu 18.04
Kernel: 4.14.122
Compiler: gcc 7.3.0
NIC: NXP LS2088A 10000 Mbps
Target: x86_64-native-linuxapp-gcc
Fail/Total: 0/2

Detail performance results: 
+------------+---------+-------------------------------------+
| frame_size | txd/rxd | throughput difference from expected |
+============+=========+=====================================+
| 64         | 512     | 0.058                               |
+------------+---------+-------------------------------------+
| 64         | 2048    | 0.032                               |
+------------+---------+-------------------------------------+

To view detailed results, visit:
https://lab.dpdk.org/results/dashboard/patchsets/11456/

UNH-IOL DPDK Community Lab

To manage your email subscriptions, visit: 
https://lab.dpdk.org/results/dashboard/preferences/subscriptions/

^ permalink raw reply	[flat|nested] 6+ messages in thread

* [dpdk-test-report] |SUCCESS| pw71237 [PATCH] common/octeontx2: retry intr callback unregister
@ 2020-06-11 14:31 dpdklab
  0 siblings, 0 replies; 6+ messages in thread
From: dpdklab @ 2020-06-11 14:31 UTC (permalink / raw)
  To: Test Report; +Cc: dpdk-test-reports

[-- Attachment #1: Type: text/plain, Size: 1919 bytes --]

Test-Label: iol-intel-Performance
Test-Status: SUCCESS
http://dpdk.org/patch/71237

_Performance Testing PASS_

Submitter: Nithin Dabilpuram <ndabilpuram@marvell.com>
Date: Thursday, June 11 2020 07:26:04 
DPDK git baseline: Repo:dpdk
  Branch: master
  CommitID:5fd722308ef21819931d25e7a140ff5a292b19d9

71237 --> performance testing pass

Test environment and result as below:

Ubuntu 18.04
Kernel: 4.15.0-generic
Compiler: gcc 7.4
NIC: Intel Corporation Ethernet Converged Network Adapter XL710-QDA2 40000 Mbps
Target: x86_64-native-linuxapp-gcc
Fail/Total: 0/2

Detail performance results: 
+------------+---------+-------------------------------------+
| frame_size | txd/rxd | throughput difference from expected |
+============+=========+=====================================+
| 64         | 512     | 4.966                               |
+------------+---------+-------------------------------------+
| 64         | 2048    | 3.030                               |
+------------+---------+-------------------------------------+

Ubuntu 18.04
Kernel: 4.15.0-generic
Compiler: gcc 7.4
NIC: Intel Corporation Ethernet Converged Network Adapter 82599ES 10000 Mbps
Target: x86_64-native-linuxapp-gcc
Fail/Total: 0/2

Detail performance results: 
+------------+---------+-------------------------------------+
| frame_size | txd/rxd | throughput difference from expected |
+============+=========+=====================================+
| 64         | 512     | 2.587                               |
+------------+---------+-------------------------------------+
| 64         | 2048    | 0.845                               |
+------------+---------+-------------------------------------+

To view detailed results, visit:
https://lab.dpdk.org/results/dashboard/patchsets/11456/

UNH-IOL DPDK Community Lab

To manage your email subscriptions, visit: 
https://lab.dpdk.org/results/dashboard/preferences/subscriptions/

^ permalink raw reply	[flat|nested] 6+ messages in thread

* [dpdk-test-report] |SUCCESS| pw71237 [PATCH] common/octeontx2: retry intr callback unregister
@ 2020-06-11 12:26 dpdklab
  0 siblings, 0 replies; 6+ messages in thread
From: dpdklab @ 2020-06-11 12:26 UTC (permalink / raw)
  To: Ajit Khaparde, Test Report; +Cc: dpdk-test-reports

[-- Attachment #1: Type: text/plain, Size: 1270 bytes --]

Test-Label: iol-broadcom-Performance
Test-Status: SUCCESS
http://dpdk.org/patch/71237

_Performance Testing PASS_

Submitter: Nithin Dabilpuram <ndabilpuram@marvell.com>
Date: Thursday, June 11 2020 07:26:04 
DPDK git baseline: Repo:dpdk
  Branch: master
  CommitID:5fd722308ef21819931d25e7a140ff5a292b19d9

71237 --> performance testing pass

Test environment and result as below:

Ubuntu 18.04
Kernel: 4.15.0-65-generic
Compiler: gcc gcc (Ubuntu 7.4.0-1ubuntu1~18.04.1) 7.4.0
NIC: Broadcom Inc. brcm_57414 25000 Mbps
Target: x86_64-native-linuxapp-gcc
Fail/Total: 0/2

Detail performance results: 
+------------+---------+-------------------------------------+
| frame_size | txd/rxd | throughput difference from expected |
+============+=========+=====================================+
| 64         | 512     | 0.066                               |
+------------+---------+-------------------------------------+
| 64         | 2048    | -0.010                              |
+------------+---------+-------------------------------------+

To view detailed results, visit:
https://lab.dpdk.org/results/dashboard/patchsets/11456/

UNH-IOL DPDK Community Lab

To manage your email subscriptions, visit: 
https://lab.dpdk.org/results/dashboard/preferences/subscriptions/

^ permalink raw reply	[flat|nested] 6+ messages in thread

* [dpdk-test-report] |SUCCESS| pw71237 [PATCH] common/octeontx2: retry intr callback unregister
       [not found] <20200611072605.472-1-ndabilpuram@marvell.com>
@ 2020-06-11  7:37 ` checkpatch
  0 siblings, 0 replies; 6+ messages in thread
From: checkpatch @ 2020-06-11  7:37 UTC (permalink / raw)
  To: test-report

Test-Label: checkpatch
Test-Status: SUCCESS
http://dpdk.org/patch/71237

_coding style OK_



^ permalink raw reply	[flat|nested] 6+ messages in thread

end of thread, other threads:[~2020-06-11 21:56 UTC | newest]

Thread overview: 6+ messages (download: mbox.gz / follow: Atom feed)
-- links below jump to the message on this page --
2020-06-11 17:27 [dpdk-test-report] |SUCCESS| pw71237 [PATCH] common/octeontx2: retry intr callback unregister dpdklab
  -- strict thread matches above, loose matches on Subject: below --
2020-06-11 21:56 dpdklab
2020-06-11 15:00 dpdklab
2020-06-11 14:31 dpdklab
2020-06-11 12:26 dpdklab
     [not found] <20200611072605.472-1-ndabilpuram@marvell.com>
2020-06-11  7:37 ` checkpatch

automatic DPDK test reports

This inbox may be cloned and mirrored by anyone:

	git clone --mirror https://inbox.dpdk.org/test-report/0 test-report/git/0.git

	# If you have public-inbox 1.1+ installed, you may
	# initialize and index your mirror using the following commands:
	public-inbox-init -V2 test-report test-report/ https://inbox.dpdk.org/test-report \
		test-report@dpdk.org
	public-inbox-index test-report

Example config snippet for mirrors.
Newsgroup available over NNTP:
	nntp://inbox.dpdk.org/inbox.dpdk.test-report


AGPL code for this site: git clone https://public-inbox.org/public-inbox.git