automatic DPDK test reports
 help / color / mirror / Atom feed
* [dpdk-test-report] |SUCCESS| pw71266-71267 [PATCH] [v1, 1/2] vhost: introduce async data path registration API
@ 2020-06-11 19:34 dpdklab
  0 siblings, 0 replies; 5+ messages in thread
From: dpdklab @ 2020-06-11 19:34 UTC (permalink / raw)
  To: Test Report; +Cc: dpdk-test-reports

[-- Attachment #1: Type: text/plain, Size: 2904 bytes --]

Test-Label: iol-testing
Test-Status: SUCCESS
http://dpdk.org/patch/71266

_Testing PASS_

Submitter: None <patrick.fu@intel.com>
Date: Thursday, June 11 2020 10:02:04 
DPDK git baseline: Repo:dpdk
  Branch: master
  CommitID:5fd722308ef21819931d25e7a140ff5a292b19d9

71266-71267 --> testing pass

Test environment and result as below:

+---------------------+--------------------+--------------+----------------+-------------------+------------------+
|     Environment     | dpdk_meson_compile | dpdk_compile | dpdk_unit_test | dpdk_compile_spdk | dpdk_compile_ovs |
+=====================+====================+==============+================+===================+==================+
| Windows Server 2019 | PASS               | SKIPPED      | SKIPPED        | SKIPPED           | SKIPPED          |
+---------------------+--------------------+--------------+----------------+-------------------+------------------+
| Arch Linux          | PASS               | PASS         | SKIPPED        | SKIPPED           | PASS             |
+---------------------+--------------------+--------------+----------------+-------------------+------------------+
| openSUSE Leap 15    | PASS               | PASS         | SKIPPED        | PASS              | PASS             |
+---------------------+--------------------+--------------+----------------+-------------------+------------------+
| Fedora 31           | PASS               | PASS         | SKIPPED        | PASS              | PASS             |
+---------------------+--------------------+--------------+----------------+-------------------+------------------+
| Ubuntu 18.04        | PASS               | PASS         | PASS           | PASS              | PASS             |
+---------------------+--------------------+--------------+----------------+-------------------+------------------+
| CentOS 8            | PASS               | PASS         | SKIPPED        | PASS              | PASS             |
+---------------------+--------------------+--------------+----------------+-------------------+------------------+
| FreeBSD 11.2        | PASS               | PASS         | SKIPPED        | PASS              | SKIPPED          |
+---------------------+--------------------+--------------+----------------+-------------------+------------------+

Windows Server 2019
	Kernel: 10.0
	Compiler: clang 9.0

Arch Linux
	Kernel: latest
	Compiler: gcc latest

openSUSE Leap 15
	Kernel: 4.12.14
	Compiler: gcc 7.4.1

Fedora 31
	Kernel: 5.3.16
	Compiler: gcc 9.2.1

Ubuntu 18.04
	Kernel: 4.15.0-generic
	Compiler: gcc 7.4

CentOS 8
	Kernel: 4.18.0.el8_0
	Compiler: gcc 8.3.1

FreeBSD 11.2
	Kernel: 11.2
	Compiler: gcc 8.3

To view detailed results, visit:
https://lab.dpdk.org/results/dashboard/patchsets/11461/

UNH-IOL DPDK Community Lab

To manage your email subscriptions, visit: 
https://lab.dpdk.org/results/dashboard/preferences/subscriptions/

^ permalink raw reply	[flat|nested] 5+ messages in thread
* [dpdk-test-report] |SUCCESS| pw71266-71267 [PATCH] [v1, 1/2] vhost: introduce async data path registration API
@ 2020-06-11 15:33 dpdklab
  0 siblings, 0 replies; 5+ messages in thread
From: dpdklab @ 2020-06-11 15:33 UTC (permalink / raw)
  To: Ali Alnubani, Test Report; +Cc: dpdk-test-reports

[-- Attachment #1: Type: text/plain, Size: 3959 bytes --]

Test-Label: iol-mellanox-Performance
Test-Status: SUCCESS
http://dpdk.org/patch/71266

_Performance Testing PASS_

Submitter: None <patrick.fu@intel.com>
Date: Thursday, June 11 2020 10:02:04 
DPDK git baseline: Repo:dpdk
  Branch: master
  CommitID:5fd722308ef21819931d25e7a140ff5a292b19d9

71266-71267 --> performance testing pass

Test environment and result as below:

Ubuntu 18.04
Kernel: 4.15.0-generic
Compiler: gcc 7.4
NIC: Mellanox ConnectX-5 100000 Mbps
Target: x86_64-native-linuxapp-gcc
Fail/Total: 0/6

Detail performance results: 
+------------+---------+-------------------------------------+
| frame_size | txd/rxd | throughput difference from expected |
+============+=========+=====================================+
| 64         | 256     | 0.746                               |
+------------+---------+-------------------------------------+
| 128        | 256     | -0.003                              |
+------------+---------+-------------------------------------+
| 256        | 256     | -0.060                              |
+------------+---------+-------------------------------------+
| 512        | 256     | 0.089                               |
+------------+---------+-------------------------------------+
| 1024       | 256     | -0.056                              |
+------------+---------+-------------------------------------+
| 1518       | 256     | -0.016                              |
+------------+---------+-------------------------------------+

Ubuntu 18.04
Kernel: 4.15.0-generic
Compiler: gcc 7.4
NIC: Mellanox ConnectX-4 Lx 25000 Mbps
Target: x86_64-native-linuxapp-gcc
Fail/Total: 0/6

Detail performance results: 
+------------+---------+-------------------------------------+
| frame_size | txd/rxd | throughput difference from expected |
+============+=========+=====================================+
| 64         | 256     | 0.040                               |
+------------+---------+-------------------------------------+
| 128        | 256     | 0.091                               |
+------------+---------+-------------------------------------+
| 256        | 256     | -0.266                              |
+------------+---------+-------------------------------------+
| 512        | 256     | 0.007                               |
+------------+---------+-------------------------------------+
| 1024       | 256     | 0.008                               |
+------------+---------+-------------------------------------+
| 1518       | 256     | -0.013                              |
+------------+---------+-------------------------------------+

Ubuntu 18.04
Kernel: 4.15.0-generic
Compiler: gcc 7.4
NIC: Mellanox ConnectX-4 Lx 40000 Mbps
Target: x86_64-native-linuxapp-gcc
Fail/Total: 0/6

Detail performance results: 
+------------+---------+-------------------------------------+
| frame_size | txd/rxd | throughput difference from expected |
+============+=========+=====================================+
| 64         | 256     | -0.680                              |
+------------+---------+-------------------------------------+
| 128        | 256     | 0.393                               |
+------------+---------+-------------------------------------+
| 256        | 256     | -0.244                              |
+------------+---------+-------------------------------------+
| 512        | 256     | 0.022                               |
+------------+---------+-------------------------------------+
| 1024       | 256     | 0.001                               |
+------------+---------+-------------------------------------+
| 1518       | 256     | -0.001                              |
+------------+---------+-------------------------------------+

To view detailed results, visit:
https://lab.dpdk.org/results/dashboard/patchsets/11461/

UNH-IOL DPDK Community Lab

To manage your email subscriptions, visit: 
https://lab.dpdk.org/results/dashboard/preferences/subscriptions/

^ permalink raw reply	[flat|nested] 5+ messages in thread
* [dpdk-test-report] |SUCCESS| pw71266-71267 [PATCH] [v1, 1/2] vhost: introduce async data path registration API
@ 2020-06-11 13:48 dpdklab
  0 siblings, 0 replies; 5+ messages in thread
From: dpdklab @ 2020-06-11 13:48 UTC (permalink / raw)
  To: Ruoshan Shi, Test Report; +Cc: dpdk-test-reports

[-- Attachment #1: Type: text/plain, Size: 1197 bytes --]

Test-Label: iol-nxp-Performance
Test-Status: SUCCESS
http://dpdk.org/patch/71266

_Performance Testing PASS_

Submitter: None <patrick.fu@intel.com>
Date: Thursday, June 11 2020 10:02:04 
DPDK git baseline: Repo:dpdk
  Branch: master
  CommitID:5fd722308ef21819931d25e7a140ff5a292b19d9

71266-71267 --> performance testing pass

Test environment and result as below:

Ubuntu 18.04
Kernel: 4.14.122
Compiler: gcc 7.3.0
NIC: NXP LS2088A 10000 Mbps
Target: x86_64-native-linuxapp-gcc
Fail/Total: 0/2

Detail performance results: 
+------------+---------+-------------------------------------+
| frame_size | txd/rxd | throughput difference from expected |
+============+=========+=====================================+
| 64         | 512     | 0.039                               |
+------------+---------+-------------------------------------+
| 64         | 2048    | 0.040                               |
+------------+---------+-------------------------------------+

To view detailed results, visit:
https://lab.dpdk.org/results/dashboard/patchsets/11461/

UNH-IOL DPDK Community Lab

To manage your email subscriptions, visit: 
https://lab.dpdk.org/results/dashboard/preferences/subscriptions/

^ permalink raw reply	[flat|nested] 5+ messages in thread
* [dpdk-test-report] |SUCCESS| pw71266-71267 [PATCH] [v1, 1/2] vhost: introduce async data path registration API
@ 2020-06-11 13:27 dpdklab
  0 siblings, 0 replies; 5+ messages in thread
From: dpdklab @ 2020-06-11 13:27 UTC (permalink / raw)
  To: Test Report; +Cc: dpdk-test-reports

[-- Attachment #1: Type: text/plain, Size: 1909 bytes --]

Test-Label: iol-intel-Performance
Test-Status: SUCCESS
http://dpdk.org/patch/71266

_Performance Testing PASS_

Submitter: None <patrick.fu@intel.com>
Date: Thursday, June 11 2020 10:02:04 
DPDK git baseline: Repo:dpdk
  Branch: master
  CommitID:5fd722308ef21819931d25e7a140ff5a292b19d9

71266-71267 --> performance testing pass

Test environment and result as below:

Ubuntu 18.04
Kernel: 4.15.0-generic
Compiler: gcc 7.4
NIC: Intel Corporation Ethernet Converged Network Adapter XL710-QDA2 40000 Mbps
Target: x86_64-native-linuxapp-gcc
Fail/Total: 0/2

Detail performance results: 
+------------+---------+-------------------------------------+
| frame_size | txd/rxd | throughput difference from expected |
+============+=========+=====================================+
| 64         | 512     | 4.892                               |
+------------+---------+-------------------------------------+
| 64         | 2048    | 2.791                               |
+------------+---------+-------------------------------------+

Ubuntu 18.04
Kernel: 4.15.0-generic
Compiler: gcc 7.4
NIC: Intel Corporation Ethernet Converged Network Adapter 82599ES 10000 Mbps
Target: x86_64-native-linuxapp-gcc
Fail/Total: 0/2

Detail performance results: 
+------------+---------+-------------------------------------+
| frame_size | txd/rxd | throughput difference from expected |
+============+=========+=====================================+
| 64         | 512     | 2.604                               |
+------------+---------+-------------------------------------+
| 64         | 2048    | 1.052                               |
+------------+---------+-------------------------------------+

To view detailed results, visit:
https://lab.dpdk.org/results/dashboard/patchsets/11461/

UNH-IOL DPDK Community Lab

To manage your email subscriptions, visit: 
https://lab.dpdk.org/results/dashboard/preferences/subscriptions/

^ permalink raw reply	[flat|nested] 5+ messages in thread
* [dpdk-test-report] |SUCCESS| pw71266-71267 [PATCH] [v1, 1/2] vhost: introduce async data path registration API
@ 2020-06-11 11:57 dpdklab
  0 siblings, 0 replies; 5+ messages in thread
From: dpdklab @ 2020-06-11 11:57 UTC (permalink / raw)
  To: Ajit Khaparde, Test Report; +Cc: dpdk-test-reports

[-- Attachment #1: Type: text/plain, Size: 1260 bytes --]

Test-Label: iol-broadcom-Performance
Test-Status: SUCCESS
http://dpdk.org/patch/71266

_Performance Testing PASS_

Submitter: None <patrick.fu@intel.com>
Date: Thursday, June 11 2020 10:02:04 
DPDK git baseline: Repo:dpdk
  Branch: master
  CommitID:5fd722308ef21819931d25e7a140ff5a292b19d9

71266-71267 --> performance testing pass

Test environment and result as below:

Ubuntu 18.04
Kernel: 4.15.0-65-generic
Compiler: gcc gcc (Ubuntu 7.4.0-1ubuntu1~18.04.1) 7.4.0
NIC: Broadcom Inc. brcm_57414 25000 Mbps
Target: x86_64-native-linuxapp-gcc
Fail/Total: 0/2

Detail performance results: 
+------------+---------+-------------------------------------+
| frame_size | txd/rxd | throughput difference from expected |
+============+=========+=====================================+
| 64         | 512     | 0.002                               |
+------------+---------+-------------------------------------+
| 64         | 2048    | -0.047                              |
+------------+---------+-------------------------------------+

To view detailed results, visit:
https://lab.dpdk.org/results/dashboard/patchsets/11461/

UNH-IOL DPDK Community Lab

To manage your email subscriptions, visit: 
https://lab.dpdk.org/results/dashboard/preferences/subscriptions/

^ permalink raw reply	[flat|nested] 5+ messages in thread

end of thread, other threads:[~2020-06-11 19:34 UTC | newest]

Thread overview: 5+ messages (download: mbox.gz / follow: Atom feed)
-- links below jump to the message on this page --
2020-06-11 19:34 [dpdk-test-report] |SUCCESS| pw71266-71267 [PATCH] [v1, 1/2] vhost: introduce async data path registration API dpdklab
  -- strict thread matches above, loose matches on Subject: below --
2020-06-11 15:33 dpdklab
2020-06-11 13:48 dpdklab
2020-06-11 13:27 dpdklab
2020-06-11 11:57 dpdklab

automatic DPDK test reports

This inbox may be cloned and mirrored by anyone:

	git clone --mirror https://inbox.dpdk.org/test-report/0 test-report/git/0.git

	# If you have public-inbox 1.1+ installed, you may
	# initialize and index your mirror using the following commands:
	public-inbox-init -V2 test-report test-report/ https://inbox.dpdk.org/test-report \
		test-report@dpdk.org
	public-inbox-index test-report

Example config snippet for mirrors.
Newsgroup available over NNTP:
	nntp://inbox.dpdk.org/inbox.dpdk.test-report


AGPL code for this site: git clone https://public-inbox.org/public-inbox.git