automatic DPDK test reports
 help / color / mirror / Atom feed
* [dpdk-test-report] |SUCCESS| pw71346 [PATCH] net/mlx5: fix LRO checksum completence
@ 2020-06-12  9:56 dpdklab
  0 siblings, 0 replies; 7+ messages in thread
From: dpdklab @ 2020-06-12  9:56 UTC (permalink / raw)
  To: Ajit Khaparde, Test Report; +Cc: dpdk-test-reports

[-- Attachment #1: Type: text/plain, Size: 1255 bytes --]

Test-Label: iol-broadcom-Performance
Test-Status: SUCCESS
http://dpdk.org/patch/71346

_Performance Testing PASS_

Submitter: Bill Zhou <dongz@mellanox.com>
Date: Friday, June 12 2020 08:57:46 
DPDK git baseline: Repo:dpdk
  Branch: master
  CommitID:482bcf840409503c2b9da56941e5ff6566d51e45

71346 --> performance testing pass

Test environment and result as below:

Ubuntu 18.04
Kernel: 4.15.0-65-generic
Compiler: gcc gcc (Ubuntu 7.4.0-1ubuntu1~18.04.1) 7.4.0
NIC: Broadcom Inc. brcm_57414 25000 Mbps
Target: x86_64-native-linuxapp-gcc
Fail/Total: 0/2

Detail performance results: 
+------------+---------+-------------------------------------+
| frame_size | txd/rxd | throughput difference from expected |
+============+=========+=====================================+
| 64         | 512     | 0.086                               |
+------------+---------+-------------------------------------+
| 64         | 2048    | -0.016                              |
+------------+---------+-------------------------------------+

To view detailed results, visit:
https://lab.dpdk.org/results/dashboard/patchsets/11483/

UNH-IOL DPDK Community Lab

To manage your email subscriptions, visit: 
https://lab.dpdk.org/results/dashboard/preferences/subscriptions/

^ permalink raw reply	[flat|nested] 7+ messages in thread
* [dpdk-test-report] |SUCCESS| pw71346 [PATCH] net/mlx5: fix LRO checksum completence
@ 2020-06-12 10:36 dpdklab
  0 siblings, 0 replies; 7+ messages in thread
From: dpdklab @ 2020-06-12 10:36 UTC (permalink / raw)
  To: Test Report; +Cc: dpdk-test-reports

[-- Attachment #1: Type: text/plain, Size: 1904 bytes --]

Test-Label: iol-intel-Performance
Test-Status: SUCCESS
http://dpdk.org/patch/71346

_Performance Testing PASS_

Submitter: Bill Zhou <dongz@mellanox.com>
Date: Friday, June 12 2020 08:57:46 
DPDK git baseline: Repo:dpdk
  Branch: master
  CommitID:482bcf840409503c2b9da56941e5ff6566d51e45

71346 --> performance testing pass

Test environment and result as below:

Ubuntu 18.04
Kernel: 4.15.0-generic
Compiler: gcc 7.4
NIC: Intel Corporation Ethernet Converged Network Adapter XL710-QDA2 40000 Mbps
Target: x86_64-native-linuxapp-gcc
Fail/Total: 0/2

Detail performance results: 
+------------+---------+-------------------------------------+
| frame_size | txd/rxd | throughput difference from expected |
+============+=========+=====================================+
| 64         | 512     | 4.781                               |
+------------+---------+-------------------------------------+
| 64         | 2048    | 3.062                               |
+------------+---------+-------------------------------------+

Ubuntu 18.04
Kernel: 4.15.0-generic
Compiler: gcc 7.4
NIC: Intel Corporation Ethernet Converged Network Adapter 82599ES 10000 Mbps
Target: x86_64-native-linuxapp-gcc
Fail/Total: 0/2

Detail performance results: 
+------------+---------+-------------------------------------+
| frame_size | txd/rxd | throughput difference from expected |
+============+=========+=====================================+
| 64         | 512     | 2.688                               |
+------------+---------+-------------------------------------+
| 64         | 2048    | 0.890                               |
+------------+---------+-------------------------------------+

To view detailed results, visit:
https://lab.dpdk.org/results/dashboard/patchsets/11483/

UNH-IOL DPDK Community Lab

To manage your email subscriptions, visit: 
https://lab.dpdk.org/results/dashboard/preferences/subscriptions/

^ permalink raw reply	[flat|nested] 7+ messages in thread
* [dpdk-test-report] |SUCCESS| pw71346 [PATCH] net/mlx5: fix LRO checksum completence
@ 2020-06-12 10:46 dpdklab
  0 siblings, 0 replies; 7+ messages in thread
From: dpdklab @ 2020-06-12 10:46 UTC (permalink / raw)
  To: Ruoshan Shi, Test Report; +Cc: dpdk-test-reports

[-- Attachment #1: Type: text/plain, Size: 1192 bytes --]

Test-Label: iol-nxp-Performance
Test-Status: SUCCESS
http://dpdk.org/patch/71346

_Performance Testing PASS_

Submitter: Bill Zhou <dongz@mellanox.com>
Date: Friday, June 12 2020 08:57:46 
DPDK git baseline: Repo:dpdk
  Branch: master
  CommitID:482bcf840409503c2b9da56941e5ff6566d51e45

71346 --> performance testing pass

Test environment and result as below:

Ubuntu 18.04
Kernel: 4.14.122
Compiler: gcc 7.3.0
NIC: NXP LS2088A 10000 Mbps
Target: x86_64-native-linuxapp-gcc
Fail/Total: 0/2

Detail performance results: 
+------------+---------+-------------------------------------+
| frame_size | txd/rxd | throughput difference from expected |
+============+=========+=====================================+
| 64         | 512     | -0.055                              |
+------------+---------+-------------------------------------+
| 64         | 2048    | -0.094                              |
+------------+---------+-------------------------------------+

To view detailed results, visit:
https://lab.dpdk.org/results/dashboard/patchsets/11483/

UNH-IOL DPDK Community Lab

To manage your email subscriptions, visit: 
https://lab.dpdk.org/results/dashboard/preferences/subscriptions/

^ permalink raw reply	[flat|nested] 7+ messages in thread
* [dpdk-test-report] |SUCCESS| pw71346 [PATCH] net/mlx5: fix LRO checksum completence
@ 2020-06-12 19:26 dpdklab
  0 siblings, 0 replies; 7+ messages in thread
From: dpdklab @ 2020-06-12 19:26 UTC (permalink / raw)
  To: Ali Alnubani, Test Report; +Cc: dpdk-test-reports

[-- Attachment #1: Type: text/plain, Size: 3954 bytes --]

Test-Label: iol-mellanox-Performance
Test-Status: SUCCESS
http://dpdk.org/patch/71346

_Performance Testing PASS_

Submitter: Bill Zhou <dongz@mellanox.com>
Date: Friday, June 12 2020 08:57:46 
DPDK git baseline: Repo:dpdk
  Branch: master
  CommitID:482bcf840409503c2b9da56941e5ff6566d51e45

71346 --> performance testing pass

Test environment and result as below:

Ubuntu 18.04
Kernel: 4.15.0-generic
Compiler: gcc 7.4
NIC: Mellanox ConnectX-5 100000 Mbps
Target: x86_64-native-linuxapp-gcc
Fail/Total: 0/6

Detail performance results: 
+------------+---------+-------------------------------------+
| frame_size | txd/rxd | throughput difference from expected |
+============+=========+=====================================+
| 64         | 256     | -0.926                              |
+------------+---------+-------------------------------------+
| 128        | 256     | -0.030                              |
+------------+---------+-------------------------------------+
| 256        | 256     | -0.021                              |
+------------+---------+-------------------------------------+
| 512        | 256     | -0.022                              |
+------------+---------+-------------------------------------+
| 1024       | 256     | -0.086                              |
+------------+---------+-------------------------------------+
| 1518       | 256     | -0.003                              |
+------------+---------+-------------------------------------+

Ubuntu 18.04
Kernel: 4.15.0-generic
Compiler: gcc 7.4
NIC: Mellanox ConnectX-4 Lx 25000 Mbps
Target: x86_64-native-linuxapp-gcc
Fail/Total: 0/6

Detail performance results: 
+------------+---------+-------------------------------------+
| frame_size | txd/rxd | throughput difference from expected |
+============+=========+=====================================+
| 64         | 256     | 0.354                               |
+------------+---------+-------------------------------------+
| 128        | 256     | 0.013                               |
+------------+---------+-------------------------------------+
| 256        | 256     | -0.021                              |
+------------+---------+-------------------------------------+
| 512        | 256     | -0.006                              |
+------------+---------+-------------------------------------+
| 1024       | 256     | -0.004                              |
+------------+---------+-------------------------------------+
| 1518       | 256     | -0.001                              |
+------------+---------+-------------------------------------+

Ubuntu 18.04
Kernel: 4.15.0-generic
Compiler: gcc 7.4
NIC: Mellanox ConnectX-4 Lx 40000 Mbps
Target: x86_64-native-linuxapp-gcc
Fail/Total: 0/6

Detail performance results: 
+------------+---------+-------------------------------------+
| frame_size | txd/rxd | throughput difference from expected |
+============+=========+=====================================+
| 64         | 256     | -0.061                              |
+------------+---------+-------------------------------------+
| 128        | 256     | -0.431                              |
+------------+---------+-------------------------------------+
| 256        | 256     | -0.029                              |
+------------+---------+-------------------------------------+
| 512        | 256     | 0.043                               |
+------------+---------+-------------------------------------+
| 1024       | 256     | 0.001                               |
+------------+---------+-------------------------------------+
| 1518       | 256     | -0.020                              |
+------------+---------+-------------------------------------+

To view detailed results, visit:
https://lab.dpdk.org/results/dashboard/patchsets/11483/

UNH-IOL DPDK Community Lab

To manage your email subscriptions, visit: 
https://lab.dpdk.org/results/dashboard/preferences/subscriptions/

^ permalink raw reply	[flat|nested] 7+ messages in thread
* [dpdk-test-report] |SUCCESS| pw71346 [PATCH] net/mlx5: fix LRO checksum completence
@ 2020-06-13  5:59 dpdklab
  0 siblings, 0 replies; 7+ messages in thread
From: dpdklab @ 2020-06-13  5:59 UTC (permalink / raw)
  To: Test Report; +Cc: dpdk-test-reports

[-- Attachment #1: Type: text/plain, Size: 2899 bytes --]

Test-Label: iol-testing
Test-Status: SUCCESS
http://dpdk.org/patch/71346

_Testing PASS_

Submitter: Bill Zhou <dongz@mellanox.com>
Date: Friday, June 12 2020 08:57:46 
DPDK git baseline: Repo:dpdk
  Branch: master
  CommitID:482bcf840409503c2b9da56941e5ff6566d51e45

71346 --> testing pass

Test environment and result as below:

+---------------------+--------------------+-------------------+------------------+----------------+--------------+
|     Environment     | dpdk_meson_compile | dpdk_compile_spdk | dpdk_compile_ovs | dpdk_unit_test | dpdk_compile |
+=====================+====================+===================+==================+================+==============+
| Windows Server 2019 | PASS               | SKIPPED           | SKIPPED          | SKIPPED        | SKIPPED      |
+---------------------+--------------------+-------------------+------------------+----------------+--------------+
| Fedora 31           | PASS               | PASS              | PASS             | SKIPPED        | PASS         |
+---------------------+--------------------+-------------------+------------------+----------------+--------------+
| openSUSE Leap 15    | PASS               | PASS              | PASS             | SKIPPED        | PASS         |
+---------------------+--------------------+-------------------+------------------+----------------+--------------+
| CentOS 8            | PASS               | PASS              | PASS             | SKIPPED        | PASS         |
+---------------------+--------------------+-------------------+------------------+----------------+--------------+
| Ubuntu 18.04        | PASS               | PASS              | PASS             | PASS           | PASS         |
+---------------------+--------------------+-------------------+------------------+----------------+--------------+
| Arch Linux          | PASS               | SKIPPED           | PASS             | SKIPPED        | PASS         |
+---------------------+--------------------+-------------------+------------------+----------------+--------------+
| FreeBSD 11.2        | PASS               | PASS              | SKIPPED          | SKIPPED        | PASS         |
+---------------------+--------------------+-------------------+------------------+----------------+--------------+

Windows Server 2019
	Kernel: 10.0
	Compiler: clang 9.0

Fedora 31
	Kernel: 5.3.16
	Compiler: gcc 9.2.1

openSUSE Leap 15
	Kernel: 4.12.14
	Compiler: gcc 7.4.1

CentOS 8
	Kernel: 4.18.0.el8_0
	Compiler: gcc 8.3.1

Ubuntu 18.04
	Kernel: 4.15.0-generic
	Compiler: gcc 7.4

Arch Linux
	Kernel: latest
	Compiler: gcc latest

FreeBSD 11.2
	Kernel: 11.2
	Compiler: gcc 8.3

To view detailed results, visit:
https://lab.dpdk.org/results/dashboard/patchsets/11483/

UNH-IOL DPDK Community Lab

To manage your email subscriptions, visit: 
https://lab.dpdk.org/results/dashboard/preferences/subscriptions/

^ permalink raw reply	[flat|nested] 7+ messages in thread

end of thread, other threads:[~2020-06-13  5:59 UTC | newest]

Thread overview: 7+ messages (download: mbox.gz / follow: Atom feed)
-- links below jump to the message on this page --
     [not found] <20200612085746.21139-1-dongz@mellanox.com>
2020-06-12  8:59 ` [dpdk-test-report] |SUCCESS| pw71346 [PATCH] net/mlx5: fix LRO checksum completence checkpatch
2020-06-12 11:13 ` [dpdk-test-report] |SUCCESS| pw71346 " 0-day Robot
2020-06-12  9:56 [dpdk-test-report] |SUCCESS| pw71346 [PATCH] " dpdklab
2020-06-12 10:36 dpdklab
2020-06-12 10:46 dpdklab
2020-06-12 19:26 dpdklab
2020-06-13  5:59 dpdklab

automatic DPDK test reports

This inbox may be cloned and mirrored by anyone:

	git clone --mirror https://inbox.dpdk.org/test-report/0 test-report/git/0.git

	# If you have public-inbox 1.1+ installed, you may
	# initialize and index your mirror using the following commands:
	public-inbox-init -V2 test-report test-report/ https://inbox.dpdk.org/test-report \
		test-report@dpdk.org
	public-inbox-index test-report

Example config snippet for mirrors.
Newsgroup available over NNTP:
	nntp://inbox.dpdk.org/inbox.dpdk.test-report


AGPL code for this site: git clone https://public-inbox.org/public-inbox.git