[-- Attachment #1: Type: text/plain, Size: 1705 bytes --] _Performance Testing PASS_ Branch: dpdk-next-net-intel d46a133e98188dedbec693c506bbcb995a5f0e54 --> performance testing pass Test environment and result as below: Ubuntu 18.04 Kernel: 4.15.0-generic Compiler: gcc 7.4 NIC: Intel Corporation Ethernet Converged Network Adapter XL710-QDA2 40000 Mbps Target: x86_64-native-linuxapp-gcc Fail/Total: 0/2 Detail performance results: +------------+---------+-------------------------------------+ | frame_size | txd/rxd | throughput difference from expected | +============+=========+=====================================+ | 64 | 512 | 4.574 | +------------+---------+-------------------------------------+ | 64 | 2048 | 2.792 | +------------+---------+-------------------------------------+ Ubuntu 18.04 Kernel: 4.15.0-generic Compiler: gcc 7.4 NIC: Intel Corporation Ethernet Converged Network Adapter 82599ES 10000 Mbps Target: x86_64-native-linuxapp-gcc Fail/Total: 0/2 Detail performance results: +------------+---------+-------------------------------------+ | frame_size | txd/rxd | throughput difference from expected | +============+=========+=====================================+ | 64 | 512 | 2.610 | +------------+---------+-------------------------------------+ | 64 | 2048 | 0.824 | +------------+---------+-------------------------------------+ To view detailed results, visit: https://lab.dpdk.org/results/dashboard/tarballs/10054/ UNH-IOL DPDK Community Lab To manage your email subscriptions, visit: https://lab.dpdk.org/results/dashboard/preferences/subscriptions/
[-- Attachment #1: Type: text/plain, Size: 995 bytes --] _Performance Testing PASS_ Branch: dpdk-next-net-intel d46a133e98188dedbec693c506bbcb995a5f0e54 --> performance testing pass Test environment and result as below: Ubuntu 18.04 Kernel: 4.14.122 Compiler: gcc 7.3.0 NIC: NXP LS2088A 10000 Mbps Target: x86_64-native-linuxapp-gcc Fail/Total: 0/2 Detail performance results: +------------+---------+-------------------------------------+ | frame_size | txd/rxd | throughput difference from expected | +============+=========+=====================================+ | 64 | 512 | -0.088 | +------------+---------+-------------------------------------+ | 64 | 2048 | 0.663 | +------------+---------+-------------------------------------+ To view detailed results, visit: https://lab.dpdk.org/results/dashboard/tarballs/10054/ UNH-IOL DPDK Community Lab To manage your email subscriptions, visit: https://lab.dpdk.org/results/dashboard/preferences/subscriptions/
[-- Attachment #1: Type: text/plain, Size: 3752 bytes --] _Performance Testing PASS_ Branch: dpdk-next-net-intel d46a133e98188dedbec693c506bbcb995a5f0e54 --> performance testing pass Test environment and result as below: Ubuntu 18.04 Kernel: 4.15.0-generic Compiler: gcc 7.4 NIC: Mellanox ConnectX-5 100000 Mbps Target: x86_64-native-linuxapp-gcc Fail/Total: 0/6 Detail performance results: +------------+---------+-------------------------------------+ | frame_size | txd/rxd | throughput difference from expected | +============+=========+=====================================+ | 64 | 256 | -0.263 | +------------+---------+-------------------------------------+ | 128 | 256 | 0.121 | +------------+---------+-------------------------------------+ | 256 | 256 | 0.064 | +------------+---------+-------------------------------------+ | 512 | 256 | -0.133 | +------------+---------+-------------------------------------+ | 1024 | 256 | 0.023 | +------------+---------+-------------------------------------+ | 1518 | 256 | -0.021 | +------------+---------+-------------------------------------+ Ubuntu 18.04 Kernel: 4.15.0-generic Compiler: gcc 7.4 NIC: Mellanox ConnectX-4 Lx 25000 Mbps Target: x86_64-native-linuxapp-gcc Fail/Total: 0/6 Detail performance results: +------------+---------+-------------------------------------+ | frame_size | txd/rxd | throughput difference from expected | +============+=========+=====================================+ | 64 | 256 | 0.102 | +------------+---------+-------------------------------------+ | 128 | 256 | -0.001 | +------------+---------+-------------------------------------+ | 256 | 256 | 0.011 | +------------+---------+-------------------------------------+ | 512 | 256 | 0 | +------------+---------+-------------------------------------+ | 1024 | 256 | 0.002 | +------------+---------+-------------------------------------+ | 1518 | 256 | -0.011 | +------------+---------+-------------------------------------+ Ubuntu 18.04 Kernel: 4.15.0-generic Compiler: gcc 7.4 NIC: Mellanox ConnectX-4 Lx 40000 Mbps Target: x86_64-native-linuxapp-gcc Fail/Total: 0/6 Detail performance results: +------------+---------+-------------------------------------+ | frame_size | txd/rxd | throughput difference from expected | +============+=========+=====================================+ | 64 | 256 | 0.196 | +------------+---------+-------------------------------------+ | 128 | 256 | 0.091 | +------------+---------+-------------------------------------+ | 256 | 256 | 0.058 | +------------+---------+-------------------------------------+ | 512 | 256 | -0.027 | +------------+---------+-------------------------------------+ | 1024 | 256 | 0.021 | +------------+---------+-------------------------------------+ | 1518 | 256 | 0.001 | +------------+---------+-------------------------------------+ To view detailed results, visit: https://lab.dpdk.org/results/dashboard/tarballs/10054/ UNH-IOL DPDK Community Lab To manage your email subscriptions, visit: https://lab.dpdk.org/results/dashboard/preferences/subscriptions/
[-- Attachment #1: Type: text/plain, Size: 2710 bytes --] _Testing PASS_ Branch: dpdk-next-net-intel d46a133e98188dedbec693c506bbcb995a5f0e54 --> testing pass Test environment and result as below: +---------------------+--------------------+--------------+----------------+------------------+-------------------+ | Environment | dpdk_meson_compile | dpdk_compile | dpdk_unit_test | dpdk_compile_ovs | dpdk_compile_spdk | +=====================+====================+==============+================+==================+===================+ | Windows Server 2019 | PASS | SKIPPED | SKIPPED | SKIPPED | SKIPPED | +---------------------+--------------------+--------------+----------------+------------------+-------------------+ | Fedora 31 | PASS | PASS | SKIPPED | PASS | PASS | +---------------------+--------------------+--------------+----------------+------------------+-------------------+ | CentOS 8 | PASS | PASS | SKIPPED | PASS | PASS | +---------------------+--------------------+--------------+----------------+------------------+-------------------+ | Ubuntu 18.04 | PASS | PASS | PASS | PASS | PASS | +---------------------+--------------------+--------------+----------------+------------------+-------------------+ | openSUSE Leap 15 | PASS | PASS | SKIPPED | PASS | PASS | +---------------------+--------------------+--------------+----------------+------------------+-------------------+ | Arch Linux | PASS | PASS | SKIPPED | PASS | SKIPPED | +---------------------+--------------------+--------------+----------------+------------------+-------------------+ | FreeBSD 11.2 | PASS | PASS | SKIPPED | SKIPPED | PASS | +---------------------+--------------------+--------------+----------------+------------------+-------------------+ Windows Server 2019 Kernel: 10.0 Compiler: clang 9.0 Fedora 31 Kernel: 5.3.16 Compiler: gcc 9.2.1 CentOS 8 Kernel: 4.18.0.el8_0 Compiler: gcc 8.3.1 Ubuntu 18.04 Kernel: 4.15.0-generic Compiler: gcc 7.4 openSUSE Leap 15 Kernel: 4.12.14 Compiler: gcc 7.4.1 Arch Linux Kernel: latest Compiler: gcc latest FreeBSD 11.2 Kernel: 11.2 Compiler: gcc 8.3 To view detailed results, visit: https://lab.dpdk.org/results/dashboard/tarballs/10054/ UNH-IOL DPDK Community Lab To manage your email subscriptions, visit: https://lab.dpdk.org/results/dashboard/preferences/subscriptions/