automatic DPDK test reports
 help / color / mirror / Atom feed
* [dpdk-test-report] |SUCCESS| [GIT MASTER] 0149ee8dc82cba3254c47cdc4adf44881c6dc26c
@ 2020-06-23 21:56 dpdklab
  0 siblings, 0 replies; 5+ messages in thread
From: dpdklab @ 2020-06-23 21:56 UTC (permalink / raw)
  To: Ajit Khaparde, Test Report; +Cc: dpdk-test-reports

[-- Attachment #1: Type: text/plain, Size: 1038 bytes --]

_Performance Testing PASS_

Branch: dpdk

0149ee8dc82cba3254c47cdc4adf44881c6dc26c --> performance testing pass

Test environment and result as below:

Ubuntu 18.04
Kernel: 4.15.0-65-generic
Compiler: gcc gcc (Ubuntu 7.4.0-1ubuntu1~18.04.1) 7.4.0
NIC: Broadcom Inc. brcm_57414 25000 Mbps
Target: x86_64-native-linuxapp-gcc
Fail/Total: 0/2

Detail performance results: 
+------------+---------+-------------------------------------+
| frame_size | txd/rxd | throughput difference from expected |
+============+=========+=====================================+
| 64         | 512     | 0                                   |
+------------+---------+-------------------------------------+
| 64         | 2048    | 0                                   |
+------------+---------+-------------------------------------+

To view detailed results, visit:
https://lab.dpdk.org/results/dashboard/tarballs/10072/

UNH-IOL DPDK Community Lab

To manage your email subscriptions, visit: 
https://lab.dpdk.org/results/dashboard/preferences/subscriptions/

^ permalink raw reply	[flat|nested] 5+ messages in thread

* [dpdk-test-report] |SUCCESS| [GIT MASTER] 0149ee8dc82cba3254c47cdc4adf44881c6dc26c
@ 2020-06-24 14:32 dpdklab
  0 siblings, 0 replies; 5+ messages in thread
From: dpdklab @ 2020-06-24 14:32 UTC (permalink / raw)
  To: Test Report; +Cc: dpdk-test-reports

[-- Attachment #1: Type: text/plain, Size: 2695 bytes --]

_Testing PASS_

Branch: dpdk

0149ee8dc82cba3254c47cdc4adf44881c6dc26c --> testing pass

Test environment and result as below:

+---------------------+----------------+--------------------+-------------------+------------------+--------------+
|     Environment     | dpdk_unit_test | dpdk_meson_compile | dpdk_compile_spdk | dpdk_compile_ovs | dpdk_compile |
+=====================+================+====================+===================+==================+==============+
| Ubuntu 18.04        | PASS           | PASS               | PASS              | PASS             | PASS         |
+---------------------+----------------+--------------------+-------------------+------------------+--------------+
| Windows Server 2019 | SKIPPED        | PASS               | SKIPPED           | SKIPPED          | SKIPPED      |
+---------------------+----------------+--------------------+-------------------+------------------+--------------+
| Fedora 31           | SKIPPED        | PASS               | PASS              | PASS             | PASS         |
+---------------------+----------------+--------------------+-------------------+------------------+--------------+
| CentOS 8            | SKIPPED        | PASS               | PASS              | PASS             | PASS         |
+---------------------+----------------+--------------------+-------------------+------------------+--------------+
| openSUSE Leap 15    | SKIPPED        | PASS               | PASS              | PASS             | PASS         |
+---------------------+----------------+--------------------+-------------------+------------------+--------------+
| Arch Linux          | SKIPPED        | PASS               | SKIPPED           | PASS             | PASS         |
+---------------------+----------------+--------------------+-------------------+------------------+--------------+
| FreeBSD 11.2        | SKIPPED        | PASS               | PASS              | SKIPPED          | PASS         |
+---------------------+----------------+--------------------+-------------------+------------------+--------------+

Ubuntu 18.04
	Kernel: 4.15.0-generic
	Compiler: gcc 7.4

Windows Server 2019
	Kernel: 10.0
	Compiler: clang 9.0

Fedora 31
	Kernel: 5.3.16
	Compiler: gcc 9.2.1

CentOS 8
	Kernel: 4.18.0.el8_0
	Compiler: gcc 8.3.1

openSUSE Leap 15
	Kernel: 4.12.14
	Compiler: gcc 7.4.1

Arch Linux
	Kernel: latest
	Compiler: gcc latest

FreeBSD 11.2
	Kernel: 11.2
	Compiler: gcc 8.3

To view detailed results, visit:
https://lab.dpdk.org/results/dashboard/tarballs/10072/

UNH-IOL DPDK Community Lab

To manage your email subscriptions, visit: 
https://lab.dpdk.org/results/dashboard/preferences/subscriptions/

^ permalink raw reply	[flat|nested] 5+ messages in thread

* [dpdk-test-report] |SUCCESS| [GIT MASTER] 0149ee8dc82cba3254c47cdc4adf44881c6dc26c
@ 2020-06-24  5:59 dpdklab
  0 siblings, 0 replies; 5+ messages in thread
From: dpdklab @ 2020-06-24  5:59 UTC (permalink / raw)
  To: Ali Alnubani, Test Report; +Cc: dpdk-test-reports

[-- Attachment #1: Type: text/plain, Size: 3737 bytes --]

_Performance Testing PASS_

Branch: dpdk

0149ee8dc82cba3254c47cdc4adf44881c6dc26c --> performance testing pass

Test environment and result as below:

Ubuntu 18.04
Kernel: 4.15.0-generic
Compiler: gcc 7.4
NIC: Mellanox ConnectX-5 100000 Mbps
Target: x86_64-native-linuxapp-gcc
Fail/Total: 0/6

Detail performance results: 
+------------+---------+-------------------------------------+
| frame_size | txd/rxd | throughput difference from expected |
+============+=========+=====================================+
| 64         | 256     | -0.189                              |
+------------+---------+-------------------------------------+
| 128        | 256     | 0.024                               |
+------------+---------+-------------------------------------+
| 256        | 256     | 0.020                               |
+------------+---------+-------------------------------------+
| 512        | 256     | -0.122                              |
+------------+---------+-------------------------------------+
| 1024       | 256     | -0.064                              |
+------------+---------+-------------------------------------+
| 1518       | 256     | 0.001                               |
+------------+---------+-------------------------------------+

Ubuntu 18.04
Kernel: 4.15.0-generic
Compiler: gcc 7.4
NIC: Mellanox ConnectX-4 Lx 25000 Mbps
Target: x86_64-native-linuxapp-gcc
Fail/Total: 0/6

Detail performance results: 
+------------+---------+-------------------------------------+
| frame_size | txd/rxd | throughput difference from expected |
+============+=========+=====================================+
| 64         | 256     | 0.437                               |
+------------+---------+-------------------------------------+
| 128        | 256     | -0.102                              |
+------------+---------+-------------------------------------+
| 256        | 256     | -0.086                              |
+------------+---------+-------------------------------------+
| 512        | 256     | -0.028                              |
+------------+---------+-------------------------------------+
| 1024       | 256     | -0.001                              |
+------------+---------+-------------------------------------+
| 1518       | 256     | -0.010                              |
+------------+---------+-------------------------------------+

Ubuntu 18.04
Kernel: 4.15.0-generic
Compiler: gcc 7.4
NIC: Mellanox ConnectX-4 Lx 40000 Mbps
Target: x86_64-native-linuxapp-gcc
Fail/Total: 0/6

Detail performance results: 
+------------+---------+-------------------------------------+
| frame_size | txd/rxd | throughput difference from expected |
+============+=========+=====================================+
| 64         | 256     | 0.330                               |
+------------+---------+-------------------------------------+
| 128        | 256     | 0.036                               |
+------------+---------+-------------------------------------+
| 256        | 256     | 0.012                               |
+------------+---------+-------------------------------------+
| 512        | 256     | -0.028                              |
+------------+---------+-------------------------------------+
| 1024       | 256     | 0.002                               |
+------------+---------+-------------------------------------+
| 1518       | 256     | 0.009                               |
+------------+---------+-------------------------------------+

To view detailed results, visit:
https://lab.dpdk.org/results/dashboard/tarballs/10072/

UNH-IOL DPDK Community Lab

To manage your email subscriptions, visit: 
https://lab.dpdk.org/results/dashboard/preferences/subscriptions/

^ permalink raw reply	[flat|nested] 5+ messages in thread

* [dpdk-test-report] |SUCCESS| [GIT MASTER] 0149ee8dc82cba3254c47cdc4adf44881c6dc26c
@ 2020-06-23 22:54 dpdklab
  0 siblings, 0 replies; 5+ messages in thread
From: dpdklab @ 2020-06-23 22:54 UTC (permalink / raw)
  To: Ruoshan Shi, Test Report; +Cc: dpdk-test-reports

[-- Attachment #1: Type: text/plain, Size: 980 bytes --]

_Performance Testing PASS_

Branch: dpdk

0149ee8dc82cba3254c47cdc4adf44881c6dc26c --> performance testing pass

Test environment and result as below:

Ubuntu 18.04
Kernel: 4.14.122
Compiler: gcc 7.3.0
NIC: NXP LS2088A 10000 Mbps
Target: x86_64-native-linuxapp-gcc
Fail/Total: 0/2

Detail performance results: 
+------------+---------+-------------------------------------+
| frame_size | txd/rxd | throughput difference from expected |
+============+=========+=====================================+
| 64         | 512     | -0.076                              |
+------------+---------+-------------------------------------+
| 64         | 2048    | 0.537                               |
+------------+---------+-------------------------------------+

To view detailed results, visit:
https://lab.dpdk.org/results/dashboard/tarballs/10072/

UNH-IOL DPDK Community Lab

To manage your email subscriptions, visit: 
https://lab.dpdk.org/results/dashboard/preferences/subscriptions/

^ permalink raw reply	[flat|nested] 5+ messages in thread

* [dpdk-test-report] |SUCCESS| [GIT MASTER] 0149ee8dc82cba3254c47cdc4adf44881c6dc26c
@ 2020-06-23 22:46 dpdklab
  0 siblings, 0 replies; 5+ messages in thread
From: dpdklab @ 2020-06-23 22:46 UTC (permalink / raw)
  To: Test Report; +Cc: dpdk-test-reports

[-- Attachment #1: Type: text/plain, Size: 1690 bytes --]

_Performance Testing PASS_

Branch: dpdk

0149ee8dc82cba3254c47cdc4adf44881c6dc26c --> performance testing pass

Test environment and result as below:

Ubuntu 18.04
Kernel: 4.15.0-generic
Compiler: gcc 7.4
NIC: Intel Corporation Ethernet Converged Network Adapter XL710-QDA2 40000 Mbps
Target: x86_64-native-linuxapp-gcc
Fail/Total: 0/2

Detail performance results: 
+------------+---------+-------------------------------------+
| frame_size | txd/rxd | throughput difference from expected |
+============+=========+=====================================+
| 64         | 512     | 4.841                               |
+------------+---------+-------------------------------------+
| 64         | 2048    | 2.865                               |
+------------+---------+-------------------------------------+

Ubuntu 18.04
Kernel: 4.15.0-generic
Compiler: gcc 7.4
NIC: Intel Corporation Ethernet Converged Network Adapter 82599ES 10000 Mbps
Target: x86_64-native-linuxapp-gcc
Fail/Total: 0/2

Detail performance results: 
+------------+---------+-------------------------------------+
| frame_size | txd/rxd | throughput difference from expected |
+============+=========+=====================================+
| 64         | 512     | 2.522                               |
+------------+---------+-------------------------------------+
| 64         | 2048    | 0.742                               |
+------------+---------+-------------------------------------+

To view detailed results, visit:
https://lab.dpdk.org/results/dashboard/tarballs/10072/

UNH-IOL DPDK Community Lab

To manage your email subscriptions, visit: 
https://lab.dpdk.org/results/dashboard/preferences/subscriptions/

^ permalink raw reply	[flat|nested] 5+ messages in thread

end of thread, other threads:[~2020-06-24 14:32 UTC | newest]

Thread overview: 5+ messages (download: mbox.gz / follow: Atom feed)
-- links below jump to the message on this page --
2020-06-23 21:56 [dpdk-test-report] |SUCCESS| [GIT MASTER] 0149ee8dc82cba3254c47cdc4adf44881c6dc26c dpdklab
2020-06-23 22:46 dpdklab
2020-06-23 22:54 dpdklab
2020-06-24  5:59 dpdklab
2020-06-24 14:32 dpdklab

automatic DPDK test reports

This inbox may be cloned and mirrored by anyone:

	git clone --mirror https://inbox.dpdk.org/test-report/0 test-report/git/0.git

	# If you have public-inbox 1.1+ installed, you may
	# initialize and index your mirror using the following commands:
	public-inbox-init -V2 test-report test-report/ https://inbox.dpdk.org/test-report \
		test-report@dpdk.org
	public-inbox-index test-report

Example config snippet for mirrors.
Newsgroup available over NNTP:
	nntp://inbox.dpdk.org/inbox.dpdk.test-report


AGPL code for this site: git clone https://public-inbox.org/public-inbox.git