automatic DPDK test reports
 help / color / mirror / Atom feed
* [dpdk-test-report] |SUCCESS| pw72116 [PATCH v2] bus/pci: optimize bus scan
       [not found] <20200624114617.1494808-1-jerinj@marvell.com>
@ 2020-06-24 11:46 ` checkpatch
  2020-06-24 13:13 ` [dpdk-test-report] |SUCCESS| pw72116 " 0-day Robot
  1 sibling, 0 replies; 12+ messages in thread
From: checkpatch @ 2020-06-24 11:46 UTC (permalink / raw)
  To: test-report

Test-Label: checkpatch
Test-Status: SUCCESS
http://dpdk.org/patch/72116

_coding style OK_



^ permalink raw reply	[flat|nested] 12+ messages in thread

* [dpdk-test-report] |SUCCESS| pw72116 bus/pci: optimize bus scan
       [not found] <20200624114617.1494808-1-jerinj@marvell.com>
  2020-06-24 11:46 ` [dpdk-test-report] |SUCCESS| pw72116 [PATCH v2] bus/pci: optimize bus scan checkpatch
@ 2020-06-24 13:13 ` 0-day Robot
  1 sibling, 0 replies; 12+ messages in thread
From: 0-day Robot @ 2020-06-24 13:13 UTC (permalink / raw)
  To: test-report; +Cc: robot

From: robot@bytheb.org

Test-Label: travis-robot
Test-Status: SUCCESS
http://dpdk.org/patch/72116

_Travis build: passed_
Build URL: https://travis-ci.com/ovsrobot/dpdk/builds/172832408

^ permalink raw reply	[flat|nested] 12+ messages in thread

* [dpdk-test-report] |SUCCESS| pw72116 [PATCH] [v2] bus/pci: optimize bus scan
@ 2020-06-25  4:35 dpdklab
  0 siblings, 0 replies; 12+ messages in thread
From: dpdklab @ 2020-06-25  4:35 UTC (permalink / raw)
  To: Test Report; +Cc: dpdk-test-reports

[-- Attachment #1: Type: text/plain, Size: 2904 bytes --]

Test-Label: iol-testing
Test-Status: SUCCESS
http://dpdk.org/patch/72116

_Testing PASS_

Submitter: Jerin Jacob <jerinj@marvell.com>
Date: Wednesday, June 24 2020 11:46:17 
DPDK git baseline: Repo:dpdk
  Branch: master
  CommitID:0149ee8dc82cba3254c47cdc4adf44881c6dc26c

72116 --> testing pass

Test environment and result as below:

+---------------------+--------------+--------------------+----------------+------------------+-------------------+
|     Environment     | dpdk_compile | dpdk_meson_compile | dpdk_unit_test | dpdk_compile_ovs | dpdk_compile_spdk |
+=====================+==============+====================+================+==================+===================+
| FreeBSD 11.2        | PASS         | PASS               | SKIPPED        | SKIPPED          | PASS              |
+---------------------+--------------+--------------------+----------------+------------------+-------------------+
| CentOS 8            | PASS         | PASS               | SKIPPED        | PASS             | PASS              |
+---------------------+--------------+--------------------+----------------+------------------+-------------------+
| openSUSE Leap 15    | PASS         | PASS               | SKIPPED        | PASS             | PASS              |
+---------------------+--------------+--------------------+----------------+------------------+-------------------+
| Ubuntu 18.04        | PASS         | PASS               | PASS           | PASS             | PASS              |
+---------------------+--------------+--------------------+----------------+------------------+-------------------+
| Fedora 31           | PASS         | PASS               | SKIPPED        | PASS             | PASS              |
+---------------------+--------------+--------------------+----------------+------------------+-------------------+
| Arch Linux          | PASS         | PASS               | SKIPPED        | PASS             | SKIPPED           |
+---------------------+--------------+--------------------+----------------+------------------+-------------------+
| Windows Server 2019 | SKIPPED      | PASS               | SKIPPED        | SKIPPED          | SKIPPED           |
+---------------------+--------------+--------------------+----------------+------------------+-------------------+

FreeBSD 11.2
	Kernel: 11.2
	Compiler: gcc 8.3

CentOS 8
	Kernel: 4.18.0.el8_0
	Compiler: gcc 8.3.1

openSUSE Leap 15
	Kernel: 4.12.14
	Compiler: gcc 7.4.1

Ubuntu 18.04
	Kernel: 4.15.0-generic
	Compiler: gcc 7.4

Fedora 31
	Kernel: 5.3.16
	Compiler: gcc 9.2.1

Arch Linux
	Kernel: latest
	Compiler: gcc latest

Windows Server 2019
	Kernel: 10.0
	Compiler: clang 9.0

To view detailed results, visit:
https://lab.dpdk.org/results/dashboard/patchsets/11639/

UNH-IOL DPDK Community Lab

To manage your email subscriptions, visit: 
https://lab.dpdk.org/results/dashboard/preferences/subscriptions/

^ permalink raw reply	[flat|nested] 12+ messages in thread

* [dpdk-test-report] |SUCCESS| pw72116 [PATCH] [v2] bus/pci: optimize bus scan
@ 2020-06-25  3:23 dpdklab
  0 siblings, 0 replies; 12+ messages in thread
From: dpdklab @ 2020-06-25  3:23 UTC (permalink / raw)
  To: Test Report; +Cc: dpdk-test-reports

[-- Attachment #1: Type: text/plain, Size: 2904 bytes --]

Test-Label: iol-testing
Test-Status: SUCCESS
http://dpdk.org/patch/72116

_Testing PASS_

Submitter: Jerin Jacob <jerinj@marvell.com>
Date: Wednesday, June 24 2020 11:46:17 
DPDK git baseline: Repo:dpdk
  Branch: master
  CommitID:0149ee8dc82cba3254c47cdc4adf44881c6dc26c

72116 --> testing pass

Test environment and result as below:

+---------------------+--------------------+-------------------+------------------+----------------+--------------+
|     Environment     | dpdk_meson_compile | dpdk_compile_spdk | dpdk_compile_ovs | dpdk_unit_test | dpdk_compile |
+=====================+====================+===================+==================+================+==============+
| Windows Server 2019 | PASS               | SKIPPED           | SKIPPED          | SKIPPED        | SKIPPED      |
+---------------------+--------------------+-------------------+------------------+----------------+--------------+
| Fedora 31           | PASS               | PASS              | PASS             | SKIPPED        | PASS         |
+---------------------+--------------------+-------------------+------------------+----------------+--------------+
| CentOS 8            | PASS               | PASS              | PASS             | SKIPPED        | PASS         |
+---------------------+--------------------+-------------------+------------------+----------------+--------------+
| Ubuntu 18.04        | PASS               | PASS              | PASS             | PASS           | PASS         |
+---------------------+--------------------+-------------------+------------------+----------------+--------------+
| openSUSE Leap 15    | PASS               | PASS              | PASS             | SKIPPED        | PASS         |
+---------------------+--------------------+-------------------+------------------+----------------+--------------+
| Arch Linux          | PASS               | SKIPPED           | PASS             | SKIPPED        | PASS         |
+---------------------+--------------------+-------------------+------------------+----------------+--------------+
| FreeBSD 11.2        | PASS               | PASS              | SKIPPED          | SKIPPED        | PASS         |
+---------------------+--------------------+-------------------+------------------+----------------+--------------+

Windows Server 2019
	Kernel: 10.0
	Compiler: clang 9.0

Fedora 31
	Kernel: 5.3.16
	Compiler: gcc 9.2.1

CentOS 8
	Kernel: 4.18.0.el8_0
	Compiler: gcc 8.3.1

Ubuntu 18.04
	Kernel: 4.15.0-generic
	Compiler: gcc 7.4

openSUSE Leap 15
	Kernel: 4.12.14
	Compiler: gcc 7.4.1

Arch Linux
	Kernel: latest
	Compiler: gcc latest

FreeBSD 11.2
	Kernel: 11.2
	Compiler: gcc 8.3

To view detailed results, visit:
https://lab.dpdk.org/results/dashboard/patchsets/11639/

UNH-IOL DPDK Community Lab

To manage your email subscriptions, visit: 
https://lab.dpdk.org/results/dashboard/preferences/subscriptions/

^ permalink raw reply	[flat|nested] 12+ messages in thread

* [dpdk-test-report] |SUCCESS| pw72116 [PATCH] [v2] bus/pci: optimize bus scan
@ 2020-06-24 17:02 dpdklab
  0 siblings, 0 replies; 12+ messages in thread
From: dpdklab @ 2020-06-24 17:02 UTC (permalink / raw)
  To: Ali Alnubani, Test Report; +Cc: dpdk-test-reports

[-- Attachment #1: Type: text/plain, Size: 3959 bytes --]

Test-Label: iol-mellanox-Performance
Test-Status: SUCCESS
http://dpdk.org/patch/72116

_Performance Testing PASS_

Submitter: Jerin Jacob <jerinj@marvell.com>
Date: Wednesday, June 24 2020 11:46:17 
DPDK git baseline: Repo:dpdk
  Branch: master
  CommitID:0149ee8dc82cba3254c47cdc4adf44881c6dc26c

72116 --> performance testing pass

Test environment and result as below:

Ubuntu 18.04
Kernel: 4.15.0-generic
Compiler: gcc 7.4
NIC: Mellanox ConnectX-5 100000 Mbps
Target: x86_64-native-linuxapp-gcc
Fail/Total: 0/6

Detail performance results: 
+------------+---------+-------------------------------------+
| frame_size | txd/rxd | throughput difference from expected |
+============+=========+=====================================+
| 64         | 256     | -0.299                              |
+------------+---------+-------------------------------------+
| 128        | 256     | 0.079                               |
+------------+---------+-------------------------------------+
| 256        | 256     | 0.133                               |
+------------+---------+-------------------------------------+
| 512        | 256     | -0.180                              |
+------------+---------+-------------------------------------+
| 1024       | 256     | 0.079                               |
+------------+---------+-------------------------------------+
| 1518       | 256     | -0.019                              |
+------------+---------+-------------------------------------+

Ubuntu 18.04
Kernel: 4.15.0-generic
Compiler: gcc 7.4
NIC: Mellanox ConnectX-4 Lx 25000 Mbps
Target: x86_64-native-linuxapp-gcc
Fail/Total: 0/6

Detail performance results: 
+------------+---------+-------------------------------------+
| frame_size | txd/rxd | throughput difference from expected |
+============+=========+=====================================+
| 64         | 256     | -0.108                              |
+------------+---------+-------------------------------------+
| 128        | 256     | -0.082                              |
+------------+---------+-------------------------------------+
| 256        | 256     | -0.060                              |
+------------+---------+-------------------------------------+
| 512        | 256     | -0.002                              |
+------------+---------+-------------------------------------+
| 1024       | 256     | 0.019                               |
+------------+---------+-------------------------------------+
| 1518       | 256     | -0.001                              |
+------------+---------+-------------------------------------+

Ubuntu 18.04
Kernel: 4.15.0-generic
Compiler: gcc 7.4
NIC: Mellanox ConnectX-4 Lx 40000 Mbps
Target: x86_64-native-linuxapp-gcc
Fail/Total: 0/6

Detail performance results: 
+------------+---------+-------------------------------------+
| frame_size | txd/rxd | throughput difference from expected |
+============+=========+=====================================+
| 64         | 256     | -0.520                              |
+------------+---------+-------------------------------------+
| 128        | 256     | -0.330                              |
+------------+---------+-------------------------------------+
| 256        | 256     | 0.150                               |
+------------+---------+-------------------------------------+
| 512        | 256     | 0.005                               |
+------------+---------+-------------------------------------+
| 1024       | 256     | 0.008                               |
+------------+---------+-------------------------------------+
| 1518       | 256     | -0.002                              |
+------------+---------+-------------------------------------+

To view detailed results, visit:
https://lab.dpdk.org/results/dashboard/patchsets/11639/

UNH-IOL DPDK Community Lab

To manage your email subscriptions, visit: 
https://lab.dpdk.org/results/dashboard/preferences/subscriptions/

^ permalink raw reply	[flat|nested] 12+ messages in thread

* [dpdk-test-report] |SUCCESS| pw72116 [PATCH] [v2] bus/pci: optimize bus scan
@ 2020-06-24 16:02 dpdklab
  0 siblings, 0 replies; 12+ messages in thread
From: dpdklab @ 2020-06-24 16:02 UTC (permalink / raw)
  To: Ali Alnubani, Test Report; +Cc: dpdk-test-reports

[-- Attachment #1: Type: text/plain, Size: 3959 bytes --]

Test-Label: iol-mellanox-Performance
Test-Status: SUCCESS
http://dpdk.org/patch/72116

_Performance Testing PASS_

Submitter: Jerin Jacob <jerinj@marvell.com>
Date: Wednesday, June 24 2020 11:46:17 
DPDK git baseline: Repo:dpdk
  Branch: master
  CommitID:0149ee8dc82cba3254c47cdc4adf44881c6dc26c

72116 --> performance testing pass

Test environment and result as below:

Ubuntu 18.04
Kernel: 4.15.0-generic
Compiler: gcc 7.4
NIC: Mellanox ConnectX-5 100000 Mbps
Target: x86_64-native-linuxapp-gcc
Fail/Total: 0/6

Detail performance results: 
+------------+---------+-------------------------------------+
| frame_size | txd/rxd | throughput difference from expected |
+============+=========+=====================================+
| 64         | 256     | 0.043                               |
+------------+---------+-------------------------------------+
| 128        | 256     | 0                                   |
+------------+---------+-------------------------------------+
| 256        | 256     | -0.001                              |
+------------+---------+-------------------------------------+
| 512        | 256     | -0.035                              |
+------------+---------+-------------------------------------+
| 1024       | 256     | 0.018                               |
+------------+---------+-------------------------------------+
| 1518       | 256     | 0.019                               |
+------------+---------+-------------------------------------+

Ubuntu 18.04
Kernel: 4.15.0-generic
Compiler: gcc 7.4
NIC: Mellanox ConnectX-4 Lx 25000 Mbps
Target: x86_64-native-linuxapp-gcc
Fail/Total: 0/6

Detail performance results: 
+------------+---------+-------------------------------------+
| frame_size | txd/rxd | throughput difference from expected |
+============+=========+=====================================+
| 64         | 256     | -0.465                              |
+------------+---------+-------------------------------------+
| 128        | 256     | -0.040                              |
+------------+---------+-------------------------------------+
| 256        | 256     | 0.100                               |
+------------+---------+-------------------------------------+
| 512        | 256     | 0.016                               |
+------------+---------+-------------------------------------+
| 1024       | 256     | 0.002                               |
+------------+---------+-------------------------------------+
| 1518       | 256     | 0.003                               |
+------------+---------+-------------------------------------+

Ubuntu 18.04
Kernel: 4.15.0-generic
Compiler: gcc 7.4
NIC: Mellanox ConnectX-4 Lx 40000 Mbps
Target: x86_64-native-linuxapp-gcc
Fail/Total: 0/6

Detail performance results: 
+------------+---------+-------------------------------------+
| frame_size | txd/rxd | throughput difference from expected |
+============+=========+=====================================+
| 64         | 256     | -0.394                              |
+------------+---------+-------------------------------------+
| 128        | 256     | 0.060                               |
+------------+---------+-------------------------------------+
| 256        | 256     | 0.187                               |
+------------+---------+-------------------------------------+
| 512        | 256     | 0.005                               |
+------------+---------+-------------------------------------+
| 1024       | 256     | -0.005                              |
+------------+---------+-------------------------------------+
| 1518       | 256     | -0.015                              |
+------------+---------+-------------------------------------+

To view detailed results, visit:
https://lab.dpdk.org/results/dashboard/patchsets/11639/

UNH-IOL DPDK Community Lab

To manage your email subscriptions, visit: 
https://lab.dpdk.org/results/dashboard/preferences/subscriptions/

^ permalink raw reply	[flat|nested] 12+ messages in thread

* [dpdk-test-report] |SUCCESS| pw72116 [PATCH] [v2] bus/pci: optimize bus scan
@ 2020-06-24 13:46 dpdklab
  0 siblings, 0 replies; 12+ messages in thread
From: dpdklab @ 2020-06-24 13:46 UTC (permalink / raw)
  To: Ruoshan Shi, Test Report; +Cc: dpdk-test-reports

[-- Attachment #1: Type: text/plain, Size: 1197 bytes --]

Test-Label: iol-nxp-Performance
Test-Status: SUCCESS
http://dpdk.org/patch/72116

_Performance Testing PASS_

Submitter: Jerin Jacob <jerinj@marvell.com>
Date: Wednesday, June 24 2020 11:46:17 
DPDK git baseline: Repo:dpdk
  Branch: master
  CommitID:0149ee8dc82cba3254c47cdc4adf44881c6dc26c

72116 --> performance testing pass

Test environment and result as below:

Ubuntu 18.04
Kernel: 4.14.122
Compiler: gcc 7.3.0
NIC: NXP LS2088A 10000 Mbps
Target: x86_64-native-linuxapp-gcc
Fail/Total: 0/2

Detail performance results: 
+------------+---------+-------------------------------------+
| frame_size | txd/rxd | throughput difference from expected |
+============+=========+=====================================+
| 64         | 512     | 0.053                               |
+------------+---------+-------------------------------------+
| 64         | 2048    | -0.328                              |
+------------+---------+-------------------------------------+

To view detailed results, visit:
https://lab.dpdk.org/results/dashboard/patchsets/11639/

UNH-IOL DPDK Community Lab

To manage your email subscriptions, visit: 
https://lab.dpdk.org/results/dashboard/preferences/subscriptions/

^ permalink raw reply	[flat|nested] 12+ messages in thread

* [dpdk-test-report] |SUCCESS| pw72116 [PATCH] [v2] bus/pci: optimize bus scan
@ 2020-06-24 13:39 dpdklab
  0 siblings, 0 replies; 12+ messages in thread
From: dpdklab @ 2020-06-24 13:39 UTC (permalink / raw)
  To: Test Report; +Cc: dpdk-test-reports

[-- Attachment #1: Type: text/plain, Size: 1909 bytes --]

Test-Label: iol-intel-Performance
Test-Status: SUCCESS
http://dpdk.org/patch/72116

_Performance Testing PASS_

Submitter: Jerin Jacob <jerinj@marvell.com>
Date: Wednesday, June 24 2020 11:46:17 
DPDK git baseline: Repo:dpdk
  Branch: master
  CommitID:0149ee8dc82cba3254c47cdc4adf44881c6dc26c

72116 --> performance testing pass

Test environment and result as below:

Ubuntu 18.04
Kernel: 4.15.0-generic
Compiler: gcc 7.4
NIC: Intel Corporation Ethernet Converged Network Adapter XL710-QDA2 40000 Mbps
Target: x86_64-native-linuxapp-gcc
Fail/Total: 0/2

Detail performance results: 
+------------+---------+-------------------------------------+
| frame_size | txd/rxd | throughput difference from expected |
+============+=========+=====================================+
| 64         | 512     | 4.820                               |
+------------+---------+-------------------------------------+
| 64         | 2048    | 3.091                               |
+------------+---------+-------------------------------------+

Ubuntu 18.04
Kernel: 4.15.0-generic
Compiler: gcc 7.4
NIC: Intel Corporation Ethernet Converged Network Adapter 82599ES 10000 Mbps
Target: x86_64-native-linuxapp-gcc
Fail/Total: 0/2

Detail performance results: 
+------------+---------+-------------------------------------+
| frame_size | txd/rxd | throughput difference from expected |
+============+=========+=====================================+
| 64         | 512     | 2.868                               |
+------------+---------+-------------------------------------+
| 64         | 2048    | 0.907                               |
+------------+---------+-------------------------------------+

To view detailed results, visit:
https://lab.dpdk.org/results/dashboard/patchsets/11639/

UNH-IOL DPDK Community Lab

To manage your email subscriptions, visit: 
https://lab.dpdk.org/results/dashboard/preferences/subscriptions/

^ permalink raw reply	[flat|nested] 12+ messages in thread

* [dpdk-test-report] |SUCCESS| pw72116 [PATCH] [v2] bus/pci: optimize bus scan
@ 2020-06-24 13:08 dpdklab
  0 siblings, 0 replies; 12+ messages in thread
From: dpdklab @ 2020-06-24 13:08 UTC (permalink / raw)
  To: Ruoshan Shi, Test Report; +Cc: dpdk-test-reports

[-- Attachment #1: Type: text/plain, Size: 1197 bytes --]

Test-Label: iol-nxp-Performance
Test-Status: SUCCESS
http://dpdk.org/patch/72116

_Performance Testing PASS_

Submitter: Jerin Jacob <jerinj@marvell.com>
Date: Wednesday, June 24 2020 11:46:17 
DPDK git baseline: Repo:dpdk
  Branch: master
  CommitID:0149ee8dc82cba3254c47cdc4adf44881c6dc26c

72116 --> performance testing pass

Test environment and result as below:

Ubuntu 18.04
Kernel: 4.14.122
Compiler: gcc 7.3.0
NIC: NXP LS2088A 10000 Mbps
Target: x86_64-native-linuxapp-gcc
Fail/Total: 0/2

Detail performance results: 
+------------+---------+-------------------------------------+
| frame_size | txd/rxd | throughput difference from expected |
+============+=========+=====================================+
| 64         | 512     | 0.066                               |
+------------+---------+-------------------------------------+
| 64         | 2048    | -0.426                              |
+------------+---------+-------------------------------------+

To view detailed results, visit:
https://lab.dpdk.org/results/dashboard/patchsets/11639/

UNH-IOL DPDK Community Lab

To manage your email subscriptions, visit: 
https://lab.dpdk.org/results/dashboard/preferences/subscriptions/

^ permalink raw reply	[flat|nested] 12+ messages in thread

* [dpdk-test-report] |SUCCESS| pw72116 [PATCH] [v2] bus/pci: optimize bus scan
@ 2020-06-24 13:05 dpdklab
  0 siblings, 0 replies; 12+ messages in thread
From: dpdklab @ 2020-06-24 13:05 UTC (permalink / raw)
  To: Test Report; +Cc: dpdk-test-reports

[-- Attachment #1: Type: text/plain, Size: 1909 bytes --]

Test-Label: iol-intel-Performance
Test-Status: SUCCESS
http://dpdk.org/patch/72116

_Performance Testing PASS_

Submitter: Jerin Jacob <jerinj@marvell.com>
Date: Wednesday, June 24 2020 11:46:17 
DPDK git baseline: Repo:dpdk
  Branch: master
  CommitID:0149ee8dc82cba3254c47cdc4adf44881c6dc26c

72116 --> performance testing pass

Test environment and result as below:

Ubuntu 18.04
Kernel: 4.15.0-generic
Compiler: gcc 7.4
NIC: Intel Corporation Ethernet Converged Network Adapter XL710-QDA2 40000 Mbps
Target: x86_64-native-linuxapp-gcc
Fail/Total: 0/2

Detail performance results: 
+------------+---------+-------------------------------------+
| frame_size | txd/rxd | throughput difference from expected |
+============+=========+=====================================+
| 64         | 512     | 4.981                               |
+------------+---------+-------------------------------------+
| 64         | 2048    | 2.921                               |
+------------+---------+-------------------------------------+

Ubuntu 18.04
Kernel: 4.15.0-generic
Compiler: gcc 7.4
NIC: Intel Corporation Ethernet Converged Network Adapter 82599ES 10000 Mbps
Target: x86_64-native-linuxapp-gcc
Fail/Total: 0/2

Detail performance results: 
+------------+---------+-------------------------------------+
| frame_size | txd/rxd | throughput difference from expected |
+============+=========+=====================================+
| 64         | 512     | 2.636                               |
+------------+---------+-------------------------------------+
| 64         | 2048    | 0.789                               |
+------------+---------+-------------------------------------+

To view detailed results, visit:
https://lab.dpdk.org/results/dashboard/patchsets/11639/

UNH-IOL DPDK Community Lab

To manage your email subscriptions, visit: 
https://lab.dpdk.org/results/dashboard/preferences/subscriptions/

^ permalink raw reply	[flat|nested] 12+ messages in thread

* [dpdk-test-report] |SUCCESS| pw72116 [PATCH] [v2] bus/pci: optimize bus scan
@ 2020-06-24 12:48 dpdklab
  0 siblings, 0 replies; 12+ messages in thread
From: dpdklab @ 2020-06-24 12:48 UTC (permalink / raw)
  To: Ajit Khaparde, Test Report; +Cc: dpdk-test-reports

[-- Attachment #1: Type: text/plain, Size: 1260 bytes --]

Test-Label: iol-broadcom-Performance
Test-Status: SUCCESS
http://dpdk.org/patch/72116

_Performance Testing PASS_

Submitter: Jerin Jacob <jerinj@marvell.com>
Date: Wednesday, June 24 2020 11:46:17 
DPDK git baseline: Repo:dpdk
  Branch: master
  CommitID:0149ee8dc82cba3254c47cdc4adf44881c6dc26c

72116 --> performance testing pass

Test environment and result as below:

Ubuntu 18.04
Kernel: 4.15.0-65-generic
Compiler: gcc gcc (Ubuntu 7.4.0-1ubuntu1~18.04.1) 7.4.0
NIC: Broadcom Inc. brcm_57414 25000 Mbps
Target: x86_64-native-linuxapp-gcc
Fail/Total: 0/2

Detail performance results: 
+------------+---------+-------------------------------------+
| frame_size | txd/rxd | throughput difference from expected |
+============+=========+=====================================+
| 64         | 512     | 0.070                               |
+------------+---------+-------------------------------------+
| 64         | 2048    | -0.011                              |
+------------+---------+-------------------------------------+

To view detailed results, visit:
https://lab.dpdk.org/results/dashboard/patchsets/11639/

UNH-IOL DPDK Community Lab

To manage your email subscriptions, visit: 
https://lab.dpdk.org/results/dashboard/preferences/subscriptions/

^ permalink raw reply	[flat|nested] 12+ messages in thread

* [dpdk-test-report] |SUCCESS| pw72116 [PATCH] [v2] bus/pci: optimize bus scan
@ 2020-06-24 12:40 dpdklab
  0 siblings, 0 replies; 12+ messages in thread
From: dpdklab @ 2020-06-24 12:40 UTC (permalink / raw)
  To: Ajit Khaparde, Test Report; +Cc: dpdk-test-reports

[-- Attachment #1: Type: text/plain, Size: 1260 bytes --]

Test-Label: iol-broadcom-Performance
Test-Status: SUCCESS
http://dpdk.org/patch/72116

_Performance Testing PASS_

Submitter: Jerin Jacob <jerinj@marvell.com>
Date: Wednesday, June 24 2020 11:46:17 
DPDK git baseline: Repo:dpdk
  Branch: master
  CommitID:0149ee8dc82cba3254c47cdc4adf44881c6dc26c

72116 --> performance testing pass

Test environment and result as below:

Ubuntu 18.04
Kernel: 4.15.0-65-generic
Compiler: gcc gcc (Ubuntu 7.4.0-1ubuntu1~18.04.1) 7.4.0
NIC: Broadcom Inc. brcm_57414 25000 Mbps
Target: x86_64-native-linuxapp-gcc
Fail/Total: 0/2

Detail performance results: 
+------------+---------+-------------------------------------+
| frame_size | txd/rxd | throughput difference from expected |
+============+=========+=====================================+
| 64         | 512     | 0.065                               |
+------------+---------+-------------------------------------+
| 64         | 2048    | -0.004                              |
+------------+---------+-------------------------------------+

To view detailed results, visit:
https://lab.dpdk.org/results/dashboard/patchsets/11639/

UNH-IOL DPDK Community Lab

To manage your email subscriptions, visit: 
https://lab.dpdk.org/results/dashboard/preferences/subscriptions/

^ permalink raw reply	[flat|nested] 12+ messages in thread

end of thread, other threads:[~2020-06-25  4:35 UTC | newest]

Thread overview: 12+ messages (download: mbox.gz / follow: Atom feed)
-- links below jump to the message on this page --
     [not found] <20200624114617.1494808-1-jerinj@marvell.com>
2020-06-24 11:46 ` [dpdk-test-report] |SUCCESS| pw72116 [PATCH v2] bus/pci: optimize bus scan checkpatch
2020-06-24 13:13 ` [dpdk-test-report] |SUCCESS| pw72116 " 0-day Robot
2020-06-24 12:40 [dpdk-test-report] |SUCCESS| pw72116 [PATCH] [v2] " dpdklab
2020-06-24 12:48 dpdklab
2020-06-24 13:05 dpdklab
2020-06-24 13:08 dpdklab
2020-06-24 13:39 dpdklab
2020-06-24 13:46 dpdklab
2020-06-24 16:02 dpdklab
2020-06-24 17:02 dpdklab
2020-06-25  3:23 dpdklab
2020-06-25  4:35 dpdklab

automatic DPDK test reports

This inbox may be cloned and mirrored by anyone:

	git clone --mirror https://inbox.dpdk.org/test-report/0 test-report/git/0.git

	# If you have public-inbox 1.1+ installed, you may
	# initialize and index your mirror using the following commands:
	public-inbox-init -V2 test-report test-report/ https://inbox.dpdk.org/test-report \
		test-report@dpdk.org
	public-inbox-index test-report

Example config snippet for mirrors.
Newsgroup available over NNTP:
	nntp://inbox.dpdk.org/inbox.dpdk.test-report


AGPL code for this site: git clone https://public-inbox.org/public-inbox.git