automatic DPDK test reports
 help / color / mirror / Atom feed
* [dpdk-test-report] |SUCCESS| pw72139 [PATCH] common/mlx5: remove useless assignment
@ 2020-06-24 15:38 dpdklab
  0 siblings, 0 replies; 6+ messages in thread
From: dpdklab @ 2020-06-24 15:38 UTC (permalink / raw)
  To: Ruoshan Shi, Test Report; +Cc: dpdk-test-reports

[-- Attachment #1: Type: text/plain, Size: 1202 bytes --]

Test-Label: iol-nxp-Performance
Test-Status: SUCCESS
http://dpdk.org/patch/72139

_Performance Testing PASS_

Submitter: Michael Baum <michaelba@mellanox.com>
Date: Wednesday, June 24 2020 13:33:50 
DPDK git baseline: Repo:dpdk
  Branch: master
  CommitID:0149ee8dc82cba3254c47cdc4adf44881c6dc26c

72139 --> performance testing pass

Test environment and result as below:

Ubuntu 18.04
Kernel: 4.14.122
Compiler: gcc 7.3.0
NIC: NXP LS2088A 10000 Mbps
Target: x86_64-native-linuxapp-gcc
Fail/Total: 0/2

Detail performance results: 
+------------+---------+-------------------------------------+
| frame_size | txd/rxd | throughput difference from expected |
+============+=========+=====================================+
| 64         | 512     | 0.038                               |
+------------+---------+-------------------------------------+
| 64         | 2048    | -0.319                              |
+------------+---------+-------------------------------------+

To view detailed results, visit:
https://lab.dpdk.org/results/dashboard/patchsets/11648/

UNH-IOL DPDK Community Lab

To manage your email subscriptions, visit: 
https://lab.dpdk.org/results/dashboard/preferences/subscriptions/

^ permalink raw reply	[flat|nested] 6+ messages in thread

* [dpdk-test-report] |SUCCESS| pw72139 [PATCH] common/mlx5: remove useless assignment
@ 2020-06-25  8:12 dpdklab
  0 siblings, 0 replies; 6+ messages in thread
From: dpdklab @ 2020-06-25  8:12 UTC (permalink / raw)
  To: Test Report; +Cc: dpdk-test-reports

[-- Attachment #1: Type: text/plain, Size: 2909 bytes --]

Test-Label: iol-testing
Test-Status: SUCCESS
http://dpdk.org/patch/72139

_Testing PASS_

Submitter: Michael Baum <michaelba@mellanox.com>
Date: Wednesday, June 24 2020 13:33:50 
DPDK git baseline: Repo:dpdk
  Branch: master
  CommitID:0149ee8dc82cba3254c47cdc4adf44881c6dc26c

72139 --> testing pass

Test environment and result as below:

+---------------------+--------------------+-------------------+------------------+--------------+----------------+
|     Environment     | dpdk_meson_compile | dpdk_compile_spdk | dpdk_compile_ovs | dpdk_compile | dpdk_unit_test |
+=====================+====================+===================+==================+==============+================+
| Windows Server 2019 | PASS               | SKIPPED           | SKIPPED          | SKIPPED      | SKIPPED        |
+---------------------+--------------------+-------------------+------------------+--------------+----------------+
| CentOS 8            | PASS               | PASS              | PASS             | PASS         | SKIPPED        |
+---------------------+--------------------+-------------------+------------------+--------------+----------------+
| openSUSE Leap 15    | PASS               | PASS              | PASS             | PASS         | SKIPPED        |
+---------------------+--------------------+-------------------+------------------+--------------+----------------+
| Fedora 31           | PASS               | PASS              | PASS             | PASS         | SKIPPED        |
+---------------------+--------------------+-------------------+------------------+--------------+----------------+
| Ubuntu 18.04        | PASS               | PASS              | PASS             | PASS         | PASS           |
+---------------------+--------------------+-------------------+------------------+--------------+----------------+
| Arch Linux          | PASS               | SKIPPED           | PASS             | PASS         | SKIPPED        |
+---------------------+--------------------+-------------------+------------------+--------------+----------------+
| FreeBSD 11.2        | PASS               | PASS              | SKIPPED          | PASS         | SKIPPED        |
+---------------------+--------------------+-------------------+------------------+--------------+----------------+

Windows Server 2019
	Kernel: 10.0
	Compiler: clang 9.0

CentOS 8
	Kernel: 4.18.0.el8_0
	Compiler: gcc 8.3.1

openSUSE Leap 15
	Kernel: 4.12.14
	Compiler: gcc 7.4.1

Fedora 31
	Kernel: 5.3.16
	Compiler: gcc 9.2.1

Ubuntu 18.04
	Kernel: 4.15.0-generic
	Compiler: gcc 7.4

Arch Linux
	Kernel: latest
	Compiler: gcc latest

FreeBSD 11.2
	Kernel: 11.2
	Compiler: gcc 8.3

To view detailed results, visit:
https://lab.dpdk.org/results/dashboard/patchsets/11648/

UNH-IOL DPDK Community Lab

To manage your email subscriptions, visit: 
https://lab.dpdk.org/results/dashboard/preferences/subscriptions/

^ permalink raw reply	[flat|nested] 6+ messages in thread

* [dpdk-test-report] |SUCCESS| pw72139 [PATCH] common/mlx5: remove useless assignment
@ 2020-06-24 20:04 dpdklab
  0 siblings, 0 replies; 6+ messages in thread
From: dpdklab @ 2020-06-24 20:04 UTC (permalink / raw)
  To: Ali Alnubani, Test Report; +Cc: dpdk-test-reports

[-- Attachment #1: Type: text/plain, Size: 3964 bytes --]

Test-Label: iol-mellanox-Performance
Test-Status: SUCCESS
http://dpdk.org/patch/72139

_Performance Testing PASS_

Submitter: Michael Baum <michaelba@mellanox.com>
Date: Wednesday, June 24 2020 13:33:50 
DPDK git baseline: Repo:dpdk
  Branch: master
  CommitID:0149ee8dc82cba3254c47cdc4adf44881c6dc26c

72139 --> performance testing pass

Test environment and result as below:

Ubuntu 18.04
Kernel: 4.15.0-generic
Compiler: gcc 7.4
NIC: Mellanox ConnectX-5 100000 Mbps
Target: x86_64-native-linuxapp-gcc
Fail/Total: 0/6

Detail performance results: 
+------------+---------+-------------------------------------+
| frame_size | txd/rxd | throughput difference from expected |
+============+=========+=====================================+
| 64         | 256     | 0.569                               |
+------------+---------+-------------------------------------+
| 128        | 256     | 0.115                               |
+------------+---------+-------------------------------------+
| 256        | 256     | -0.007                              |
+------------+---------+-------------------------------------+
| 512        | 256     | 0.073                               |
+------------+---------+-------------------------------------+
| 1024       | 256     | 0.123                               |
+------------+---------+-------------------------------------+
| 1518       | 256     | -0.003                              |
+------------+---------+-------------------------------------+

Ubuntu 18.04
Kernel: 4.15.0-generic
Compiler: gcc 7.4
NIC: Mellanox ConnectX-4 Lx 25000 Mbps
Target: x86_64-native-linuxapp-gcc
Fail/Total: 0/6

Detail performance results: 
+------------+---------+-------------------------------------+
| frame_size | txd/rxd | throughput difference from expected |
+============+=========+=====================================+
| 64         | 256     | 0.196                               |
+------------+---------+-------------------------------------+
| 128        | 256     | 0.046                               |
+------------+---------+-------------------------------------+
| 256        | 256     | 0.106                               |
+------------+---------+-------------------------------------+
| 512        | 256     | 0.035                               |
+------------+---------+-------------------------------------+
| 1024       | 256     | 0.006                               |
+------------+---------+-------------------------------------+
| 1518       | 256     | 0.001                               |
+------------+---------+-------------------------------------+

Ubuntu 18.04
Kernel: 4.15.0-generic
Compiler: gcc 7.4
NIC: Mellanox ConnectX-4 Lx 40000 Mbps
Target: x86_64-native-linuxapp-gcc
Fail/Total: 0/6

Detail performance results: 
+------------+---------+-------------------------------------+
| frame_size | txd/rxd | throughput difference from expected |
+============+=========+=====================================+
| 64         | 256     | -0.629                              |
+------------+---------+-------------------------------------+
| 128        | 256     | 0.256                               |
+------------+---------+-------------------------------------+
| 256        | 256     | 0.210                               |
+------------+---------+-------------------------------------+
| 512        | 256     | 0.004                               |
+------------+---------+-------------------------------------+
| 1024       | 256     | -0.002                              |
+------------+---------+-------------------------------------+
| 1518       | 256     | -0.012                              |
+------------+---------+-------------------------------------+

To view detailed results, visit:
https://lab.dpdk.org/results/dashboard/patchsets/11648/

UNH-IOL DPDK Community Lab

To manage your email subscriptions, visit: 
https://lab.dpdk.org/results/dashboard/preferences/subscriptions/

^ permalink raw reply	[flat|nested] 6+ messages in thread

* [dpdk-test-report] |SUCCESS| pw72139 [PATCH] common/mlx5: remove useless assignment
@ 2020-06-24 15:22 dpdklab
  0 siblings, 0 replies; 6+ messages in thread
From: dpdklab @ 2020-06-24 15:22 UTC (permalink / raw)
  To: Test Report; +Cc: dpdk-test-reports

[-- Attachment #1: Type: text/plain, Size: 1914 bytes --]

Test-Label: iol-intel-Performance
Test-Status: SUCCESS
http://dpdk.org/patch/72139

_Performance Testing PASS_

Submitter: Michael Baum <michaelba@mellanox.com>
Date: Wednesday, June 24 2020 13:33:50 
DPDK git baseline: Repo:dpdk
  Branch: master
  CommitID:0149ee8dc82cba3254c47cdc4adf44881c6dc26c

72139 --> performance testing pass

Test environment and result as below:

Ubuntu 18.04
Kernel: 4.15.0-generic
Compiler: gcc 7.4
NIC: Intel Corporation Ethernet Converged Network Adapter XL710-QDA2 40000 Mbps
Target: x86_64-native-linuxapp-gcc
Fail/Total: 0/2

Detail performance results: 
+------------+---------+-------------------------------------+
| frame_size | txd/rxd | throughput difference from expected |
+============+=========+=====================================+
| 64         | 512     | 4.883                               |
+------------+---------+-------------------------------------+
| 64         | 2048    | 2.266                               |
+------------+---------+-------------------------------------+

Ubuntu 18.04
Kernel: 4.15.0-generic
Compiler: gcc 7.4
NIC: Intel Corporation Ethernet Converged Network Adapter 82599ES 10000 Mbps
Target: x86_64-native-linuxapp-gcc
Fail/Total: 0/2

Detail performance results: 
+------------+---------+-------------------------------------+
| frame_size | txd/rxd | throughput difference from expected |
+============+=========+=====================================+
| 64         | 512     | 2.835                               |
+------------+---------+-------------------------------------+
| 64         | 2048    | 1.073                               |
+------------+---------+-------------------------------------+

To view detailed results, visit:
https://lab.dpdk.org/results/dashboard/patchsets/11648/

UNH-IOL DPDK Community Lab

To manage your email subscriptions, visit: 
https://lab.dpdk.org/results/dashboard/preferences/subscriptions/

^ permalink raw reply	[flat|nested] 6+ messages in thread

* [dpdk-test-report] |SUCCESS| pw72139 [PATCH] common/mlx5: remove useless assignment
@ 2020-06-24 14:07 dpdklab
  0 siblings, 0 replies; 6+ messages in thread
From: dpdklab @ 2020-06-24 14:07 UTC (permalink / raw)
  To: Ajit Khaparde, Test Report; +Cc: dpdk-test-reports

[-- Attachment #1: Type: text/plain, Size: 1265 bytes --]

Test-Label: iol-broadcom-Performance
Test-Status: SUCCESS
http://dpdk.org/patch/72139

_Performance Testing PASS_

Submitter: Michael Baum <michaelba@mellanox.com>
Date: Wednesday, June 24 2020 13:33:50 
DPDK git baseline: Repo:dpdk
  Branch: master
  CommitID:0149ee8dc82cba3254c47cdc4adf44881c6dc26c

72139 --> performance testing pass

Test environment and result as below:

Ubuntu 18.04
Kernel: 4.15.0-65-generic
Compiler: gcc gcc (Ubuntu 7.4.0-1ubuntu1~18.04.1) 7.4.0
NIC: Broadcom Inc. brcm_57414 25000 Mbps
Target: x86_64-native-linuxapp-gcc
Fail/Total: 0/2

Detail performance results: 
+------------+---------+-------------------------------------+
| frame_size | txd/rxd | throughput difference from expected |
+============+=========+=====================================+
| 64         | 512     | -0.002                              |
+------------+---------+-------------------------------------+
| 64         | 2048    | -0.008                              |
+------------+---------+-------------------------------------+

To view detailed results, visit:
https://lab.dpdk.org/results/dashboard/patchsets/11648/

UNH-IOL DPDK Community Lab

To manage your email subscriptions, visit: 
https://lab.dpdk.org/results/dashboard/preferences/subscriptions/

^ permalink raw reply	[flat|nested] 6+ messages in thread

* [dpdk-test-report] |SUCCESS| pw72139 [PATCH] common/mlx5: remove useless assignment
       [not found] <1593005630-5623-1-git-send-email-michaelba@mellanox.com>
@ 2020-06-24 13:35 ` checkpatch
  0 siblings, 0 replies; 6+ messages in thread
From: checkpatch @ 2020-06-24 13:35 UTC (permalink / raw)
  To: test-report

Test-Label: checkpatch
Test-Status: SUCCESS
http://dpdk.org/patch/72139

_coding style OK_



^ permalink raw reply	[flat|nested] 6+ messages in thread

end of thread, other threads:[~2020-06-25  8:12 UTC | newest]

Thread overview: 6+ messages (download: mbox.gz / follow: Atom feed)
-- links below jump to the message on this page --
2020-06-24 15:38 [dpdk-test-report] |SUCCESS| pw72139 [PATCH] common/mlx5: remove useless assignment dpdklab
  -- strict thread matches above, loose matches on Subject: below --
2020-06-25  8:12 dpdklab
2020-06-24 20:04 dpdklab
2020-06-24 15:22 dpdklab
2020-06-24 14:07 dpdklab
     [not found] <1593005630-5623-1-git-send-email-michaelba@mellanox.com>
2020-06-24 13:35 ` checkpatch

automatic DPDK test reports

This inbox may be cloned and mirrored by anyone:

	git clone --mirror https://inbox.dpdk.org/test-report/0 test-report/git/0.git

	# If you have public-inbox 1.1+ installed, you may
	# initialize and index your mirror using the following commands:
	public-inbox-init -V2 test-report test-report/ https://inbox.dpdk.org/test-report \
		test-report@dpdk.org
	public-inbox-index test-report

Example config snippet for mirrors.
Newsgroup available over NNTP:
	nntp://inbox.dpdk.org/inbox.dpdk.test-report


AGPL code for this site: git clone https://public-inbox.org/public-inbox.git