From: dpdklab@iol.unh.edu To: Test Report <test-report@dpdk.org> Cc: dpdk-test-reports@iol.unh.edu Subject: [dpdk-test-report] |SUCCESS| pw72138 [PATCH] net/mlx4: use anonymous DV allocator argument Date: Thu, 25 Jun 2020 05:27:27 -0400 (EDT) Message-ID: <20200625092727.A49486D437@noxus.dpdklab.iol.unh.edu> (raw) [-- Attachment #1: Type: text/plain, Size: 2909 bytes --] Test-Label: iol-testing Test-Status: SUCCESS http://dpdk.org/patch/72138 _Testing PASS_ Submitter: Michael Baum <michaelba@mellanox.com> Date: Wednesday, June 24 2020 13:29:55 DPDK git baseline: Repo:dpdk Branch: master CommitID:0149ee8dc82cba3254c47cdc4adf44881c6dc26c 72138 --> testing pass Test environment and result as below: +---------------------+--------------------+-------------------+--------------+----------------+------------------+ | Environment | dpdk_meson_compile | dpdk_compile_spdk | dpdk_compile | dpdk_unit_test | dpdk_compile_ovs | +=====================+====================+===================+==============+================+==================+ | Windows Server 2019 | PASS | SKIPPED | SKIPPED | SKIPPED | SKIPPED | +---------------------+--------------------+-------------------+--------------+----------------+------------------+ | Fedora 31 | PASS | PASS | PASS | SKIPPED | PASS | +---------------------+--------------------+-------------------+--------------+----------------+------------------+ | CentOS 8 | PASS | PASS | PASS | SKIPPED | PASS | +---------------------+--------------------+-------------------+--------------+----------------+------------------+ | openSUSE Leap 15 | PASS | PASS | PASS | SKIPPED | PASS | +---------------------+--------------------+-------------------+--------------+----------------+------------------+ | Ubuntu 18.04 | PASS | PASS | PASS | PASS | PASS | +---------------------+--------------------+-------------------+--------------+----------------+------------------+ | Arch Linux | PASS | SKIPPED | PASS | SKIPPED | PASS | +---------------------+--------------------+-------------------+--------------+----------------+------------------+ | FreeBSD 11.2 | PASS | PASS | PASS | SKIPPED | SKIPPED | +---------------------+--------------------+-------------------+--------------+----------------+------------------+ Windows Server 2019 Kernel: 10.0 Compiler: clang 9.0 Fedora 31 Kernel: 5.3.16 Compiler: gcc 9.2.1 CentOS 8 Kernel: 4.18.0.el8_0 Compiler: gcc 8.3.1 openSUSE Leap 15 Kernel: 4.12.14 Compiler: gcc 7.4.1 Ubuntu 18.04 Kernel: 4.15.0-generic Compiler: gcc 7.4 Arch Linux Kernel: latest Compiler: gcc latest FreeBSD 11.2 Kernel: 11.2 Compiler: gcc 8.3 To view detailed results, visit: https://lab.dpdk.org/results/dashboard/patchsets/11647/ UNH-IOL DPDK Community Lab To manage your email subscriptions, visit: https://lab.dpdk.org/results/dashboard/preferences/subscriptions/
next reply other threads:[~2020-06-25 9:27 UTC|newest] Thread overview: 6+ messages / expand[flat|nested] mbox.gz Atom feed top 2020-06-25 9:27 dpdklab [this message] -- strict thread matches above, loose matches on Subject: below -- 2020-06-24 21:03 dpdklab 2020-06-24 16:15 dpdklab 2020-06-24 15:55 dpdklab 2020-06-24 14:15 dpdklab [not found] <1593005395-5408-1-git-send-email-michaelba@mellanox.com> 2020-06-24 13:30 ` checkpatch
Reply instructions: You may reply publicly to this message via plain-text email using any one of the following methods: * Save the following mbox file, import it into your mail client, and reply-to-all from there: mbox Avoid top-posting and favor interleaved quoting: https://en.wikipedia.org/wiki/Posting_style#Interleaved_style * Reply using the --to, --cc, and --in-reply-to switches of git-send-email(1): git send-email \ --in-reply-to=20200625092727.A49486D437@noxus.dpdklab.iol.unh.edu \ --to=dpdklab@iol.unh.edu \ --cc=dpdk-test-reports@iol.unh.edu \ --cc=test-report@dpdk.org \ /path/to/YOUR_REPLY https://kernel.org/pub/software/scm/git/docs/git-send-email.html * If your mail client supports setting the In-Reply-To header via mailto: links, try the mailto: link
automatic DPDK test reports This inbox may be cloned and mirrored by anyone: git clone --mirror https://inbox.dpdk.org/test-report/0 test-report/git/0.git # If you have public-inbox 1.1+ installed, you may # initialize and index your mirror using the following commands: public-inbox-init -V2 test-report test-report/ https://inbox.dpdk.org/test-report \ test-report@dpdk.org public-inbox-index test-report Example config snippet for mirrors. Newsgroup available over NNTP: nntp://inbox.dpdk.org/inbox.dpdk.test-report AGPL code for this site: git clone https://public-inbox.org/public-inbox.git