automatic DPDK test reports
 help / color / mirror / Atom feed
* [dpdk-test-report] |SUCCESS| pw72193 [PATCH] net/af_xdp: revert change to SP/SC ring for copy mode
@ 2020-06-25 16:03 dpdklab
  0 siblings, 0 replies; 11+ messages in thread
From: dpdklab @ 2020-06-25 16:03 UTC (permalink / raw)
  To: Test Report; +Cc: dpdk-test-reports

[-- Attachment #1: Type: text/plain, Size: 1913 bytes --]

Test-Label: iol-intel-Performance
Test-Status: SUCCESS
http://dpdk.org/patch/72193

_Performance Testing PASS_

Submitter: Ciara Loftus <ciara.loftus@intel.com>
Date: Thursday, June 25 2020 13:39:50 
DPDK git baseline: Repo:dpdk
  Branch: master
  CommitID:c91717eb75c8595e84fb9dfa8424b7b2ccee5e16

72193 --> performance testing pass

Test environment and result as below:

Ubuntu 18.04
Kernel: 4.15.0-generic
Compiler: gcc 7.4
NIC: Intel Corporation Ethernet Converged Network Adapter XL710-QDA2 40000 Mbps
Target: x86_64-native-linuxapp-gcc
Fail/Total: 0/2

Detail performance results: 
+------------+---------+-------------------------------------+
| frame_size | txd/rxd | throughput difference from expected |
+============+=========+=====================================+
| 64         | 512     | 4.955                               |
+------------+---------+-------------------------------------+
| 64         | 2048    | 2.861                               |
+------------+---------+-------------------------------------+

Ubuntu 18.04
Kernel: 4.15.0-generic
Compiler: gcc 7.4
NIC: Intel Corporation Ethernet Converged Network Adapter 82599ES 10000 Mbps
Target: x86_64-native-linuxapp-gcc
Fail/Total: 0/2

Detail performance results: 
+------------+---------+-------------------------------------+
| frame_size | txd/rxd | throughput difference from expected |
+============+=========+=====================================+
| 64         | 512     | 2.665                               |
+------------+---------+-------------------------------------+
| 64         | 2048    | 0.850                               |
+------------+---------+-------------------------------------+

To view detailed results, visit:
https://lab.dpdk.org/results/dashboard/patchsets/11674/

UNH-IOL DPDK Community Lab

To manage your email subscriptions, visit: 
https://lab.dpdk.org/results/dashboard/preferences/subscriptions/

^ permalink raw reply	[flat|nested] 11+ messages in thread

* [dpdk-test-report] |SUCCESS| pw72193 [PATCH] net/af_xdp: revert change to SP/SC ring for copy mode
@ 2020-06-26 10:59 dpdklab
  0 siblings, 0 replies; 11+ messages in thread
From: dpdklab @ 2020-06-26 10:59 UTC (permalink / raw)
  To: Test Report; +Cc: dpdk-test-reports

[-- Attachment #1: Type: text/plain, Size: 2908 bytes --]

Test-Label: iol-testing
Test-Status: SUCCESS
http://dpdk.org/patch/72193

_Testing PASS_

Submitter: Ciara Loftus <ciara.loftus@intel.com>
Date: Thursday, June 25 2020 13:39:50 
DPDK git baseline: Repo:dpdk
  Branch: master
  CommitID:c91717eb75c8595e84fb9dfa8424b7b2ccee5e16

72193 --> testing pass

Test environment and result as below:

+---------------------+-------------------+--------------------+----------------+------------------+--------------+
|     Environment     | dpdk_compile_spdk | dpdk_meson_compile | dpdk_unit_test | dpdk_compile_ovs | dpdk_compile |
+=====================+===================+====================+================+==================+==============+
| FreeBSD 11.2        | PASS              | PASS               | SKIPPED        | SKIPPED          | PASS         |
+---------------------+-------------------+--------------------+----------------+------------------+--------------+
| Ubuntu 18.04        | PASS              | PASS               | PASS           | PASS             | PASS         |
+---------------------+-------------------+--------------------+----------------+------------------+--------------+
| CentOS 8            | PASS              | PASS               | SKIPPED        | PASS             | PASS         |
+---------------------+-------------------+--------------------+----------------+------------------+--------------+
| openSUSE Leap 15    | PASS              | PASS               | SKIPPED        | PASS             | PASS         |
+---------------------+-------------------+--------------------+----------------+------------------+--------------+
| Fedora 31           | PASS              | PASS               | SKIPPED        | PASS             | PASS         |
+---------------------+-------------------+--------------------+----------------+------------------+--------------+
| Windows Server 2019 | SKIPPED           | PASS               | SKIPPED        | SKIPPED          | SKIPPED      |
+---------------------+-------------------+--------------------+----------------+------------------+--------------+
| Arch Linux          | SKIPPED           | PASS               | SKIPPED        | PASS             | PASS         |
+---------------------+-------------------+--------------------+----------------+------------------+--------------+

FreeBSD 11.2
	Kernel: 11.2
	Compiler: gcc 8.3

Ubuntu 18.04
	Kernel: 4.15.0-generic
	Compiler: gcc 7.4

CentOS 8
	Kernel: 4.18.0.el8_0
	Compiler: gcc 8.3.1

openSUSE Leap 15
	Kernel: 4.12.14
	Compiler: gcc 7.4.1

Fedora 31
	Kernel: 5.3.16
	Compiler: gcc 9.2.1

Windows Server 2019
	Kernel: 10.0
	Compiler: clang 9.0

Arch Linux
	Kernel: latest
	Compiler: gcc latest

To view detailed results, visit:
https://lab.dpdk.org/results/dashboard/patchsets/11674/

UNH-IOL DPDK Community Lab

To manage your email subscriptions, visit: 
https://lab.dpdk.org/results/dashboard/preferences/subscriptions/

^ permalink raw reply	[flat|nested] 11+ messages in thread

* [dpdk-test-report] |SUCCESS| pw72193 [PATCH] net/af_xdp: revert change to SP/SC ring for copy mode
@ 2020-06-26  9:51 dpdklab
  0 siblings, 0 replies; 11+ messages in thread
From: dpdklab @ 2020-06-26  9:51 UTC (permalink / raw)
  To: Test Report; +Cc: dpdk-test-reports

[-- Attachment #1: Type: text/plain, Size: 2908 bytes --]

Test-Label: iol-testing
Test-Status: SUCCESS
http://dpdk.org/patch/72193

_Testing PASS_

Submitter: Ciara Loftus <ciara.loftus@intel.com>
Date: Thursday, June 25 2020 13:39:50 
DPDK git baseline: Repo:dpdk
  Branch: master
  CommitID:c91717eb75c8595e84fb9dfa8424b7b2ccee5e16

72193 --> testing pass

Test environment and result as below:

+---------------------+--------------+--------------------+-------------------+----------------+------------------+
|     Environment     | dpdk_compile | dpdk_meson_compile | dpdk_compile_spdk | dpdk_unit_test | dpdk_compile_ovs |
+=====================+==============+====================+===================+================+==================+
| FreeBSD 11.2        | PASS         | PASS               | PASS              | SKIPPED        | SKIPPED          |
+---------------------+--------------+--------------------+-------------------+----------------+------------------+
| CentOS 8            | PASS         | PASS               | PASS              | SKIPPED        | PASS             |
+---------------------+--------------+--------------------+-------------------+----------------+------------------+
| Arch Linux          | PASS         | PASS               | SKIPPED           | SKIPPED        | PASS             |
+---------------------+--------------+--------------------+-------------------+----------------+------------------+
| Ubuntu 18.04        | PASS         | PASS               | PASS              | PASS           | PASS             |
+---------------------+--------------+--------------------+-------------------+----------------+------------------+
| openSUSE Leap 15    | PASS         | PASS               | PASS              | SKIPPED        | PASS             |
+---------------------+--------------+--------------------+-------------------+----------------+------------------+
| Fedora 31           | PASS         | PASS               | PASS              | SKIPPED        | PASS             |
+---------------------+--------------+--------------------+-------------------+----------------+------------------+
| Windows Server 2019 | SKIPPED      | PASS               | SKIPPED           | SKIPPED        | SKIPPED          |
+---------------------+--------------+--------------------+-------------------+----------------+------------------+

FreeBSD 11.2
	Kernel: 11.2
	Compiler: gcc 8.3

CentOS 8
	Kernel: 4.18.0.el8_0
	Compiler: gcc 8.3.1

Arch Linux
	Kernel: latest
	Compiler: gcc latest

Ubuntu 18.04
	Kernel: 4.15.0-generic
	Compiler: gcc 7.4

openSUSE Leap 15
	Kernel: 4.12.14
	Compiler: gcc 7.4.1

Fedora 31
	Kernel: 5.3.16
	Compiler: gcc 9.2.1

Windows Server 2019
	Kernel: 10.0
	Compiler: clang 9.0

To view detailed results, visit:
https://lab.dpdk.org/results/dashboard/patchsets/11674/

UNH-IOL DPDK Community Lab

To manage your email subscriptions, visit: 
https://lab.dpdk.org/results/dashboard/preferences/subscriptions/

^ permalink raw reply	[flat|nested] 11+ messages in thread

* [dpdk-test-report] |SUCCESS| pw72193 [PATCH] net/af_xdp: revert change to SP/SC ring for copy mode
@ 2020-06-25 17:39 dpdklab
  0 siblings, 0 replies; 11+ messages in thread
From: dpdklab @ 2020-06-25 17:39 UTC (permalink / raw)
  To: Ali Alnubani, Test Report; +Cc: dpdk-test-reports

[-- Attachment #1: Type: text/plain, Size: 3963 bytes --]

Test-Label: iol-mellanox-Performance
Test-Status: SUCCESS
http://dpdk.org/patch/72193

_Performance Testing PASS_

Submitter: Ciara Loftus <ciara.loftus@intel.com>
Date: Thursday, June 25 2020 13:39:50 
DPDK git baseline: Repo:dpdk
  Branch: master
  CommitID:c91717eb75c8595e84fb9dfa8424b7b2ccee5e16

72193 --> performance testing pass

Test environment and result as below:

Ubuntu 18.04
Kernel: 4.15.0-generic
Compiler: gcc 7.4
NIC: Mellanox ConnectX-5 100000 Mbps
Target: x86_64-native-linuxapp-gcc
Fail/Total: 0/6

Detail performance results: 
+------------+---------+-------------------------------------+
| frame_size | txd/rxd | throughput difference from expected |
+============+=========+=====================================+
| 64         | 256     | 0.048                               |
+------------+---------+-------------------------------------+
| 128        | 256     | 0.023                               |
+------------+---------+-------------------------------------+
| 256        | 256     | 0.025                               |
+------------+---------+-------------------------------------+
| 512        | 256     | 0.127                               |
+------------+---------+-------------------------------------+
| 1024       | 256     | 0.039                               |
+------------+---------+-------------------------------------+
| 1518       | 256     | -0.022                              |
+------------+---------+-------------------------------------+

Ubuntu 18.04
Kernel: 4.15.0-generic
Compiler: gcc 7.4
NIC: Mellanox ConnectX-4 Lx 25000 Mbps
Target: x86_64-native-linuxapp-gcc
Fail/Total: 0/6

Detail performance results: 
+------------+---------+-------------------------------------+
| frame_size | txd/rxd | throughput difference from expected |
+============+=========+=====================================+
| 64         | 256     | 0.259                               |
+------------+---------+-------------------------------------+
| 128        | 256     | 0.017                               |
+------------+---------+-------------------------------------+
| 256        | 256     | 0.064                               |
+------------+---------+-------------------------------------+
| 512        | 256     | 0.014                               |
+------------+---------+-------------------------------------+
| 1024       | 256     | 0.003                               |
+------------+---------+-------------------------------------+
| 1518       | 256     | 0.007                               |
+------------+---------+-------------------------------------+

Ubuntu 18.04
Kernel: 4.15.0-generic
Compiler: gcc 7.4
NIC: Mellanox ConnectX-4 Lx 40000 Mbps
Target: x86_64-native-linuxapp-gcc
Fail/Total: 0/6

Detail performance results: 
+------------+---------+-------------------------------------+
| frame_size | txd/rxd | throughput difference from expected |
+============+=========+=====================================+
| 64         | 256     | -0.657                              |
+------------+---------+-------------------------------------+
| 128        | 256     | 0.070                               |
+------------+---------+-------------------------------------+
| 256        | 256     | -0.032                              |
+------------+---------+-------------------------------------+
| 512        | 256     | 0.007                               |
+------------+---------+-------------------------------------+
| 1024       | 256     | -0.001                              |
+------------+---------+-------------------------------------+
| 1518       | 256     | 0.004                               |
+------------+---------+-------------------------------------+

To view detailed results, visit:
https://lab.dpdk.org/results/dashboard/patchsets/11674/

UNH-IOL DPDK Community Lab

To manage your email subscriptions, visit: 
https://lab.dpdk.org/results/dashboard/preferences/subscriptions/

^ permalink raw reply	[flat|nested] 11+ messages in thread

* [dpdk-test-report] |SUCCESS| pw72193 [PATCH] net/af_xdp: revert change to SP/SC ring for copy mode
@ 2020-06-25 16:40 dpdklab
  0 siblings, 0 replies; 11+ messages in thread
From: dpdklab @ 2020-06-25 16:40 UTC (permalink / raw)
  To: Ali Alnubani, Test Report; +Cc: dpdk-test-reports

[-- Attachment #1: Type: text/plain, Size: 3963 bytes --]

Test-Label: iol-mellanox-Performance
Test-Status: SUCCESS
http://dpdk.org/patch/72193

_Performance Testing PASS_

Submitter: Ciara Loftus <ciara.loftus@intel.com>
Date: Thursday, June 25 2020 13:39:50 
DPDK git baseline: Repo:dpdk
  Branch: master
  CommitID:c91717eb75c8595e84fb9dfa8424b7b2ccee5e16

72193 --> performance testing pass

Test environment and result as below:

Ubuntu 18.04
Kernel: 4.15.0-generic
Compiler: gcc 7.4
NIC: Mellanox ConnectX-5 100000 Mbps
Target: x86_64-native-linuxapp-gcc
Fail/Total: 0/6

Detail performance results: 
+------------+---------+-------------------------------------+
| frame_size | txd/rxd | throughput difference from expected |
+============+=========+=====================================+
| 64         | 256     | 0.127                               |
+------------+---------+-------------------------------------+
| 128        | 256     | -0.058                              |
+------------+---------+-------------------------------------+
| 256        | 256     | -0.158                              |
+------------+---------+-------------------------------------+
| 512        | 256     | 0.144                               |
+------------+---------+-------------------------------------+
| 1024       | 256     | 0.052                               |
+------------+---------+-------------------------------------+
| 1518       | 256     | -0.031                              |
+------------+---------+-------------------------------------+

Ubuntu 18.04
Kernel: 4.15.0-generic
Compiler: gcc 7.4
NIC: Mellanox ConnectX-4 Lx 25000 Mbps
Target: x86_64-native-linuxapp-gcc
Fail/Total: 0/6

Detail performance results: 
+------------+---------+-------------------------------------+
| frame_size | txd/rxd | throughput difference from expected |
+============+=========+=====================================+
| 64         | 256     | 0.518                               |
+------------+---------+-------------------------------------+
| 128        | 256     | -0.021                              |
+------------+---------+-------------------------------------+
| 256        | 256     | 0.085                               |
+------------+---------+-------------------------------------+
| 512        | 256     | 0.004                               |
+------------+---------+-------------------------------------+
| 1024       | 256     | 0.002                               |
+------------+---------+-------------------------------------+
| 1518       | 256     | 0                                   |
+------------+---------+-------------------------------------+

Ubuntu 18.04
Kernel: 4.15.0-generic
Compiler: gcc 7.4
NIC: Mellanox ConnectX-4 Lx 40000 Mbps
Target: x86_64-native-linuxapp-gcc
Fail/Total: 0/6

Detail performance results: 
+------------+---------+-------------------------------------+
| frame_size | txd/rxd | throughput difference from expected |
+============+=========+=====================================+
| 64         | 256     | 0.207                               |
+------------+---------+-------------------------------------+
| 128        | 256     | 1.043                               |
+------------+---------+-------------------------------------+
| 256        | 256     | 0.117                               |
+------------+---------+-------------------------------------+
| 512        | 256     | 0.017                               |
+------------+---------+-------------------------------------+
| 1024       | 256     | 0.001                               |
+------------+---------+-------------------------------------+
| 1518       | 256     | -0.001                              |
+------------+---------+-------------------------------------+

To view detailed results, visit:
https://lab.dpdk.org/results/dashboard/patchsets/11674/

UNH-IOL DPDK Community Lab

To manage your email subscriptions, visit: 
https://lab.dpdk.org/results/dashboard/preferences/subscriptions/

^ permalink raw reply	[flat|nested] 11+ messages in thread

* [dpdk-test-report] |SUCCESS| pw72193 [PATCH] net/af_xdp: revert change to SP/SC ring for copy mode
@ 2020-06-25 16:14 dpdklab
  0 siblings, 0 replies; 11+ messages in thread
From: dpdklab @ 2020-06-25 16:14 UTC (permalink / raw)
  To: Ruoshan Shi, Test Report; +Cc: dpdk-test-reports

[-- Attachment #1: Type: text/plain, Size: 1201 bytes --]

Test-Label: iol-nxp-Performance
Test-Status: SUCCESS
http://dpdk.org/patch/72193

_Performance Testing PASS_

Submitter: Ciara Loftus <ciara.loftus@intel.com>
Date: Thursday, June 25 2020 13:39:50 
DPDK git baseline: Repo:dpdk
  Branch: master
  CommitID:c91717eb75c8595e84fb9dfa8424b7b2ccee5e16

72193 --> performance testing pass

Test environment and result as below:

Ubuntu 18.04
Kernel: 4.14.122
Compiler: gcc 7.3.0
NIC: NXP LS2088A 10000 Mbps
Target: x86_64-native-linuxapp-gcc
Fail/Total: 0/2

Detail performance results: 
+------------+---------+-------------------------------------+
| frame_size | txd/rxd | throughput difference from expected |
+============+=========+=====================================+
| 64         | 512     | 0.136                               |
+------------+---------+-------------------------------------+
| 64         | 2048    | 0.174                               |
+------------+---------+-------------------------------------+

To view detailed results, visit:
https://lab.dpdk.org/results/dashboard/patchsets/11674/

UNH-IOL DPDK Community Lab

To manage your email subscriptions, visit: 
https://lab.dpdk.org/results/dashboard/preferences/subscriptions/

^ permalink raw reply	[flat|nested] 11+ messages in thread

* [dpdk-test-report] |SUCCESS| pw72193 [PATCH] net/af_xdp: revert change to SP/SC ring for copy mode
@ 2020-06-25 15:37 dpdklab
  0 siblings, 0 replies; 11+ messages in thread
From: dpdklab @ 2020-06-25 15:37 UTC (permalink / raw)
  To: Ruoshan Shi, Test Report; +Cc: dpdk-test-reports

[-- Attachment #1: Type: text/plain, Size: 1201 bytes --]

Test-Label: iol-nxp-Performance
Test-Status: SUCCESS
http://dpdk.org/patch/72193

_Performance Testing PASS_

Submitter: Ciara Loftus <ciara.loftus@intel.com>
Date: Thursday, June 25 2020 13:39:50 
DPDK git baseline: Repo:dpdk
  Branch: master
  CommitID:c91717eb75c8595e84fb9dfa8424b7b2ccee5e16

72193 --> performance testing pass

Test environment and result as below:

Ubuntu 18.04
Kernel: 4.14.122
Compiler: gcc 7.3.0
NIC: NXP LS2088A 10000 Mbps
Target: x86_64-native-linuxapp-gcc
Fail/Total: 0/2

Detail performance results: 
+------------+---------+-------------------------------------+
| frame_size | txd/rxd | throughput difference from expected |
+============+=========+=====================================+
| 64         | 512     | 0.048                               |
+------------+---------+-------------------------------------+
| 64         | 2048    | 0.087                               |
+------------+---------+-------------------------------------+

To view detailed results, visit:
https://lab.dpdk.org/results/dashboard/patchsets/11674/

UNH-IOL DPDK Community Lab

To manage your email subscriptions, visit: 
https://lab.dpdk.org/results/dashboard/preferences/subscriptions/

^ permalink raw reply	[flat|nested] 11+ messages in thread

* [dpdk-test-report] |SUCCESS| pw72193 [PATCH] net/af_xdp: revert change to SP/SC ring for copy mode
@ 2020-06-25 15:27 dpdklab
  0 siblings, 0 replies; 11+ messages in thread
From: dpdklab @ 2020-06-25 15:27 UTC (permalink / raw)
  To: Test Report; +Cc: dpdk-test-reports

[-- Attachment #1: Type: text/plain, Size: 1913 bytes --]

Test-Label: iol-intel-Performance
Test-Status: SUCCESS
http://dpdk.org/patch/72193

_Performance Testing PASS_

Submitter: Ciara Loftus <ciara.loftus@intel.com>
Date: Thursday, June 25 2020 13:39:50 
DPDK git baseline: Repo:dpdk
  Branch: master
  CommitID:c91717eb75c8595e84fb9dfa8424b7b2ccee5e16

72193 --> performance testing pass

Test environment and result as below:

Ubuntu 18.04
Kernel: 4.15.0-generic
Compiler: gcc 7.4
NIC: Intel Corporation Ethernet Converged Network Adapter XL710-QDA2 40000 Mbps
Target: x86_64-native-linuxapp-gcc
Fail/Total: 0/2

Detail performance results: 
+------------+---------+-------------------------------------+
| frame_size | txd/rxd | throughput difference from expected |
+============+=========+=====================================+
| 64         | 512     | 4.644                               |
+------------+---------+-------------------------------------+
| 64         | 2048    | 2.841                               |
+------------+---------+-------------------------------------+

Ubuntu 18.04
Kernel: 4.15.0-generic
Compiler: gcc 7.4
NIC: Intel Corporation Ethernet Converged Network Adapter 82599ES 10000 Mbps
Target: x86_64-native-linuxapp-gcc
Fail/Total: 0/2

Detail performance results: 
+------------+---------+-------------------------------------+
| frame_size | txd/rxd | throughput difference from expected |
+============+=========+=====================================+
| 64         | 512     | 2.657                               |
+------------+---------+-------------------------------------+
| 64         | 2048    | 0.929                               |
+------------+---------+-------------------------------------+

To view detailed results, visit:
https://lab.dpdk.org/results/dashboard/patchsets/11674/

UNH-IOL DPDK Community Lab

To manage your email subscriptions, visit: 
https://lab.dpdk.org/results/dashboard/preferences/subscriptions/

^ permalink raw reply	[flat|nested] 11+ messages in thread

* [dpdk-test-report] |SUCCESS| pw72193 [PATCH] net/af_xdp: revert change to SP/SC ring for copy mode
@ 2020-06-25 15:03 dpdklab
  0 siblings, 0 replies; 11+ messages in thread
From: dpdklab @ 2020-06-25 15:03 UTC (permalink / raw)
  To: Ajit Khaparde, Test Report; +Cc: dpdk-test-reports

[-- Attachment #1: Type: text/plain, Size: 1264 bytes --]

Test-Label: iol-broadcom-Performance
Test-Status: SUCCESS
http://dpdk.org/patch/72193

_Performance Testing PASS_

Submitter: Ciara Loftus <ciara.loftus@intel.com>
Date: Thursday, June 25 2020 13:39:50 
DPDK git baseline: Repo:dpdk
  Branch: master
  CommitID:c91717eb75c8595e84fb9dfa8424b7b2ccee5e16

72193 --> performance testing pass

Test environment and result as below:

Ubuntu 18.04
Kernel: 4.15.0-65-generic
Compiler: gcc gcc (Ubuntu 7.4.0-1ubuntu1~18.04.1) 7.4.0
NIC: Broadcom Inc. brcm_57414 25000 Mbps
Target: x86_64-native-linuxapp-gcc
Fail/Total: 0/2

Detail performance results: 
+------------+---------+-------------------------------------+
| frame_size | txd/rxd | throughput difference from expected |
+============+=========+=====================================+
| 64         | 512     | -0.002                              |
+------------+---------+-------------------------------------+
| 64         | 2048    | -0.014                              |
+------------+---------+-------------------------------------+

To view detailed results, visit:
https://lab.dpdk.org/results/dashboard/patchsets/11674/

UNH-IOL DPDK Community Lab

To manage your email subscriptions, visit: 
https://lab.dpdk.org/results/dashboard/preferences/subscriptions/

^ permalink raw reply	[flat|nested] 11+ messages in thread

* [dpdk-test-report] |SUCCESS| pw72193 [PATCH] net/af_xdp: revert change to SP/SC ring for copy mode
@ 2020-06-25 14:55 dpdklab
  0 siblings, 0 replies; 11+ messages in thread
From: dpdklab @ 2020-06-25 14:55 UTC (permalink / raw)
  To: Ajit Khaparde, Test Report; +Cc: dpdk-test-reports

[-- Attachment #1: Type: text/plain, Size: 1264 bytes --]

Test-Label: iol-broadcom-Performance
Test-Status: SUCCESS
http://dpdk.org/patch/72193

_Performance Testing PASS_

Submitter: Ciara Loftus <ciara.loftus@intel.com>
Date: Thursday, June 25 2020 13:39:50 
DPDK git baseline: Repo:dpdk
  Branch: master
  CommitID:c91717eb75c8595e84fb9dfa8424b7b2ccee5e16

72193 --> performance testing pass

Test environment and result as below:

Ubuntu 18.04
Kernel: 4.15.0-65-generic
Compiler: gcc gcc (Ubuntu 7.4.0-1ubuntu1~18.04.1) 7.4.0
NIC: Broadcom Inc. brcm_57414 25000 Mbps
Target: x86_64-native-linuxapp-gcc
Fail/Total: 0/2

Detail performance results: 
+------------+---------+-------------------------------------+
| frame_size | txd/rxd | throughput difference from expected |
+============+=========+=====================================+
| 64         | 512     | 0.085                               |
+------------+---------+-------------------------------------+
| 64         | 2048    | -0.006                              |
+------------+---------+-------------------------------------+

To view detailed results, visit:
https://lab.dpdk.org/results/dashboard/patchsets/11674/

UNH-IOL DPDK Community Lab

To manage your email subscriptions, visit: 
https://lab.dpdk.org/results/dashboard/preferences/subscriptions/

^ permalink raw reply	[flat|nested] 11+ messages in thread

* [dpdk-test-report] |SUCCESS| pw72193 [PATCH] net/af_xdp: revert change to SP/SC ring for copy mode
       [not found] <20200625133950.8028-1-ciara.loftus@intel.com>
@ 2020-06-25 14:02 ` checkpatch
  0 siblings, 0 replies; 11+ messages in thread
From: checkpatch @ 2020-06-25 14:02 UTC (permalink / raw)
  To: test-report

Test-Label: checkpatch
Test-Status: SUCCESS
http://dpdk.org/patch/72193

_coding style OK_



^ permalink raw reply	[flat|nested] 11+ messages in thread

end of thread, other threads:[~2020-06-26 10:59 UTC | newest]

Thread overview: 11+ messages (download: mbox.gz / follow: Atom feed)
-- links below jump to the message on this page --
2020-06-25 16:03 [dpdk-test-report] |SUCCESS| pw72193 [PATCH] net/af_xdp: revert change to SP/SC ring for copy mode dpdklab
  -- strict thread matches above, loose matches on Subject: below --
2020-06-26 10:59 dpdklab
2020-06-26  9:51 dpdklab
2020-06-25 17:39 dpdklab
2020-06-25 16:40 dpdklab
2020-06-25 16:14 dpdklab
2020-06-25 15:37 dpdklab
2020-06-25 15:27 dpdklab
2020-06-25 15:03 dpdklab
2020-06-25 14:55 dpdklab
     [not found] <20200625133950.8028-1-ciara.loftus@intel.com>
2020-06-25 14:02 ` checkpatch

automatic DPDK test reports

This inbox may be cloned and mirrored by anyone:

	git clone --mirror https://inbox.dpdk.org/test-report/0 test-report/git/0.git

	# If you have public-inbox 1.1+ installed, you may
	# initialize and index your mirror using the following commands:
	public-inbox-init -V2 test-report test-report/ https://inbox.dpdk.org/test-report \
		test-report@dpdk.org
	public-inbox-index test-report

Example config snippet for mirrors.
Newsgroup available over NNTP:
	nntp://inbox.dpdk.org/inbox.dpdk.test-report


AGPL code for this site: git clone https://public-inbox.org/public-inbox.git