[-- Attachment #1: Type: text/plain, Size: 1278 bytes --] Test-Label: iol-broadcom-Performance Test-Status: SUCCESS http://dpdk.org/patch/72353 _Performance Testing PASS_ Submitter: Honnappa Nagarahalli <honnappa.nagarahalli@arm.com> Date: Saturday, June 27 2020 19:12:08 DPDK git baseline: Repo:dpdk Branch: master CommitID:6248368a9ae1eadf6b7fb05ab37497afdb714429 72353 --> performance testing pass Test environment and result as below: Ubuntu 18.04 Kernel: 4.15.0-65-generic Compiler: gcc gcc (Ubuntu 7.4.0-1ubuntu1~18.04.1) 7.4.0 NIC: Broadcom Inc. brcm_57414 25000 Mbps Target: x86_64-native-linuxapp-gcc Fail/Total: 0/2 Detail performance results: +------------+---------+-------------------------------------+ | frame_size | txd/rxd | throughput difference from expected | +============+=========+=====================================+ | 64 | 512 | 0.069 | +------------+---------+-------------------------------------+ | 64 | 2048 | -0.014 | +------------+---------+-------------------------------------+ To view detailed results, visit: https://lab.dpdk.org/results/dashboard/patchsets/11701/ UNH-IOL DPDK Community Lab To manage your email subscriptions, visit: https://lab.dpdk.org/results/dashboard/preferences/subscriptions/
[-- Attachment #1: Type: text/plain, Size: 1278 bytes --] Test-Label: iol-broadcom-Performance Test-Status: SUCCESS http://dpdk.org/patch/72353 _Performance Testing PASS_ Submitter: Honnappa Nagarahalli <honnappa.nagarahalli@arm.com> Date: Saturday, June 27 2020 19:12:08 DPDK git baseline: Repo:dpdk Branch: master CommitID:6248368a9ae1eadf6b7fb05ab37497afdb714429 72353 --> performance testing pass Test environment and result as below: Ubuntu 18.04 Kernel: 4.15.0-65-generic Compiler: gcc gcc (Ubuntu 7.4.0-1ubuntu1~18.04.1) 7.4.0 NIC: Broadcom Inc. brcm_57414 25000 Mbps Target: x86_64-native-linuxapp-gcc Fail/Total: 0/2 Detail performance results: +------------+---------+-------------------------------------+ | frame_size | txd/rxd | throughput difference from expected | +============+=========+=====================================+ | 64 | 512 | 0.044 | +------------+---------+-------------------------------------+ | 64 | 2048 | -0.016 | +------------+---------+-------------------------------------+ To view detailed results, visit: https://lab.dpdk.org/results/dashboard/patchsets/11701/ UNH-IOL DPDK Community Lab To manage your email subscriptions, visit: https://lab.dpdk.org/results/dashboard/preferences/subscriptions/
[-- Attachment #1: Type: text/plain, Size: 1927 bytes --] Test-Label: iol-intel-Performance Test-Status: SUCCESS http://dpdk.org/patch/72353 _Performance Testing PASS_ Submitter: Honnappa Nagarahalli <honnappa.nagarahalli@arm.com> Date: Saturday, June 27 2020 19:12:08 DPDK git baseline: Repo:dpdk Branch: master CommitID:6248368a9ae1eadf6b7fb05ab37497afdb714429 72353 --> performance testing pass Test environment and result as below: Ubuntu 18.04 Kernel: 4.15.0-generic Compiler: gcc 7.4 NIC: Intel Corporation Ethernet Converged Network Adapter XL710-QDA2 40000 Mbps Target: x86_64-native-linuxapp-gcc Fail/Total: 0/2 Detail performance results: +------------+---------+-------------------------------------+ | frame_size | txd/rxd | throughput difference from expected | +============+=========+=====================================+ | 64 | 512 | 4.794 | +------------+---------+-------------------------------------+ | 64 | 2048 | 3.023 | +------------+---------+-------------------------------------+ Ubuntu 18.04 Kernel: 4.15.0-generic Compiler: gcc 7.4 NIC: Intel Corporation Ethernet Converged Network Adapter 82599ES 10000 Mbps Target: x86_64-native-linuxapp-gcc Fail/Total: 0/2 Detail performance results: +------------+---------+-------------------------------------+ | frame_size | txd/rxd | throughput difference from expected | +============+=========+=====================================+ | 64 | 512 | 2.620 | +------------+---------+-------------------------------------+ | 64 | 2048 | 0.941 | +------------+---------+-------------------------------------+ To view detailed results, visit: https://lab.dpdk.org/results/dashboard/patchsets/11701/ UNH-IOL DPDK Community Lab To manage your email subscriptions, visit: https://lab.dpdk.org/results/dashboard/preferences/subscriptions/
[-- Attachment #1: Type: text/plain, Size: 1215 bytes --] Test-Label: iol-nxp-Performance Test-Status: SUCCESS http://dpdk.org/patch/72353 _Performance Testing PASS_ Submitter: Honnappa Nagarahalli <honnappa.nagarahalli@arm.com> Date: Saturday, June 27 2020 19:12:08 DPDK git baseline: Repo:dpdk Branch: master CommitID:6248368a9ae1eadf6b7fb05ab37497afdb714429 72353 --> performance testing pass Test environment and result as below: Ubuntu 18.04 Kernel: 4.14.122 Compiler: gcc 7.3.0 NIC: NXP LS2088A 10000 Mbps Target: x86_64-native-linuxapp-gcc Fail/Total: 0/2 Detail performance results: +------------+---------+-------------------------------------+ | frame_size | txd/rxd | throughput difference from expected | +============+=========+=====================================+ | 64 | 512 | -0.116 | +------------+---------+-------------------------------------+ | 64 | 2048 | -0.122 | +------------+---------+-------------------------------------+ To view detailed results, visit: https://lab.dpdk.org/results/dashboard/patchsets/11701/ UNH-IOL DPDK Community Lab To manage your email subscriptions, visit: https://lab.dpdk.org/results/dashboard/preferences/subscriptions/
[-- Attachment #1: Type: text/plain, Size: 1927 bytes --] Test-Label: iol-intel-Performance Test-Status: SUCCESS http://dpdk.org/patch/72353 _Performance Testing PASS_ Submitter: Honnappa Nagarahalli <honnappa.nagarahalli@arm.com> Date: Saturday, June 27 2020 19:12:08 DPDK git baseline: Repo:dpdk Branch: master CommitID:6248368a9ae1eadf6b7fb05ab37497afdb714429 72353 --> performance testing pass Test environment and result as below: Ubuntu 18.04 Kernel: 4.15.0-generic Compiler: gcc 7.4 NIC: Intel Corporation Ethernet Converged Network Adapter XL710-QDA2 40000 Mbps Target: x86_64-native-linuxapp-gcc Fail/Total: 0/2 Detail performance results: +------------+---------+-------------------------------------+ | frame_size | txd/rxd | throughput difference from expected | +============+=========+=====================================+ | 64 | 512 | 5.023 | +------------+---------+-------------------------------------+ | 64 | 2048 | 2.850 | +------------+---------+-------------------------------------+ Ubuntu 18.04 Kernel: 4.15.0-generic Compiler: gcc 7.4 NIC: Intel Corporation Ethernet Converged Network Adapter 82599ES 10000 Mbps Target: x86_64-native-linuxapp-gcc Fail/Total: 0/2 Detail performance results: +------------+---------+-------------------------------------+ | frame_size | txd/rxd | throughput difference from expected | +============+=========+=====================================+ | 64 | 512 | 2.597 | +------------+---------+-------------------------------------+ | 64 | 2048 | 0.923 | +------------+---------+-------------------------------------+ To view detailed results, visit: https://lab.dpdk.org/results/dashboard/patchsets/11701/ UNH-IOL DPDK Community Lab To manage your email subscriptions, visit: https://lab.dpdk.org/results/dashboard/preferences/subscriptions/
[-- Attachment #1: Type: text/plain, Size: 1215 bytes --] Test-Label: iol-nxp-Performance Test-Status: SUCCESS http://dpdk.org/patch/72353 _Performance Testing PASS_ Submitter: Honnappa Nagarahalli <honnappa.nagarahalli@arm.com> Date: Saturday, June 27 2020 19:12:08 DPDK git baseline: Repo:dpdk Branch: master CommitID:6248368a9ae1eadf6b7fb05ab37497afdb714429 72353 --> performance testing pass Test environment and result as below: Ubuntu 18.04 Kernel: 4.14.122 Compiler: gcc 7.3.0 NIC: NXP LS2088A 10000 Mbps Target: x86_64-native-linuxapp-gcc Fail/Total: 0/2 Detail performance results: +------------+---------+-------------------------------------+ | frame_size | txd/rxd | throughput difference from expected | +============+=========+=====================================+ | 64 | 512 | -0.081 | +------------+---------+-------------------------------------+ | 64 | 2048 | -0.105 | +------------+---------+-------------------------------------+ To view detailed results, visit: https://lab.dpdk.org/results/dashboard/patchsets/11701/ UNH-IOL DPDK Community Lab To manage your email subscriptions, visit: https://lab.dpdk.org/results/dashboard/preferences/subscriptions/
[-- Attachment #1: Type: text/plain, Size: 3977 bytes --] Test-Label: iol-mellanox-Performance Test-Status: SUCCESS http://dpdk.org/patch/72353 _Performance Testing PASS_ Submitter: Honnappa Nagarahalli <honnappa.nagarahalli@arm.com> Date: Saturday, June 27 2020 19:12:08 DPDK git baseline: Repo:dpdk Branch: master CommitID:6248368a9ae1eadf6b7fb05ab37497afdb714429 72353 --> performance testing pass Test environment and result as below: Ubuntu 18.04 Kernel: 4.15.0-generic Compiler: gcc 7.4 NIC: Mellanox ConnectX-5 100000 Mbps Target: x86_64-native-linuxapp-gcc Fail/Total: 0/6 Detail performance results: +------------+---------+-------------------------------------+ | frame_size | txd/rxd | throughput difference from expected | +============+=========+=====================================+ | 64 | 256 | 0.307 | +------------+---------+-------------------------------------+ | 128 | 256 | 0.044 | +------------+---------+-------------------------------------+ | 256 | 256 | 0.111 | +------------+---------+-------------------------------------+ | 512 | 256 | -0.184 | +------------+---------+-------------------------------------+ | 1024 | 256 | -0.034 | +------------+---------+-------------------------------------+ | 1518 | 256 | -0.005 | +------------+---------+-------------------------------------+ Ubuntu 18.04 Kernel: 4.15.0-generic Compiler: gcc 7.4 NIC: Mellanox ConnectX-4 Lx 25000 Mbps Target: x86_64-native-linuxapp-gcc Fail/Total: 0/6 Detail performance results: +------------+---------+-------------------------------------+ | frame_size | txd/rxd | throughput difference from expected | +============+=========+=====================================+ | 64 | 256 | 0.214 | +------------+---------+-------------------------------------+ | 128 | 256 | 0.025 | +------------+---------+-------------------------------------+ | 256 | 256 | 0.035 | +------------+---------+-------------------------------------+ | 512 | 256 | 0.040 | +------------+---------+-------------------------------------+ | 1024 | 256 | -0.001 | +------------+---------+-------------------------------------+ | 1518 | 256 | 0.003 | +------------+---------+-------------------------------------+ Ubuntu 18.04 Kernel: 4.15.0-generic Compiler: gcc 7.4 NIC: Mellanox ConnectX-4 Lx 40000 Mbps Target: x86_64-native-linuxapp-gcc Fail/Total: 0/6 Detail performance results: +------------+---------+-------------------------------------+ | frame_size | txd/rxd | throughput difference from expected | +============+=========+=====================================+ | 64 | 256 | 0.437 | +------------+---------+-------------------------------------+ | 128 | 256 | 0.629 | +------------+---------+-------------------------------------+ | 256 | 256 | -0.100 | +------------+---------+-------------------------------------+ | 512 | 256 | -0.004 | +------------+---------+-------------------------------------+ | 1024 | 256 | -0.006 | +------------+---------+-------------------------------------+ | 1518 | 256 | -0.003 | +------------+---------+-------------------------------------+ To view detailed results, visit: https://lab.dpdk.org/results/dashboard/patchsets/11701/ UNH-IOL DPDK Community Lab To manage your email subscriptions, visit: https://lab.dpdk.org/results/dashboard/preferences/subscriptions/
[-- Attachment #1: Type: text/plain, Size: 2922 bytes --] Test-Label: iol-testing Test-Status: SUCCESS http://dpdk.org/patch/72353 _Testing PASS_ Submitter: Honnappa Nagarahalli <honnappa.nagarahalli@arm.com> Date: Saturday, June 27 2020 19:12:08 DPDK git baseline: Repo:dpdk Branch: master CommitID:6248368a9ae1eadf6b7fb05ab37497afdb714429 72353 --> testing pass Test environment and result as below: +---------------------+--------------------+-------------------+----------------+------------------+--------------+ | Environment | dpdk_meson_compile | dpdk_compile_spdk | dpdk_unit_test | dpdk_compile_ovs | dpdk_compile | +=====================+====================+===================+================+==================+==============+ | Windows Server 2019 | PASS | SKIPPED | SKIPPED | SKIPPED | SKIPPED | +---------------------+--------------------+-------------------+----------------+------------------+--------------+ | CentOS 8 | PASS | PASS | SKIPPED | PASS | PASS | +---------------------+--------------------+-------------------+----------------+------------------+--------------+ | Ubuntu 18.04 | PASS | PASS | PASS | PASS | PASS | +---------------------+--------------------+-------------------+----------------+------------------+--------------+ | openSUSE Leap 15 | PASS | PASS | SKIPPED | PASS | PASS | +---------------------+--------------------+-------------------+----------------+------------------+--------------+ | Fedora 31 | PASS | PASS | SKIPPED | PASS | PASS | +---------------------+--------------------+-------------------+----------------+------------------+--------------+ | Arch Linux | PASS | SKIPPED | SKIPPED | PASS | PASS | +---------------------+--------------------+-------------------+----------------+------------------+--------------+ | FreeBSD 11.2 | PASS | PASS | SKIPPED | SKIPPED | PASS | +---------------------+--------------------+-------------------+----------------+------------------+--------------+ Windows Server 2019 Kernel: 10.0 Compiler: clang 9.0 CentOS 8 Kernel: 4.18.0.el8_0 Compiler: gcc 8.3.1 Ubuntu 18.04 Kernel: 4.15.0-generic Compiler: gcc 7.4 openSUSE Leap 15 Kernel: 4.12.14 Compiler: gcc 7.4.1 Fedora 31 Kernel: 5.3.16 Compiler: gcc 9.2.1 Arch Linux Kernel: latest Compiler: gcc latest FreeBSD 11.2 Kernel: 11.2 Compiler: gcc 8.3 To view detailed results, visit: https://lab.dpdk.org/results/dashboard/patchsets/11701/ UNH-IOL DPDK Community Lab To manage your email subscriptions, visit: https://lab.dpdk.org/results/dashboard/preferences/subscriptions/
[-- Attachment #1: Type: text/plain, Size: 3977 bytes --] Test-Label: iol-mellanox-Performance Test-Status: SUCCESS http://dpdk.org/patch/72353 _Performance Testing PASS_ Submitter: Honnappa Nagarahalli <honnappa.nagarahalli@arm.com> Date: Saturday, June 27 2020 19:12:08 DPDK git baseline: Repo:dpdk Branch: master CommitID:6248368a9ae1eadf6b7fb05ab37497afdb714429 72353 --> performance testing pass Test environment and result as below: Ubuntu 18.04 Kernel: 4.15.0-generic Compiler: gcc 7.4 NIC: Mellanox ConnectX-5 100000 Mbps Target: x86_64-native-linuxapp-gcc Fail/Total: 0/6 Detail performance results: +------------+---------+-------------------------------------+ | frame_size | txd/rxd | throughput difference from expected | +============+=========+=====================================+ | 64 | 256 | -0.151 | +------------+---------+-------------------------------------+ | 128 | 256 | -0.050 | +------------+---------+-------------------------------------+ | 256 | 256 | 0.120 | +------------+---------+-------------------------------------+ | 512 | 256 | 0.023 | +------------+---------+-------------------------------------+ | 1024 | 256 | 0.021 | +------------+---------+-------------------------------------+ | 1518 | 256 | -0.014 | +------------+---------+-------------------------------------+ Ubuntu 18.04 Kernel: 4.15.0-generic Compiler: gcc 7.4 NIC: Mellanox ConnectX-4 Lx 25000 Mbps Target: x86_64-native-linuxapp-gcc Fail/Total: 0/6 Detail performance results: +------------+---------+-------------------------------------+ | frame_size | txd/rxd | throughput difference from expected | +============+=========+=====================================+ | 64 | 256 | 0.182 | +------------+---------+-------------------------------------+ | 128 | 256 | 0.155 | +------------+---------+-------------------------------------+ | 256 | 256 | 0.095 | +------------+---------+-------------------------------------+ | 512 | 256 | 0 | +------------+---------+-------------------------------------+ | 1024 | 256 | 0.006 | +------------+---------+-------------------------------------+ | 1518 | 256 | 0.003 | +------------+---------+-------------------------------------+ Ubuntu 18.04 Kernel: 4.15.0-generic Compiler: gcc 7.4 NIC: Mellanox ConnectX-4 Lx 40000 Mbps Target: x86_64-native-linuxapp-gcc Fail/Total: 0/6 Detail performance results: +------------+---------+-------------------------------------+ | frame_size | txd/rxd | throughput difference from expected | +============+=========+=====================================+ | 64 | 256 | 0.309 | +------------+---------+-------------------------------------+ | 128 | 256 | 0.304 | +------------+---------+-------------------------------------+ | 256 | 256 | -0.143 | +------------+---------+-------------------------------------+ | 512 | 256 | 0 | +------------+---------+-------------------------------------+ | 1024 | 256 | -0.004 | +------------+---------+-------------------------------------+ | 1518 | 256 | -0.003 | +------------+---------+-------------------------------------+ To view detailed results, visit: https://lab.dpdk.org/results/dashboard/patchsets/11701/ UNH-IOL DPDK Community Lab To manage your email subscriptions, visit: https://lab.dpdk.org/results/dashboard/preferences/subscriptions/
[-- Attachment #1: Type: text/plain, Size: 2922 bytes --] Test-Label: iol-testing Test-Status: SUCCESS http://dpdk.org/patch/72353 _Testing PASS_ Submitter: Honnappa Nagarahalli <honnappa.nagarahalli@arm.com> Date: Saturday, June 27 2020 19:12:08 DPDK git baseline: Repo:dpdk Branch: master CommitID:6248368a9ae1eadf6b7fb05ab37497afdb714429 72353 --> testing pass Test environment and result as below: +---------------------+--------------------+--------------+------------------+----------------+-------------------+ | Environment | dpdk_meson_compile | dpdk_compile | dpdk_compile_ovs | dpdk_unit_test | dpdk_compile_spdk | +=====================+====================+==============+==================+================+===================+ | Windows Server 2019 | PASS | SKIPPED | SKIPPED | SKIPPED | SKIPPED | +---------------------+--------------------+--------------+------------------+----------------+-------------------+ | Ubuntu 18.04 | PASS | PASS | PASS | PASS | PASS | +---------------------+--------------------+--------------+------------------+----------------+-------------------+ | CentOS 8 | PASS | PASS | PASS | SKIPPED | PASS | +---------------------+--------------------+--------------+------------------+----------------+-------------------+ | Fedora 31 | PASS | PASS | PASS | SKIPPED | PASS | +---------------------+--------------------+--------------+------------------+----------------+-------------------+ | openSUSE Leap 15 | PASS | PASS | PASS | SKIPPED | PASS | +---------------------+--------------------+--------------+------------------+----------------+-------------------+ | Arch Linux | PASS | PASS | PASS | SKIPPED | SKIPPED | +---------------------+--------------------+--------------+------------------+----------------+-------------------+ | FreeBSD 11.2 | PASS | PASS | SKIPPED | SKIPPED | PASS | +---------------------+--------------------+--------------+------------------+----------------+-------------------+ Windows Server 2019 Kernel: 10.0 Compiler: clang 9.0 Ubuntu 18.04 Kernel: 4.15.0-generic Compiler: gcc 7.4 CentOS 8 Kernel: 4.18.0.el8_0 Compiler: gcc 8.3.1 Fedora 31 Kernel: 5.3.16 Compiler: gcc 9.2.1 openSUSE Leap 15 Kernel: 4.12.14 Compiler: gcc 7.4.1 Arch Linux Kernel: latest Compiler: gcc latest FreeBSD 11.2 Kernel: 11.2 Compiler: gcc 8.3 To view detailed results, visit: https://lab.dpdk.org/results/dashboard/patchsets/11701/ UNH-IOL DPDK Community Lab To manage your email subscriptions, visit: https://lab.dpdk.org/results/dashboard/preferences/subscriptions/