Test-Label: checkpatch Test-Status: SUCCESS http://dpdk.org/patch/72376 _coding style OK_
[-- Attachment #1: Type: text/plain, Size: 1255 bytes --] Test-Label: iol-broadcom-Performance Test-Status: SUCCESS http://dpdk.org/patch/72376 _Performance Testing PASS_ Submitter: Shy Shyman <shys@mellanox.com> Date: Sunday, June 28 2020 09:36:31 DPDK git baseline: Repo:dpdk Branch: master CommitID:6248368a9ae1eadf6b7fb05ab37497afdb714429 72376 --> performance testing pass Test environment and result as below: Ubuntu 18.04 Kernel: 4.15.0-65-generic Compiler: gcc gcc (Ubuntu 7.4.0-1ubuntu1~18.04.1) 7.4.0 NIC: Broadcom Inc. brcm_57414 25000 Mbps Target: x86_64-native-linuxapp-gcc Fail/Total: 0/2 Detail performance results: +------------+---------+-------------------------------------+ | frame_size | txd/rxd | throughput difference from expected | +============+=========+=====================================+ | 64 | 512 | 0.002 | +------------+---------+-------------------------------------+ | 64 | 2048 | -0.007 | +------------+---------+-------------------------------------+ To view detailed results, visit: https://lab.dpdk.org/results/dashboard/patchsets/11709/ UNH-IOL DPDK Community Lab To manage your email subscriptions, visit: https://lab.dpdk.org/results/dashboard/preferences/subscriptions/
[-- Attachment #1: Type: text/plain, Size: 1904 bytes --] Test-Label: iol-intel-Performance Test-Status: SUCCESS http://dpdk.org/patch/72376 _Performance Testing PASS_ Submitter: Shy Shyman <shys@mellanox.com> Date: Sunday, June 28 2020 09:36:31 DPDK git baseline: Repo:dpdk Branch: master CommitID:6248368a9ae1eadf6b7fb05ab37497afdb714429 72376 --> performance testing pass Test environment and result as below: Ubuntu 18.04 Kernel: 4.15.0-generic Compiler: gcc 7.4 NIC: Intel Corporation Ethernet Converged Network Adapter XL710-QDA2 40000 Mbps Target: x86_64-native-linuxapp-gcc Fail/Total: 0/2 Detail performance results: +------------+---------+-------------------------------------+ | frame_size | txd/rxd | throughput difference from expected | +============+=========+=====================================+ | 64 | 512 | 4.693 | +------------+---------+-------------------------------------+ | 64 | 2048 | 2.919 | +------------+---------+-------------------------------------+ Ubuntu 18.04 Kernel: 4.15.0-generic Compiler: gcc 7.4 NIC: Intel Corporation Ethernet Converged Network Adapter 82599ES 10000 Mbps Target: x86_64-native-linuxapp-gcc Fail/Total: 0/2 Detail performance results: +------------+---------+-------------------------------------+ | frame_size | txd/rxd | throughput difference from expected | +============+=========+=====================================+ | 64 | 512 | 2.540 | +------------+---------+-------------------------------------+ | 64 | 2048 | 0.954 | +------------+---------+-------------------------------------+ To view detailed results, visit: https://lab.dpdk.org/results/dashboard/patchsets/11709/ UNH-IOL DPDK Community Lab To manage your email subscriptions, visit: https://lab.dpdk.org/results/dashboard/preferences/subscriptions/
[-- Attachment #1: Type: text/plain, Size: 1192 bytes --] Test-Label: iol-nxp-Performance Test-Status: SUCCESS http://dpdk.org/patch/72376 _Performance Testing PASS_ Submitter: Shy Shyman <shys@mellanox.com> Date: Sunday, June 28 2020 09:36:31 DPDK git baseline: Repo:dpdk Branch: master CommitID:6248368a9ae1eadf6b7fb05ab37497afdb714429 72376 --> performance testing pass Test environment and result as below: Ubuntu 18.04 Kernel: 4.14.122 Compiler: gcc 7.3.0 NIC: NXP LS2088A 10000 Mbps Target: x86_64-native-linuxapp-gcc Fail/Total: 0/2 Detail performance results: +------------+---------+-------------------------------------+ | frame_size | txd/rxd | throughput difference from expected | +============+=========+=====================================+ | 64 | 512 | 0.079 | +------------+---------+-------------------------------------+ | 64 | 2048 | 0.034 | +------------+---------+-------------------------------------+ To view detailed results, visit: https://lab.dpdk.org/results/dashboard/patchsets/11709/ UNH-IOL DPDK Community Lab To manage your email subscriptions, visit: https://lab.dpdk.org/results/dashboard/preferences/subscriptions/
From: robot@bytheb.org Test-Label: travis-robot Test-Status: SUCCESS http://dpdk.org/patch/72376 _Travis build: passed_ Build URL: https://travis-ci.com/ovsrobot/dpdk/builds/173334195
[-- Attachment #1: Type: text/plain, Size: 3954 bytes --] Test-Label: iol-mellanox-Performance Test-Status: SUCCESS http://dpdk.org/patch/72376 _Performance Testing PASS_ Submitter: Shy Shyman <shys@mellanox.com> Date: Sunday, June 28 2020 09:36:31 DPDK git baseline: Repo:dpdk Branch: master CommitID:6248368a9ae1eadf6b7fb05ab37497afdb714429 72376 --> performance testing pass Test environment and result as below: Ubuntu 18.04 Kernel: 4.15.0-generic Compiler: gcc 7.4 NIC: Mellanox ConnectX-5 100000 Mbps Target: x86_64-native-linuxapp-gcc Fail/Total: 0/6 Detail performance results: +------------+---------+-------------------------------------+ | frame_size | txd/rxd | throughput difference from expected | +============+=========+=====================================+ | 64 | 256 | 0.096 | +------------+---------+-------------------------------------+ | 128 | 256 | -0.135 | +------------+---------+-------------------------------------+ | 256 | 256 | -0.013 | +------------+---------+-------------------------------------+ | 512 | 256 | -0.074 | +------------+---------+-------------------------------------+ | 1024 | 256 | 0.017 | +------------+---------+-------------------------------------+ | 1518 | 256 | 0.006 | +------------+---------+-------------------------------------+ Ubuntu 18.04 Kernel: 4.15.0-generic Compiler: gcc 7.4 NIC: Mellanox ConnectX-4 Lx 25000 Mbps Target: x86_64-native-linuxapp-gcc Fail/Total: 0/6 Detail performance results: +------------+---------+-------------------------------------+ | frame_size | txd/rxd | throughput difference from expected | +============+=========+=====================================+ | 64 | 256 | -0.368 | +------------+---------+-------------------------------------+ | 128 | 256 | 0.042 | +------------+---------+-------------------------------------+ | 256 | 256 | 0.140 | +------------+---------+-------------------------------------+ | 512 | 256 | 0.039 | +------------+---------+-------------------------------------+ | 1024 | 256 | -0.003 | +------------+---------+-------------------------------------+ | 1518 | 256 | 0.001 | +------------+---------+-------------------------------------+ Ubuntu 18.04 Kernel: 4.15.0-generic Compiler: gcc 7.4 NIC: Mellanox ConnectX-4 Lx 40000 Mbps Target: x86_64-native-linuxapp-gcc Fail/Total: 0/6 Detail performance results: +------------+---------+-------------------------------------+ | frame_size | txd/rxd | throughput difference from expected | +============+=========+=====================================+ | 64 | 256 | 0.864 | +------------+---------+-------------------------------------+ | 128 | 256 | 1.647 | +------------+---------+-------------------------------------+ | 256 | 256 | 0.030 | +------------+---------+-------------------------------------+ | 512 | 256 | 0.001 | +------------+---------+-------------------------------------+ | 1024 | 256 | -0.006 | +------------+---------+-------------------------------------+ | 1518 | 256 | -0.004 | +------------+---------+-------------------------------------+ To view detailed results, visit: https://lab.dpdk.org/results/dashboard/patchsets/11709/ UNH-IOL DPDK Community Lab To manage your email subscriptions, visit: https://lab.dpdk.org/results/dashboard/preferences/subscriptions/
[-- Attachment #1: Type: text/plain, Size: 2899 bytes --] Test-Label: iol-testing Test-Status: SUCCESS http://dpdk.org/patch/72376 _Testing PASS_ Submitter: Shy Shyman <shys@mellanox.com> Date: Sunday, June 28 2020 09:36:31 DPDK git baseline: Repo:dpdk Branch: master CommitID:6248368a9ae1eadf6b7fb05ab37497afdb714429 72376 --> testing pass Test environment and result as below: +---------------------+--------------------+--------------+----------------+------------------+-------------------+ | Environment | dpdk_meson_compile | dpdk_compile | dpdk_unit_test | dpdk_compile_ovs | dpdk_compile_spdk | +=====================+====================+==============+================+==================+===================+ | Windows Server 2019 | PASS | SKIPPED | SKIPPED | SKIPPED | SKIPPED | +---------------------+--------------------+--------------+----------------+------------------+-------------------+ | Fedora 31 | PASS | PASS | SKIPPED | PASS | PASS | +---------------------+--------------------+--------------+----------------+------------------+-------------------+ | Ubuntu 18.04 | PASS | PASS | PASS | PASS | PASS | +---------------------+--------------------+--------------+----------------+------------------+-------------------+ | CentOS 8 | PASS | PASS | SKIPPED | PASS | PASS | +---------------------+--------------------+--------------+----------------+------------------+-------------------+ | openSUSE Leap 15 | PASS | PASS | SKIPPED | PASS | PASS | +---------------------+--------------------+--------------+----------------+------------------+-------------------+ | Arch Linux | PASS | PASS | SKIPPED | PASS | SKIPPED | +---------------------+--------------------+--------------+----------------+------------------+-------------------+ | FreeBSD 11.2 | PASS | PASS | SKIPPED | SKIPPED | PASS | +---------------------+--------------------+--------------+----------------+------------------+-------------------+ Windows Server 2019 Kernel: 10.0 Compiler: clang 9.0 Fedora 31 Kernel: 5.3.16 Compiler: gcc 9.2.1 Ubuntu 18.04 Kernel: 4.15.0-generic Compiler: gcc 7.4 CentOS 8 Kernel: 4.18.0.el8_0 Compiler: gcc 8.3.1 openSUSE Leap 15 Kernel: 4.12.14 Compiler: gcc 7.4.1 Arch Linux Kernel: latest Compiler: gcc latest FreeBSD 11.2 Kernel: 11.2 Compiler: gcc 8.3 To view detailed results, visit: https://lab.dpdk.org/results/dashboard/patchsets/11709/ UNH-IOL DPDK Community Lab To manage your email subscriptions, visit: https://lab.dpdk.org/results/dashboard/preferences/subscriptions/