* [dpdk-test-report] |SUCCESS| pw72391 [PATCH] [v6] net/octeontx2: add devargs to lock Rx/Tx ctx
@ 2020-06-29 0:02 dpdklab
0 siblings, 0 replies; 6+ messages in thread
From: dpdklab @ 2020-06-29 0:02 UTC (permalink / raw)
To: Test Report; +Cc: dpdk-test-reports
[-- Attachment #1: Type: text/plain, Size: 2923 bytes --]
Test-Label: iol-testing
Test-Status: SUCCESS
http://dpdk.org/patch/72391
_Testing PASS_
Submitter: Pavan Nikhilesh Bhagavatula <pbhagavatula@marvell.com>
Date: Sunday, June 28 2020 22:18:32
DPDK git baseline: Repo:dpdk
Branch: master
CommitID:6248368a9ae1eadf6b7fb05ab37497afdb714429
72391 --> testing pass
Test environment and result as below:
+---------------------+--------------+--------------------+----------------+------------------+-------------------+
| Environment | dpdk_compile | dpdk_meson_compile | dpdk_unit_test | dpdk_compile_ovs | dpdk_compile_spdk |
+=====================+==============+====================+================+==================+===================+
| FreeBSD 11.2 | PASS | PASS | SKIPPED | SKIPPED | PASS |
+---------------------+--------------+--------------------+----------------+------------------+-------------------+
| openSUSE Leap 15 | PASS | PASS | SKIPPED | PASS | PASS |
+---------------------+--------------+--------------------+----------------+------------------+-------------------+
| CentOS 8 | PASS | PASS | SKIPPED | PASS | PASS |
+---------------------+--------------+--------------------+----------------+------------------+-------------------+
| Ubuntu 18.04 | PASS | PASS | PASS | PASS | PASS |
+---------------------+--------------+--------------------+----------------+------------------+-------------------+
| Fedora 31 | PASS | PASS | SKIPPED | PASS | PASS |
+---------------------+--------------+--------------------+----------------+------------------+-------------------+
| Arch Linux | PASS | PASS | SKIPPED | PASS | SKIPPED |
+---------------------+--------------+--------------------+----------------+------------------+-------------------+
| Windows Server 2019 | SKIPPED | PASS | SKIPPED | SKIPPED | SKIPPED |
+---------------------+--------------+--------------------+----------------+------------------+-------------------+
FreeBSD 11.2
Kernel: 11.2
Compiler: gcc 8.3
openSUSE Leap 15
Kernel: 4.12.14
Compiler: gcc 7.4.1
CentOS 8
Kernel: 4.18.0.el8_0
Compiler: gcc 8.3.1
Ubuntu 18.04
Kernel: 4.15.0-generic
Compiler: gcc 7.4
Fedora 31
Kernel: 5.3.16
Compiler: gcc 9.2.1
Arch Linux
Kernel: latest
Compiler: gcc latest
Windows Server 2019
Kernel: 10.0
Compiler: clang 9.0
To view detailed results, visit:
https://lab.dpdk.org/results/dashboard/patchsets/11713/
UNH-IOL DPDK Community Lab
To manage your email subscriptions, visit:
https://lab.dpdk.org/results/dashboard/preferences/subscriptions/
^ permalink raw reply [flat|nested] 6+ messages in thread
* [dpdk-test-report] |SUCCESS| pw72391 [PATCH] [v6] net/octeontx2: add devargs to lock Rx/Tx ctx
@ 2020-06-28 23:48 dpdklab
0 siblings, 0 replies; 6+ messages in thread
From: dpdklab @ 2020-06-28 23:48 UTC (permalink / raw)
To: Ali Alnubani, Test Report; +Cc: dpdk-test-reports
[-- Attachment #1: Type: text/plain, Size: 3978 bytes --]
Test-Label: iol-mellanox-Performance
Test-Status: SUCCESS
http://dpdk.org/patch/72391
_Performance Testing PASS_
Submitter: Pavan Nikhilesh Bhagavatula <pbhagavatula@marvell.com>
Date: Sunday, June 28 2020 22:18:32
DPDK git baseline: Repo:dpdk
Branch: master
CommitID:6248368a9ae1eadf6b7fb05ab37497afdb714429
72391 --> performance testing pass
Test environment and result as below:
Ubuntu 18.04
Kernel: 4.15.0-generic
Compiler: gcc 7.4
NIC: Mellanox ConnectX-5 100000 Mbps
Target: x86_64-native-linuxapp-gcc
Fail/Total: 0/6
Detail performance results:
+------------+---------+-------------------------------------+
| frame_size | txd/rxd | throughput difference from expected |
+============+=========+=====================================+
| 64 | 256 | 0.436 |
+------------+---------+-------------------------------------+
| 128 | 256 | 0.054 |
+------------+---------+-------------------------------------+
| 256 | 256 | -0.017 |
+------------+---------+-------------------------------------+
| 512 | 256 | -0.055 |
+------------+---------+-------------------------------------+
| 1024 | 256 | 0.061 |
+------------+---------+-------------------------------------+
| 1518 | 256 | 0.011 |
+------------+---------+-------------------------------------+
Ubuntu 18.04
Kernel: 4.15.0-generic
Compiler: gcc 7.4
NIC: Mellanox ConnectX-4 Lx 25000 Mbps
Target: x86_64-native-linuxapp-gcc
Fail/Total: 0/6
Detail performance results:
+------------+---------+-------------------------------------+
| frame_size | txd/rxd | throughput difference from expected |
+============+=========+=====================================+
| 64 | 256 | -0.072 |
+------------+---------+-------------------------------------+
| 128 | 256 | 0.098 |
+------------+---------+-------------------------------------+
| 256 | 256 | -0.002 |
+------------+---------+-------------------------------------+
| 512 | 256 | 0 |
+------------+---------+-------------------------------------+
| 1024 | 256 | 0.005 |
+------------+---------+-------------------------------------+
| 1518 | 256 | 0.013 |
+------------+---------+-------------------------------------+
Ubuntu 18.04
Kernel: 4.15.0-generic
Compiler: gcc 7.4
NIC: Mellanox ConnectX-4 Lx 40000 Mbps
Target: x86_64-native-linuxapp-gcc
Fail/Total: 0/6
Detail performance results:
+------------+---------+-------------------------------------+
| frame_size | txd/rxd | throughput difference from expected |
+============+=========+=====================================+
| 64 | 256 | 0.536 |
+------------+---------+-------------------------------------+
| 128 | 256 | 0.370 |
+------------+---------+-------------------------------------+
| 256 | 256 | -0.004 |
+------------+---------+-------------------------------------+
| 512 | 256 | 0.004 |
+------------+---------+-------------------------------------+
| 1024 | 256 | -0.006 |
+------------+---------+-------------------------------------+
| 1518 | 256 | 0.006 |
+------------+---------+-------------------------------------+
To view detailed results, visit:
https://lab.dpdk.org/results/dashboard/patchsets/11713/
UNH-IOL DPDK Community Lab
To manage your email subscriptions, visit:
https://lab.dpdk.org/results/dashboard/preferences/subscriptions/
^ permalink raw reply [flat|nested] 6+ messages in thread
* [dpdk-test-report] |SUCCESS| pw72391 [PATCH] [v6] net/octeontx2: add devargs to lock Rx/Tx ctx
@ 2020-06-28 23:25 dpdklab
0 siblings, 0 replies; 6+ messages in thread
From: dpdklab @ 2020-06-28 23:25 UTC (permalink / raw)
To: Ruoshan Shi, Test Report; +Cc: dpdk-test-reports
[-- Attachment #1: Type: text/plain, Size: 1216 bytes --]
Test-Label: iol-nxp-Performance
Test-Status: SUCCESS
http://dpdk.org/patch/72391
_Performance Testing PASS_
Submitter: Pavan Nikhilesh Bhagavatula <pbhagavatula@marvell.com>
Date: Sunday, June 28 2020 22:18:32
DPDK git baseline: Repo:dpdk
Branch: master
CommitID:6248368a9ae1eadf6b7fb05ab37497afdb714429
72391 --> performance testing pass
Test environment and result as below:
Ubuntu 18.04
Kernel: 4.14.122
Compiler: gcc 7.3.0
NIC: NXP LS2088A 10000 Mbps
Target: x86_64-native-linuxapp-gcc
Fail/Total: 0/2
Detail performance results:
+------------+---------+-------------------------------------+
| frame_size | txd/rxd | throughput difference from expected |
+============+=========+=====================================+
| 64 | 512 | 0.001 |
+------------+---------+-------------------------------------+
| 64 | 2048 | -0.186 |
+------------+---------+-------------------------------------+
To view detailed results, visit:
https://lab.dpdk.org/results/dashboard/patchsets/11713/
UNH-IOL DPDK Community Lab
To manage your email subscriptions, visit:
https://lab.dpdk.org/results/dashboard/preferences/subscriptions/
^ permalink raw reply [flat|nested] 6+ messages in thread
* [dpdk-test-report] |SUCCESS| pw72391 [PATCH] [v6] net/octeontx2: add devargs to lock Rx/Tx ctx
@ 2020-06-28 23:22 dpdklab
0 siblings, 0 replies; 6+ messages in thread
From: dpdklab @ 2020-06-28 23:22 UTC (permalink / raw)
To: Test Report; +Cc: dpdk-test-reports
[-- Attachment #1: Type: text/plain, Size: 1928 bytes --]
Test-Label: iol-intel-Performance
Test-Status: SUCCESS
http://dpdk.org/patch/72391
_Performance Testing PASS_
Submitter: Pavan Nikhilesh Bhagavatula <pbhagavatula@marvell.com>
Date: Sunday, June 28 2020 22:18:32
DPDK git baseline: Repo:dpdk
Branch: master
CommitID:6248368a9ae1eadf6b7fb05ab37497afdb714429
72391 --> performance testing pass
Test environment and result as below:
Ubuntu 18.04
Kernel: 4.15.0-generic
Compiler: gcc 7.4
NIC: Intel Corporation Ethernet Converged Network Adapter XL710-QDA2 40000 Mbps
Target: x86_64-native-linuxapp-gcc
Fail/Total: 0/2
Detail performance results:
+------------+---------+-------------------------------------+
| frame_size | txd/rxd | throughput difference from expected |
+============+=========+=====================================+
| 64 | 512 | 4.949 |
+------------+---------+-------------------------------------+
| 64 | 2048 | 2.887 |
+------------+---------+-------------------------------------+
Ubuntu 18.04
Kernel: 4.15.0-generic
Compiler: gcc 7.4
NIC: Intel Corporation Ethernet Converged Network Adapter 82599ES 10000 Mbps
Target: x86_64-native-linuxapp-gcc
Fail/Total: 0/2
Detail performance results:
+------------+---------+-------------------------------------+
| frame_size | txd/rxd | throughput difference from expected |
+============+=========+=====================================+
| 64 | 512 | 2.517 |
+------------+---------+-------------------------------------+
| 64 | 2048 | 0.896 |
+------------+---------+-------------------------------------+
To view detailed results, visit:
https://lab.dpdk.org/results/dashboard/patchsets/11713/
UNH-IOL DPDK Community Lab
To manage your email subscriptions, visit:
https://lab.dpdk.org/results/dashboard/preferences/subscriptions/
^ permalink raw reply [flat|nested] 6+ messages in thread
* [dpdk-test-report] |SUCCESS| pw72391 [PATCH] [v6] net/octeontx2: add devargs to lock Rx/Tx ctx
@ 2020-06-28 22:56 dpdklab
0 siblings, 0 replies; 6+ messages in thread
From: dpdklab @ 2020-06-28 22:56 UTC (permalink / raw)
To: Ajit Khaparde, Test Report; +Cc: dpdk-test-reports
[-- Attachment #1: Type: text/plain, Size: 1279 bytes --]
Test-Label: iol-broadcom-Performance
Test-Status: SUCCESS
http://dpdk.org/patch/72391
_Performance Testing PASS_
Submitter: Pavan Nikhilesh Bhagavatula <pbhagavatula@marvell.com>
Date: Sunday, June 28 2020 22:18:32
DPDK git baseline: Repo:dpdk
Branch: master
CommitID:6248368a9ae1eadf6b7fb05ab37497afdb714429
72391 --> performance testing pass
Test environment and result as below:
Ubuntu 18.04
Kernel: 4.15.0-65-generic
Compiler: gcc gcc (Ubuntu 7.4.0-1ubuntu1~18.04.1) 7.4.0
NIC: Broadcom Inc. brcm_57414 25000 Mbps
Target: x86_64-native-linuxapp-gcc
Fail/Total: 0/2
Detail performance results:
+------------+---------+-------------------------------------+
| frame_size | txd/rxd | throughput difference from expected |
+============+=========+=====================================+
| 64 | 512 | 0.090 |
+------------+---------+-------------------------------------+
| 64 | 2048 | 0.042 |
+------------+---------+-------------------------------------+
To view detailed results, visit:
https://lab.dpdk.org/results/dashboard/patchsets/11713/
UNH-IOL DPDK Community Lab
To manage your email subscriptions, visit:
https://lab.dpdk.org/results/dashboard/preferences/subscriptions/
^ permalink raw reply [flat|nested] 6+ messages in thread
* [dpdk-test-report] |SUCCESS| pw72391 [PATCH v6] net/octeontx2: add devargs to lock Rx/Tx ctx
[not found] <20200628221833.1622-1-pbhagavatula@marvell.com>
@ 2020-06-28 22:20 ` checkpatch
0 siblings, 0 replies; 6+ messages in thread
From: checkpatch @ 2020-06-28 22:20 UTC (permalink / raw)
To: test-report
Test-Label: checkpatch
Test-Status: SUCCESS
http://dpdk.org/patch/72391
_coding style OK_
^ permalink raw reply [flat|nested] 6+ messages in thread
end of thread, other threads:[~2020-06-29 0:02 UTC | newest]
Thread overview: 6+ messages (download: mbox.gz / follow: Atom feed)
-- links below jump to the message on this page --
2020-06-29 0:02 [dpdk-test-report] |SUCCESS| pw72391 [PATCH] [v6] net/octeontx2: add devargs to lock Rx/Tx ctx dpdklab
-- strict thread matches above, loose matches on Subject: below --
2020-06-28 23:48 dpdklab
2020-06-28 23:25 dpdklab
2020-06-28 23:22 dpdklab
2020-06-28 22:56 dpdklab
[not found] <20200628221833.1622-1-pbhagavatula@marvell.com>
2020-06-28 22:20 ` [dpdk-test-report] |SUCCESS| pw72391 [PATCH v6] " checkpatch
This is a public inbox, see mirroring instructions
for how to clone and mirror all data and code used for this inbox;
as well as URLs for NNTP newsgroup(s).