automatic DPDK test reports
 help / color / mirror / Atom feed
* [dpdk-test-report] |SUCCESS| [GIT MASTER] 4f299b7169000aa55fe7a48fe98736f728e4f710
@ 2020-06-30 21:55 dpdklab
  0 siblings, 0 replies; 9+ messages in thread
From: dpdklab @ 2020-06-30 21:55 UTC (permalink / raw)
  To: Ajit Khaparde, Test Report; +Cc: dpdk-test-reports

[-- Attachment #1: Type: text/plain, Size: 1038 bytes --]

_Performance Testing PASS_

Branch: dpdk

4f299b7169000aa55fe7a48fe98736f728e4f710 --> performance testing pass

Test environment and result as below:

Ubuntu 18.04
Kernel: 4.15.0-65-generic
Compiler: gcc gcc (Ubuntu 7.4.0-1ubuntu1~18.04.1) 7.4.0
NIC: Broadcom Inc. brcm_57414 25000 Mbps
Target: x86_64-native-linuxapp-gcc
Fail/Total: 0/2

Detail performance results: 
+------------+---------+-------------------------------------+
| frame_size | txd/rxd | throughput difference from expected |
+============+=========+=====================================+
| 64         | 512     | 0                                   |
+------------+---------+-------------------------------------+
| 64         | 2048    | 0                                   |
+------------+---------+-------------------------------------+

To view detailed results, visit:
https://lab.dpdk.org/results/dashboard/tarballs/10187/

UNH-IOL DPDK Community Lab

To manage your email subscriptions, visit: 
https://lab.dpdk.org/results/dashboard/preferences/subscriptions/

^ permalink raw reply	[flat|nested] 9+ messages in thread

* [dpdk-test-report] |SUCCESS| [GIT MASTER] 4f299b7169000aa55fe7a48fe98736f728e4f710
@ 2020-07-02 10:56 dpdklab
  0 siblings, 0 replies; 9+ messages in thread
From: dpdklab @ 2020-07-02 10:56 UTC (permalink / raw)
  To: Test Report; +Cc: dpdk-test-reports

[-- Attachment #1: Type: text/plain, Size: 2707 bytes --]

_Testing PASS_

Branch: dpdk-next-crypto

4f299b7169000aa55fe7a48fe98736f728e4f710 --> testing pass

Test environment and result as below:

+---------------------+--------------------+--------------+----------------+------------------+-------------------+
|     Environment     | dpdk_meson_compile | dpdk_compile | dpdk_unit_test | dpdk_compile_ovs | dpdk_compile_spdk |
+=====================+====================+==============+================+==================+===================+
| Windows Server 2019 | PASS               | SKIPPED      | SKIPPED        | SKIPPED          | SKIPPED           |
+---------------------+--------------------+--------------+----------------+------------------+-------------------+
| CentOS 8            | PASS               | PASS         | SKIPPED        | PASS             | PASS              |
+---------------------+--------------------+--------------+----------------+------------------+-------------------+
| Fedora 31           | PASS               | PASS         | SKIPPED        | PASS             | PASS              |
+---------------------+--------------------+--------------+----------------+------------------+-------------------+
| openSUSE Leap 15    | PASS               | PASS         | SKIPPED        | PASS             | PASS              |
+---------------------+--------------------+--------------+----------------+------------------+-------------------+
| Ubuntu 18.04        | PASS               | PASS         | PASS           | PASS             | PASS              |
+---------------------+--------------------+--------------+----------------+------------------+-------------------+
| Arch Linux          | PASS               | PASS         | SKIPPED        | PASS             | SKIPPED           |
+---------------------+--------------------+--------------+----------------+------------------+-------------------+
| FreeBSD 11.2        | PASS               | PASS         | SKIPPED        | SKIPPED          | PASS              |
+---------------------+--------------------+--------------+----------------+------------------+-------------------+

Windows Server 2019
	Kernel: 10.0
	Compiler: clang 9.0

CentOS 8
	Kernel: 4.18.0.el8_0
	Compiler: gcc 8.3.1

Fedora 31
	Kernel: 5.3.16
	Compiler: gcc 9.2.1

openSUSE Leap 15
	Kernel: 4.12.14
	Compiler: gcc 7.4.1

Ubuntu 18.04
	Kernel: 4.15.0-generic
	Compiler: gcc 7.4

Arch Linux
	Kernel: latest
	Compiler: gcc latest

FreeBSD 11.2
	Kernel: 11.2
	Compiler: gcc 8.3

To view detailed results, visit:
https://lab.dpdk.org/results/dashboard/tarballs/10206/

UNH-IOL DPDK Community Lab

To manage your email subscriptions, visit: 
https://lab.dpdk.org/results/dashboard/preferences/subscriptions/

^ permalink raw reply	[flat|nested] 9+ messages in thread

* [dpdk-test-report] |SUCCESS| [GIT MASTER] 4f299b7169000aa55fe7a48fe98736f728e4f710
@ 2020-07-02  2:18 dpdklab
  0 siblings, 0 replies; 9+ messages in thread
From: dpdklab @ 2020-07-02  2:18 UTC (permalink / raw)
  To: Ali Alnubani, Test Report; +Cc: dpdk-test-reports

[-- Attachment #1: Type: text/plain, Size: 3749 bytes --]

_Performance Testing PASS_

Branch: dpdk-next-crypto

4f299b7169000aa55fe7a48fe98736f728e4f710 --> performance testing pass

Test environment and result as below:

Ubuntu 18.04
Kernel: 4.15.0-generic
Compiler: gcc 7.4
NIC: Mellanox ConnectX-5 100000 Mbps
Target: x86_64-native-linuxapp-gcc
Fail/Total: 0/6

Detail performance results: 
+------------+---------+-------------------------------------+
| frame_size | txd/rxd | throughput difference from expected |
+============+=========+=====================================+
| 64         | 256     | 0.164                               |
+------------+---------+-------------------------------------+
| 128        | 256     | 0.172                               |
+------------+---------+-------------------------------------+
| 256        | 256     | 0.157                               |
+------------+---------+-------------------------------------+
| 512        | 256     | 0.027                               |
+------------+---------+-------------------------------------+
| 1024       | 256     | 0.096                               |
+------------+---------+-------------------------------------+
| 1518       | 256     | -0.007                              |
+------------+---------+-------------------------------------+

Ubuntu 18.04
Kernel: 4.15.0-generic
Compiler: gcc 7.4
NIC: Mellanox ConnectX-4 Lx 25000 Mbps
Target: x86_64-native-linuxapp-gcc
Fail/Total: 0/6

Detail performance results: 
+------------+---------+-------------------------------------+
| frame_size | txd/rxd | throughput difference from expected |
+============+=========+=====================================+
| 64         | 256     | -0.505                              |
+------------+---------+-------------------------------------+
| 128        | 256     | 0.017                               |
+------------+---------+-------------------------------------+
| 256        | 256     | -0.025                              |
+------------+---------+-------------------------------------+
| 512        | 256     | -0.015                              |
+------------+---------+-------------------------------------+
| 1024       | 256     | 0.008                               |
+------------+---------+-------------------------------------+
| 1518       | 256     | -0.003                              |
+------------+---------+-------------------------------------+

Ubuntu 18.04
Kernel: 4.15.0-generic
Compiler: gcc 7.4
NIC: Mellanox ConnectX-4 Lx 40000 Mbps
Target: x86_64-native-linuxapp-gcc
Fail/Total: 0/6

Detail performance results: 
+------------+---------+-------------------------------------+
| frame_size | txd/rxd | throughput difference from expected |
+============+=========+=====================================+
| 64         | 256     | -0.598                              |
+------------+---------+-------------------------------------+
| 128        | 256     | 0.215                               |
+------------+---------+-------------------------------------+
| 256        | 256     | 0.175                               |
+------------+---------+-------------------------------------+
| 512        | 256     | -0.004                              |
+------------+---------+-------------------------------------+
| 1024       | 256     | 0.022                               |
+------------+---------+-------------------------------------+
| 1518       | 256     | 0.004                               |
+------------+---------+-------------------------------------+

To view detailed results, visit:
https://lab.dpdk.org/results/dashboard/tarballs/10206/

UNH-IOL DPDK Community Lab

To manage your email subscriptions, visit: 
https://lab.dpdk.org/results/dashboard/preferences/subscriptions/

^ permalink raw reply	[flat|nested] 9+ messages in thread

* [dpdk-test-report] |SUCCESS| [GIT MASTER] 4f299b7169000aa55fe7a48fe98736f728e4f710
@ 2020-07-01 16:13 dpdklab
  0 siblings, 0 replies; 9+ messages in thread
From: dpdklab @ 2020-07-01 16:13 UTC (permalink / raw)
  To: Ruoshan Shi, Test Report; +Cc: dpdk-test-reports

[-- Attachment #1: Type: text/plain, Size: 992 bytes --]

_Performance Testing PASS_

Branch: dpdk-next-crypto

4f299b7169000aa55fe7a48fe98736f728e4f710 --> performance testing pass

Test environment and result as below:

Ubuntu 18.04
Kernel: 4.14.122
Compiler: gcc 7.3.0
NIC: NXP LS2088A 10000 Mbps
Target: x86_64-native-linuxapp-gcc
Fail/Total: 0/2

Detail performance results: 
+------------+---------+-------------------------------------+
| frame_size | txd/rxd | throughput difference from expected |
+============+=========+=====================================+
| 64         | 512     | 0.061                               |
+------------+---------+-------------------------------------+
| 64         | 2048    | 0.046                               |
+------------+---------+-------------------------------------+

To view detailed results, visit:
https://lab.dpdk.org/results/dashboard/tarballs/10206/

UNH-IOL DPDK Community Lab

To manage your email subscriptions, visit: 
https://lab.dpdk.org/results/dashboard/preferences/subscriptions/

^ permalink raw reply	[flat|nested] 9+ messages in thread

* [dpdk-test-report] |SUCCESS| [GIT MASTER] 4f299b7169000aa55fe7a48fe98736f728e4f710
@ 2020-07-01 16:10 dpdklab
  0 siblings, 0 replies; 9+ messages in thread
From: dpdklab @ 2020-07-01 16:10 UTC (permalink / raw)
  To: Test Report; +Cc: dpdk-test-reports

[-- Attachment #1: Type: text/plain, Size: 1702 bytes --]

_Performance Testing PASS_

Branch: dpdk-next-crypto

4f299b7169000aa55fe7a48fe98736f728e4f710 --> performance testing pass

Test environment and result as below:

Ubuntu 18.04
Kernel: 4.15.0-generic
Compiler: gcc 7.4
NIC: Intel Corporation Ethernet Converged Network Adapter XL710-QDA2 40000 Mbps
Target: x86_64-native-linuxapp-gcc
Fail/Total: 0/2

Detail performance results: 
+------------+---------+-------------------------------------+
| frame_size | txd/rxd | throughput difference from expected |
+============+=========+=====================================+
| 64         | 512     | 4.851                               |
+------------+---------+-------------------------------------+
| 64         | 2048    | 2.967                               |
+------------+---------+-------------------------------------+

Ubuntu 18.04
Kernel: 4.15.0-generic
Compiler: gcc 7.4
NIC: Intel Corporation Ethernet Converged Network Adapter 82599ES 10000 Mbps
Target: x86_64-native-linuxapp-gcc
Fail/Total: 0/2

Detail performance results: 
+------------+---------+-------------------------------------+
| frame_size | txd/rxd | throughput difference from expected |
+============+=========+=====================================+
| 64         | 512     | 2.628                               |
+------------+---------+-------------------------------------+
| 64         | 2048    | 0.665                               |
+------------+---------+-------------------------------------+

To view detailed results, visit:
https://lab.dpdk.org/results/dashboard/tarballs/10206/

UNH-IOL DPDK Community Lab

To manage your email subscriptions, visit: 
https://lab.dpdk.org/results/dashboard/preferences/subscriptions/

^ permalink raw reply	[flat|nested] 9+ messages in thread

* [dpdk-test-report] |SUCCESS| [GIT MASTER] 4f299b7169000aa55fe7a48fe98736f728e4f710
@ 2020-07-01 10:56 dpdklab
  0 siblings, 0 replies; 9+ messages in thread
From: dpdklab @ 2020-07-01 10:56 UTC (permalink / raw)
  To: Test Report; +Cc: dpdk-test-reports

[-- Attachment #1: Type: text/plain, Size: 2695 bytes --]

_Testing PASS_

Branch: dpdk

4f299b7169000aa55fe7a48fe98736f728e4f710 --> testing pass

Test environment and result as below:

+---------------------+----------------+--------------------+-------------------+--------------+------------------+
|     Environment     | dpdk_unit_test | dpdk_meson_compile | dpdk_compile_spdk | dpdk_compile | dpdk_compile_ovs |
+=====================+================+====================+===================+==============+==================+
| Ubuntu 18.04        | PASS           | PASS               | PASS              | PASS         | PASS             |
+---------------------+----------------+--------------------+-------------------+--------------+------------------+
| Windows Server 2019 | SKIPPED        | PASS               | SKIPPED           | SKIPPED      | SKIPPED          |
+---------------------+----------------+--------------------+-------------------+--------------+------------------+
| openSUSE Leap 15    | SKIPPED        | PASS               | PASS              | PASS         | PASS             |
+---------------------+----------------+--------------------+-------------------+--------------+------------------+
| Fedora 31           | SKIPPED        | PASS               | PASS              | PASS         | PASS             |
+---------------------+----------------+--------------------+-------------------+--------------+------------------+
| CentOS 8            | SKIPPED        | PASS               | PASS              | PASS         | PASS             |
+---------------------+----------------+--------------------+-------------------+--------------+------------------+
| Arch Linux          | SKIPPED        | PASS               | SKIPPED           | PASS         | PASS             |
+---------------------+----------------+--------------------+-------------------+--------------+------------------+
| FreeBSD 11.2        | SKIPPED        | PASS               | PASS              | PASS         | SKIPPED          |
+---------------------+----------------+--------------------+-------------------+--------------+------------------+

Ubuntu 18.04
	Kernel: 4.15.0-generic
	Compiler: gcc 7.4

Windows Server 2019
	Kernel: 10.0
	Compiler: clang 9.0

openSUSE Leap 15
	Kernel: 4.12.14
	Compiler: gcc 7.4.1

Fedora 31
	Kernel: 5.3.16
	Compiler: gcc 9.2.1

CentOS 8
	Kernel: 4.18.0.el8_0
	Compiler: gcc 8.3.1

Arch Linux
	Kernel: latest
	Compiler: gcc latest

FreeBSD 11.2
	Kernel: 11.2
	Compiler: gcc 8.3

To view detailed results, visit:
https://lab.dpdk.org/results/dashboard/tarballs/10187/

UNH-IOL DPDK Community Lab

To manage your email subscriptions, visit: 
https://lab.dpdk.org/results/dashboard/preferences/subscriptions/

^ permalink raw reply	[flat|nested] 9+ messages in thread

* [dpdk-test-report] |SUCCESS| [GIT MASTER] 4f299b7169000aa55fe7a48fe98736f728e4f710
@ 2020-07-01  7:16 dpdklab
  0 siblings, 0 replies; 9+ messages in thread
From: dpdklab @ 2020-07-01  7:16 UTC (permalink / raw)
  To: Ali Alnubani, Test Report; +Cc: dpdk-test-reports

[-- Attachment #1: Type: text/plain, Size: 3737 bytes --]

_Performance Testing PASS_

Branch: dpdk

4f299b7169000aa55fe7a48fe98736f728e4f710 --> performance testing pass

Test environment and result as below:

Ubuntu 18.04
Kernel: 4.15.0-generic
Compiler: gcc 7.4
NIC: Mellanox ConnectX-5 100000 Mbps
Target: x86_64-native-linuxapp-gcc
Fail/Total: 0/6

Detail performance results: 
+------------+---------+-------------------------------------+
| frame_size | txd/rxd | throughput difference from expected |
+============+=========+=====================================+
| 64         | 256     | -0.227                              |
+------------+---------+-------------------------------------+
| 128        | 256     | -0.118                              |
+------------+---------+-------------------------------------+
| 256        | 256     | -0.065                              |
+------------+---------+-------------------------------------+
| 512        | 256     | 0.034                               |
+------------+---------+-------------------------------------+
| 1024       | 256     | -0.084                              |
+------------+---------+-------------------------------------+
| 1518       | 256     | 0.015                               |
+------------+---------+-------------------------------------+

Ubuntu 18.04
Kernel: 4.15.0-generic
Compiler: gcc 7.4
NIC: Mellanox ConnectX-4 Lx 25000 Mbps
Target: x86_64-native-linuxapp-gcc
Fail/Total: 0/6

Detail performance results: 
+------------+---------+-------------------------------------+
| frame_size | txd/rxd | throughput difference from expected |
+============+=========+=====================================+
| 64         | 256     | 0.461                               |
+------------+---------+-------------------------------------+
| 128        | 256     | -0.016                              |
+------------+---------+-------------------------------------+
| 256        | 256     | 0.090                               |
+------------+---------+-------------------------------------+
| 512        | 256     | 0.018                               |
+------------+---------+-------------------------------------+
| 1024       | 256     | -0.001                              |
+------------+---------+-------------------------------------+
| 1518       | 256     | 0.008                               |
+------------+---------+-------------------------------------+

Ubuntu 18.04
Kernel: 4.15.0-generic
Compiler: gcc 7.4
NIC: Mellanox ConnectX-4 Lx 40000 Mbps
Target: x86_64-native-linuxapp-gcc
Fail/Total: 0/6

Detail performance results: 
+------------+---------+-------------------------------------+
| frame_size | txd/rxd | throughput difference from expected |
+============+=========+=====================================+
| 64         | 256     | 0.960                               |
+------------+---------+-------------------------------------+
| 128        | 256     | 0.122                               |
+------------+---------+-------------------------------------+
| 256        | 256     | -0.063                              |
+------------+---------+-------------------------------------+
| 512        | 256     | 0                                   |
+------------+---------+-------------------------------------+
| 1024       | 256     | -0.005                              |
+------------+---------+-------------------------------------+
| 1518       | 256     | -0.003                              |
+------------+---------+-------------------------------------+

To view detailed results, visit:
https://lab.dpdk.org/results/dashboard/tarballs/10187/

UNH-IOL DPDK Community Lab

To manage your email subscriptions, visit: 
https://lab.dpdk.org/results/dashboard/preferences/subscriptions/

^ permalink raw reply	[flat|nested] 9+ messages in thread

* [dpdk-test-report] |SUCCESS| [GIT MASTER] 4f299b7169000aa55fe7a48fe98736f728e4f710
@ 2020-07-01  1:00 dpdklab
  0 siblings, 0 replies; 9+ messages in thread
From: dpdklab @ 2020-07-01  1:00 UTC (permalink / raw)
  To: Ruoshan Shi, Test Report; +Cc: dpdk-test-reports

[-- Attachment #1: Type: text/plain, Size: 980 bytes --]

_Performance Testing PASS_

Branch: dpdk

4f299b7169000aa55fe7a48fe98736f728e4f710 --> performance testing pass

Test environment and result as below:

Ubuntu 18.04
Kernel: 4.14.122
Compiler: gcc 7.3.0
NIC: NXP LS2088A 10000 Mbps
Target: x86_64-native-linuxapp-gcc
Fail/Total: 0/2

Detail performance results: 
+------------+---------+-------------------------------------+
| frame_size | txd/rxd | throughput difference from expected |
+============+=========+=====================================+
| 64         | 512     | -0.082                              |
+------------+---------+-------------------------------------+
| 64         | 2048    | -0.089                              |
+------------+---------+-------------------------------------+

To view detailed results, visit:
https://lab.dpdk.org/results/dashboard/tarballs/10187/

UNH-IOL DPDK Community Lab

To manage your email subscriptions, visit: 
https://lab.dpdk.org/results/dashboard/preferences/subscriptions/

^ permalink raw reply	[flat|nested] 9+ messages in thread

* [dpdk-test-report] |SUCCESS| [GIT MASTER] 4f299b7169000aa55fe7a48fe98736f728e4f710
@ 2020-06-30 23:29 dpdklab
  0 siblings, 0 replies; 9+ messages in thread
From: dpdklab @ 2020-06-30 23:29 UTC (permalink / raw)
  To: Test Report; +Cc: dpdk-test-reports

[-- Attachment #1: Type: text/plain, Size: 1690 bytes --]

_Performance Testing PASS_

Branch: dpdk

4f299b7169000aa55fe7a48fe98736f728e4f710 --> performance testing pass

Test environment and result as below:

Ubuntu 18.04
Kernel: 4.15.0-generic
Compiler: gcc 7.4
NIC: Intel Corporation Ethernet Converged Network Adapter XL710-QDA2 40000 Mbps
Target: x86_64-native-linuxapp-gcc
Fail/Total: 0/2

Detail performance results: 
+------------+---------+-------------------------------------+
| frame_size | txd/rxd | throughput difference from expected |
+============+=========+=====================================+
| 64         | 512     | 4.854                               |
+------------+---------+-------------------------------------+
| 64         | 2048    | 2.827                               |
+------------+---------+-------------------------------------+

Ubuntu 18.04
Kernel: 4.15.0-generic
Compiler: gcc 7.4
NIC: Intel Corporation Ethernet Converged Network Adapter 82599ES 10000 Mbps
Target: x86_64-native-linuxapp-gcc
Fail/Total: 0/2

Detail performance results: 
+------------+---------+-------------------------------------+
| frame_size | txd/rxd | throughput difference from expected |
+============+=========+=====================================+
| 64         | 512     | 2.592                               |
+------------+---------+-------------------------------------+
| 64         | 2048    | 0.745                               |
+------------+---------+-------------------------------------+

To view detailed results, visit:
https://lab.dpdk.org/results/dashboard/tarballs/10187/

UNH-IOL DPDK Community Lab

To manage your email subscriptions, visit: 
https://lab.dpdk.org/results/dashboard/preferences/subscriptions/

^ permalink raw reply	[flat|nested] 9+ messages in thread

end of thread, other threads:[~2020-07-02 10:56 UTC | newest]

Thread overview: 9+ messages (download: mbox.gz / follow: Atom feed)
-- links below jump to the message on this page --
2020-06-30 21:55 [dpdk-test-report] |SUCCESS| [GIT MASTER] 4f299b7169000aa55fe7a48fe98736f728e4f710 dpdklab
2020-06-30 23:29 dpdklab
2020-07-01  1:00 dpdklab
2020-07-01  7:16 dpdklab
2020-07-01 10:56 dpdklab
2020-07-01 16:10 dpdklab
2020-07-01 16:13 dpdklab
2020-07-02  2:18 dpdklab
2020-07-02 10:56 dpdklab

automatic DPDK test reports

This inbox may be cloned and mirrored by anyone:

	git clone --mirror https://inbox.dpdk.org/test-report/0 test-report/git/0.git

	# If you have public-inbox 1.1+ installed, you may
	# initialize and index your mirror using the following commands:
	public-inbox-init -V2 test-report test-report/ https://inbox.dpdk.org/test-report \
		test-report@dpdk.org
	public-inbox-index test-report

Example config snippet for mirrors.
Newsgroup available over NNTP:
	nntp://inbox.dpdk.org/inbox.dpdk.test-report


AGPL code for this site: git clone https://public-inbox.org/public-inbox.git