Test-Label: checkpatch Test-Status: SUCCESS http://dpdk.org/patch/72478 _coding style OK_
[-- Attachment #1: Type: text/plain, Size: 1268 bytes --] Test-Label: iol-broadcom-Performance Test-Status: SUCCESS http://dpdk.org/patch/72478 _Performance Testing PASS_ Submitter: David Christensen <drc@linux.vnet.ibm.com> Date: Tuesday, June 30 2020 21:38:23 DPDK git baseline: Repo:dpdk Branch: master CommitID:4f299b7169000aa55fe7a48fe98736f728e4f710 72478 --> performance testing pass Test environment and result as below: Ubuntu 18.04 Kernel: 4.15.0-65-generic Compiler: gcc gcc (Ubuntu 7.4.0-1ubuntu1~18.04.1) 7.4.0 NIC: Broadcom Inc. brcm_57414 25000 Mbps Target: x86_64-native-linuxapp-gcc Fail/Total: 0/2 Detail performance results: +------------+---------+-------------------------------------+ | frame_size | txd/rxd | throughput difference from expected | +============+=========+=====================================+ | 64 | 512 | -0.002 | +------------+---------+-------------------------------------+ | 64 | 2048 | -0.015 | +------------+---------+-------------------------------------+ To view detailed results, visit: https://lab.dpdk.org/results/dashboard/patchsets/11749/ UNH-IOL DPDK Community Lab To manage your email subscriptions, visit: https://lab.dpdk.org/results/dashboard/preferences/subscriptions/
[-- Attachment #1: Type: text/plain, Size: 1917 bytes --] Test-Label: iol-intel-Performance Test-Status: SUCCESS http://dpdk.org/patch/72478 _Performance Testing PASS_ Submitter: David Christensen <drc@linux.vnet.ibm.com> Date: Tuesday, June 30 2020 21:38:23 DPDK git baseline: Repo:dpdk Branch: master CommitID:4f299b7169000aa55fe7a48fe98736f728e4f710 72478 --> performance testing pass Test environment and result as below: Ubuntu 18.04 Kernel: 4.15.0-generic Compiler: gcc 7.4 NIC: Intel Corporation Ethernet Converged Network Adapter XL710-QDA2 40000 Mbps Target: x86_64-native-linuxapp-gcc Fail/Total: 0/2 Detail performance results: +------------+---------+-------------------------------------+ | frame_size | txd/rxd | throughput difference from expected | +============+=========+=====================================+ | 64 | 512 | 4.834 | +------------+---------+-------------------------------------+ | 64 | 2048 | 3.064 | +------------+---------+-------------------------------------+ Ubuntu 18.04 Kernel: 4.15.0-generic Compiler: gcc 7.4 NIC: Intel Corporation Ethernet Converged Network Adapter 82599ES 10000 Mbps Target: x86_64-native-linuxapp-gcc Fail/Total: 0/2 Detail performance results: +------------+---------+-------------------------------------+ | frame_size | txd/rxd | throughput difference from expected | +============+=========+=====================================+ | 64 | 512 | 2.614 | +------------+---------+-------------------------------------+ | 64 | 2048 | 0.690 | +------------+---------+-------------------------------------+ To view detailed results, visit: https://lab.dpdk.org/results/dashboard/patchsets/11749/ UNH-IOL DPDK Community Lab To manage your email subscriptions, visit: https://lab.dpdk.org/results/dashboard/preferences/subscriptions/
[-- Attachment #1: Type: text/plain, Size: 1205 bytes --] Test-Label: iol-nxp-Performance Test-Status: SUCCESS http://dpdk.org/patch/72478 _Performance Testing PASS_ Submitter: David Christensen <drc@linux.vnet.ibm.com> Date: Tuesday, June 30 2020 21:38:23 DPDK git baseline: Repo:dpdk Branch: master CommitID:4f299b7169000aa55fe7a48fe98736f728e4f710 72478 --> performance testing pass Test environment and result as below: Ubuntu 18.04 Kernel: 4.14.122 Compiler: gcc 7.3.0 NIC: NXP LS2088A 10000 Mbps Target: x86_64-native-linuxapp-gcc Fail/Total: 0/2 Detail performance results: +------------+---------+-------------------------------------+ | frame_size | txd/rxd | throughput difference from expected | +============+=========+=====================================+ | 64 | 512 | 0.160 | +------------+---------+-------------------------------------+ | 64 | 2048 | 0.024 | +------------+---------+-------------------------------------+ To view detailed results, visit: https://lab.dpdk.org/results/dashboard/patchsets/11749/ UNH-IOL DPDK Community Lab To manage your email subscriptions, visit: https://lab.dpdk.org/results/dashboard/preferences/subscriptions/
[-- Attachment #1: Type: text/plain, Size: 3967 bytes --] Test-Label: iol-mellanox-Performance Test-Status: SUCCESS http://dpdk.org/patch/72478 _Performance Testing PASS_ Submitter: David Christensen <drc@linux.vnet.ibm.com> Date: Tuesday, June 30 2020 21:38:23 DPDK git baseline: Repo:dpdk Branch: master CommitID:4f299b7169000aa55fe7a48fe98736f728e4f710 72478 --> performance testing pass Test environment and result as below: Ubuntu 18.04 Kernel: 4.15.0-generic Compiler: gcc 7.4 NIC: Mellanox ConnectX-5 100000 Mbps Target: x86_64-native-linuxapp-gcc Fail/Total: 0/6 Detail performance results: +------------+---------+-------------------------------------+ | frame_size | txd/rxd | throughput difference from expected | +============+=========+=====================================+ | 64 | 256 | 0.525 | +------------+---------+-------------------------------------+ | 128 | 256 | 0.157 | +------------+---------+-------------------------------------+ | 256 | 256 | 0.040 | +------------+---------+-------------------------------------+ | 512 | 256 | -0.253 | +------------+---------+-------------------------------------+ | 1024 | 256 | 0.058 | +------------+---------+-------------------------------------+ | 1518 | 256 | -0.016 | +------------+---------+-------------------------------------+ Ubuntu 18.04 Kernel: 4.15.0-generic Compiler: gcc 7.4 NIC: Mellanox ConnectX-4 Lx 25000 Mbps Target: x86_64-native-linuxapp-gcc Fail/Total: 0/6 Detail performance results: +------------+---------+-------------------------------------+ | frame_size | txd/rxd | throughput difference from expected | +============+=========+=====================================+ | 64 | 256 | -0.572 | +------------+---------+-------------------------------------+ | 128 | 256 | -0.041 | +------------+---------+-------------------------------------+ | 256 | 256 | -0.004 | +------------+---------+-------------------------------------+ | 512 | 256 | -0.002 | +------------+---------+-------------------------------------+ | 1024 | 256 | -0.001 | +------------+---------+-------------------------------------+ | 1518 | 256 | 0 | +------------+---------+-------------------------------------+ Ubuntu 18.04 Kernel: 4.15.0-generic Compiler: gcc 7.4 NIC: Mellanox ConnectX-4 Lx 40000 Mbps Target: x86_64-native-linuxapp-gcc Fail/Total: 0/6 Detail performance results: +------------+---------+-------------------------------------+ | frame_size | txd/rxd | throughput difference from expected | +============+=========+=====================================+ | 64 | 256 | 0.075 | +------------+---------+-------------------------------------+ | 128 | 256 | 1.039 | +------------+---------+-------------------------------------+ | 256 | 256 | 0.153 | +------------+---------+-------------------------------------+ | 512 | 256 | 0 | +------------+---------+-------------------------------------+ | 1024 | 256 | 0.001 | +------------+---------+-------------------------------------+ | 1518 | 256 | 0.004 | +------------+---------+-------------------------------------+ To view detailed results, visit: https://lab.dpdk.org/results/dashboard/patchsets/11749/ UNH-IOL DPDK Community Lab To manage your email subscriptions, visit: https://lab.dpdk.org/results/dashboard/preferences/subscriptions/
[-- Attachment #1: Type: text/plain, Size: 2912 bytes --] Test-Label: iol-testing Test-Status: SUCCESS http://dpdk.org/patch/72478 _Testing PASS_ Submitter: David Christensen <drc@linux.vnet.ibm.com> Date: Tuesday, June 30 2020 21:38:23 DPDK git baseline: Repo:dpdk Branch: master CommitID:4f299b7169000aa55fe7a48fe98736f728e4f710 72478 --> testing pass Test environment and result as below: +---------------------+--------------------+-------------------+--------------+------------------+----------------+ | Environment | dpdk_meson_compile | dpdk_compile_spdk | dpdk_compile | dpdk_compile_ovs | dpdk_unit_test | +=====================+====================+===================+==============+==================+================+ | Windows Server 2019 | PASS | SKIPPED | SKIPPED | SKIPPED | SKIPPED | +---------------------+--------------------+-------------------+--------------+------------------+----------------+ | Fedora 31 | PASS | PASS | PASS | PASS | SKIPPED | +---------------------+--------------------+-------------------+--------------+------------------+----------------+ | CentOS 8 | PASS | PASS | PASS | PASS | SKIPPED | +---------------------+--------------------+-------------------+--------------+------------------+----------------+ | Ubuntu 18.04 | PASS | PASS | PASS | PASS | PASS | +---------------------+--------------------+-------------------+--------------+------------------+----------------+ | openSUSE Leap 15 | PASS | PASS | PASS | PASS | SKIPPED | +---------------------+--------------------+-------------------+--------------+------------------+----------------+ | Arch Linux | PASS | SKIPPED | PASS | PASS | SKIPPED | +---------------------+--------------------+-------------------+--------------+------------------+----------------+ | FreeBSD 11.2 | PASS | PASS | PASS | SKIPPED | SKIPPED | +---------------------+--------------------+-------------------+--------------+------------------+----------------+ Windows Server 2019 Kernel: 10.0 Compiler: clang 9.0 Fedora 31 Kernel: 5.3.16 Compiler: gcc 9.2.1 CentOS 8 Kernel: 4.18.0.el8_0 Compiler: gcc 8.3.1 Ubuntu 18.04 Kernel: 4.15.0-generic Compiler: gcc 7.4 openSUSE Leap 15 Kernel: 4.12.14 Compiler: gcc 7.4.1 Arch Linux Kernel: latest Compiler: gcc latest FreeBSD 11.2 Kernel: 11.2 Compiler: gcc 8.3 To view detailed results, visit: https://lab.dpdk.org/results/dashboard/patchsets/11749/ UNH-IOL DPDK Community Lab To manage your email subscriptions, visit: https://lab.dpdk.org/results/dashboard/preferences/subscriptions/