Test-Label: checkpatch Test-Status: SUCCESS http://dpdk.org/patch/72465 _coding style OK_
[-- Attachment #1: Type: text/plain, Size: 1258 bytes --] Test-Label: iol-broadcom-Performance Test-Status: SUCCESS http://dpdk.org/patch/72465 _Performance Testing PASS_ Submitter: Jerin Jacob <jerinj@marvell.com> Date: Tuesday, June 30 2020 15:01:29 DPDK git baseline: Repo:dpdk Branch: master CommitID:014a7ec6c418eaf24a13be8ade8229638ddc6eed 72465 --> performance testing pass Test environment and result as below: Ubuntu 18.04 Kernel: 4.15.0-65-generic Compiler: gcc gcc (Ubuntu 7.4.0-1ubuntu1~18.04.1) 7.4.0 NIC: Broadcom Inc. brcm_57414 25000 Mbps Target: x86_64-native-linuxapp-gcc Fail/Total: 0/2 Detail performance results: +------------+---------+-------------------------------------+ | frame_size | txd/rxd | throughput difference from expected | +============+=========+=====================================+ | 64 | 512 | 0.091 | +------------+---------+-------------------------------------+ | 64 | 2048 | -0.009 | +------------+---------+-------------------------------------+ To view detailed results, visit: https://lab.dpdk.org/results/dashboard/patchsets/11745/ UNH-IOL DPDK Community Lab To manage your email subscriptions, visit: https://lab.dpdk.org/results/dashboard/preferences/subscriptions/
[-- Attachment #1: Type: text/plain, Size: 1907 bytes --] Test-Label: iol-intel-Performance Test-Status: SUCCESS http://dpdk.org/patch/72465 _Performance Testing PASS_ Submitter: Jerin Jacob <jerinj@marvell.com> Date: Tuesday, June 30 2020 15:01:29 DPDK git baseline: Repo:dpdk Branch: master CommitID:014a7ec6c418eaf24a13be8ade8229638ddc6eed 72465 --> performance testing pass Test environment and result as below: Ubuntu 18.04 Kernel: 4.15.0-generic Compiler: gcc 7.4 NIC: Intel Corporation Ethernet Converged Network Adapter XL710-QDA2 40000 Mbps Target: x86_64-native-linuxapp-gcc Fail/Total: 0/2 Detail performance results: +------------+---------+-------------------------------------+ | frame_size | txd/rxd | throughput difference from expected | +============+=========+=====================================+ | 64 | 512 | 4.717 | +------------+---------+-------------------------------------+ | 64 | 2048 | 3.045 | +------------+---------+-------------------------------------+ Ubuntu 18.04 Kernel: 4.15.0-generic Compiler: gcc 7.4 NIC: Intel Corporation Ethernet Converged Network Adapter 82599ES 10000 Mbps Target: x86_64-native-linuxapp-gcc Fail/Total: 0/2 Detail performance results: +------------+---------+-------------------------------------+ | frame_size | txd/rxd | throughput difference from expected | +============+=========+=====================================+ | 64 | 512 | 2.442 | +------------+---------+-------------------------------------+ | 64 | 2048 | 1.048 | +------------+---------+-------------------------------------+ To view detailed results, visit: https://lab.dpdk.org/results/dashboard/patchsets/11745/ UNH-IOL DPDK Community Lab To manage your email subscriptions, visit: https://lab.dpdk.org/results/dashboard/preferences/subscriptions/
[-- Attachment #1: Type: text/plain, Size: 1195 bytes --] Test-Label: iol-nxp-Performance Test-Status: SUCCESS http://dpdk.org/patch/72465 _Performance Testing PASS_ Submitter: Jerin Jacob <jerinj@marvell.com> Date: Tuesday, June 30 2020 15:01:29 DPDK git baseline: Repo:dpdk Branch: master CommitID:014a7ec6c418eaf24a13be8ade8229638ddc6eed 72465 --> performance testing pass Test environment and result as below: Ubuntu 18.04 Kernel: 4.14.122 Compiler: gcc 7.3.0 NIC: NXP LS2088A 10000 Mbps Target: x86_64-native-linuxapp-gcc Fail/Total: 0/2 Detail performance results: +------------+---------+-------------------------------------+ | frame_size | txd/rxd | throughput difference from expected | +============+=========+=====================================+ | 64 | 512 | -0.012 | +------------+---------+-------------------------------------+ | 64 | 2048 | -0.055 | +------------+---------+-------------------------------------+ To view detailed results, visit: https://lab.dpdk.org/results/dashboard/patchsets/11745/ UNH-IOL DPDK Community Lab To manage your email subscriptions, visit: https://lab.dpdk.org/results/dashboard/preferences/subscriptions/
[-- Attachment #1: Type: text/plain, Size: 3957 bytes --] Test-Label: iol-mellanox-Performance Test-Status: SUCCESS http://dpdk.org/patch/72465 _Performance Testing PASS_ Submitter: Jerin Jacob <jerinj@marvell.com> Date: Tuesday, June 30 2020 15:01:29 DPDK git baseline: Repo:dpdk Branch: master CommitID:014a7ec6c418eaf24a13be8ade8229638ddc6eed 72465 --> performance testing pass Test environment and result as below: Ubuntu 18.04 Kernel: 4.15.0-generic Compiler: gcc 7.4 NIC: Mellanox ConnectX-5 100000 Mbps Target: x86_64-native-linuxapp-gcc Fail/Total: 0/6 Detail performance results: +------------+---------+-------------------------------------+ | frame_size | txd/rxd | throughput difference from expected | +============+=========+=====================================+ | 64 | 256 | 0.293 | +------------+---------+-------------------------------------+ | 128 | 256 | -0.008 | +------------+---------+-------------------------------------+ | 256 | 256 | 0.067 | +------------+---------+-------------------------------------+ | 512 | 256 | -0.061 | +------------+---------+-------------------------------------+ | 1024 | 256 | -0.037 | +------------+---------+-------------------------------------+ | 1518 | 256 | 0.013 | +------------+---------+-------------------------------------+ Ubuntu 18.04 Kernel: 4.15.0-generic Compiler: gcc 7.4 NIC: Mellanox ConnectX-4 Lx 25000 Mbps Target: x86_64-native-linuxapp-gcc Fail/Total: 0/6 Detail performance results: +------------+---------+-------------------------------------+ | frame_size | txd/rxd | throughput difference from expected | +============+=========+=====================================+ | 64 | 256 | 0.573 | +------------+---------+-------------------------------------+ | 128 | 256 | -0.008 | +------------+---------+-------------------------------------+ | 256 | 256 | -0.026 | +------------+---------+-------------------------------------+ | 512 | 256 | 0.009 | +------------+---------+-------------------------------------+ | 1024 | 256 | -0.002 | +------------+---------+-------------------------------------+ | 1518 | 256 | 0.003 | +------------+---------+-------------------------------------+ Ubuntu 18.04 Kernel: 4.15.0-generic Compiler: gcc 7.4 NIC: Mellanox ConnectX-4 Lx 40000 Mbps Target: x86_64-native-linuxapp-gcc Fail/Total: 0/6 Detail performance results: +------------+---------+-------------------------------------+ | frame_size | txd/rxd | throughput difference from expected | +============+=========+=====================================+ | 64 | 256 | 0.469 | +------------+---------+-------------------------------------+ | 128 | 256 | 0.120 | +------------+---------+-------------------------------------+ | 256 | 256 | -0.064 | +------------+---------+-------------------------------------+ | 512 | 256 | 0.005 | +------------+---------+-------------------------------------+ | 1024 | 256 | 0.005 | +------------+---------+-------------------------------------+ | 1518 | 256 | -0.003 | +------------+---------+-------------------------------------+ To view detailed results, visit: https://lab.dpdk.org/results/dashboard/patchsets/11745/ UNH-IOL DPDK Community Lab To manage your email subscriptions, visit: https://lab.dpdk.org/results/dashboard/preferences/subscriptions/
[-- Attachment #1: Type: text/plain, Size: 2902 bytes --] Test-Label: iol-testing Test-Status: SUCCESS http://dpdk.org/patch/72465 _Testing PASS_ Submitter: Jerin Jacob <jerinj@marvell.com> Date: Tuesday, June 30 2020 15:01:29 DPDK git baseline: Repo:dpdk Branch: master CommitID:014a7ec6c418eaf24a13be8ade8229638ddc6eed 72465 --> testing pass Test environment and result as below: +---------------------+--------------------+--------------+------------------+----------------+-------------------+ | Environment | dpdk_meson_compile | dpdk_compile | dpdk_compile_ovs | dpdk_unit_test | dpdk_compile_spdk | +=====================+====================+==============+==================+================+===================+ | Windows Server 2019 | PASS | SKIPPED | SKIPPED | SKIPPED | SKIPPED | +---------------------+--------------------+--------------+------------------+----------------+-------------------+ | CentOS 8 | PASS | PASS | PASS | SKIPPED | PASS | +---------------------+--------------------+--------------+------------------+----------------+-------------------+ | Ubuntu 18.04 | PASS | PASS | PASS | PASS | PASS | +---------------------+--------------------+--------------+------------------+----------------+-------------------+ | Fedora 31 | PASS | PASS | PASS | SKIPPED | PASS | +---------------------+--------------------+--------------+------------------+----------------+-------------------+ | openSUSE Leap 15 | PASS | PASS | PASS | SKIPPED | PASS | +---------------------+--------------------+--------------+------------------+----------------+-------------------+ | Arch Linux | PASS | PASS | PASS | SKIPPED | SKIPPED | +---------------------+--------------------+--------------+------------------+----------------+-------------------+ | FreeBSD 11.2 | PASS | PASS | SKIPPED | SKIPPED | PASS | +---------------------+--------------------+--------------+------------------+----------------+-------------------+ Windows Server 2019 Kernel: 10.0 Compiler: clang 9.0 CentOS 8 Kernel: 4.18.0.el8_0 Compiler: gcc 8.3.1 Ubuntu 18.04 Kernel: 4.15.0-generic Compiler: gcc 7.4 Fedora 31 Kernel: 5.3.16 Compiler: gcc 9.2.1 openSUSE Leap 15 Kernel: 4.12.14 Compiler: gcc 7.4.1 Arch Linux Kernel: latest Compiler: gcc latest FreeBSD 11.2 Kernel: 11.2 Compiler: gcc 8.3 To view detailed results, visit: https://lab.dpdk.org/results/dashboard/patchsets/11745/ UNH-IOL DPDK Community Lab To manage your email subscriptions, visit: https://lab.dpdk.org/results/dashboard/preferences/subscriptions/